BEGIN:VCALENDAR
VERSION:2.0
PRODID:-//Cut Stone - ECPv6.15.20//NONSGML v1.0//EN
CALSCALE:GREGORIAN
METHOD:PUBLISH
X-WR-CALNAME:Cut Stone
X-ORIGINAL-URL:https://cutstonefoods.com
X-WR-CALDESC:Events for Cut Stone
REFRESH-INTERVAL;VALUE=DURATION:PT1H
X-Robots-Tag:noindex
X-PUBLISHED-TTL:PT1H
BEGIN:VTIMEZONE
TZID:America/Chicago
BEGIN:DAYLIGHT
TZOFFSETFROM:-0600
TZOFFSETTO:-0500
TZNAME:CDT
DTSTART:20230312T080000
END:DAYLIGHT
BEGIN:STANDARD
TZOFFSETFROM:-0500
TZOFFSETTO:-0600
TZNAME:CST
DTSTART:20231105T070000
END:STANDARD
BEGIN:DAYLIGHT
TZOFFSETFROM:-0600
TZOFFSETTO:-0500
TZNAME:CDT
DTSTART:20240310T080000
END:DAYLIGHT
BEGIN:STANDARD
TZOFFSETFROM:-0500
TZOFFSETTO:-0600
TZNAME:CST
DTSTART:20241103T070000
END:STANDARD
BEGIN:DAYLIGHT
TZOFFSETFROM:-0600
TZOFFSETTO:-0500
TZNAME:CDT
DTSTART:20250309T080000
END:DAYLIGHT
BEGIN:STANDARD
TZOFFSETFROM:-0500
TZOFFSETTO:-0600
TZNAME:CST
DTSTART:20251102T070000
END:STANDARD
BEGIN:DAYLIGHT
TZOFFSETFROM:-0600
TZOFFSETTO:-0500
TZNAME:CDT
DTSTART:20260308T080000
END:DAYLIGHT
BEGIN:STANDARD
TZOFFSETFROM:-0500
TZOFFSETTO:-0600
TZNAME:CST
DTSTART:20261101T070000
END:STANDARD
END:VTIMEZONE
BEGIN:VEVENT
DTSTART;TZID=America/Chicago:20240622T120000
DTEND;TZID=America/Chicago:20240622T200000
DTSTAMP:20260425T073546
CREATED:20240617T164147Z
LAST-MODIFIED:20240617T164148Z
UID:10002007-1719057600-1719086400@cutstonefoods.com
SUMMARY:Pop-Up Biergarten & Food Truck Rally
DESCRIPTION:Cut Stone will be joining other awesome local food trucks in the beautiful Kenosha harbor. \nJoin us for the best pizza you’ll ever have from a fire truck\, cold beers\, and spectacular scenery.
URL:https://cutstonefoods.com/event/pop-up-biergarten-food-truck-rally/2024-06-22/
LOCATION:Celebration Place\, 5501 Ring Rd\, Kenosha\, WI\, 53140\, United States
CATEGORIES:Food Truck Service
ATTACH;FMTTYPE=image/png:https://cutstonefoods.com/wp-content/uploads/2024/06/time.png
END:VEVENT
BEGIN:VEVENT
DTSTART;TZID=America/Chicago:20240625T160000
DTEND;TZID=America/Chicago:20240625T203000
DTSTAMP:20260425T073546
CREATED:20240510T191409Z
LAST-MODIFIED:20240903T204253Z
UID:10001940-1719331200-1719347400@cutstonefoods.com
SUMMARY:Stogies\, Steins\, and Sinatra at the Biergarten
DESCRIPTION:Enjoy the best pizza you’ll ever have from a firetruck in Kenosha’s best outdoor venue!\nThe Cut Stone – Engine 4 Food Truck is back for our FOURTH YEAR of incredible Tuesday nights in the park.\nBring your own cigar or purchase one from Jack Andrea’s on site.\nLive Sinatra impersonator every other week\, and Frank on the radio on the opposite week.\nYou simply can’t have a better Tuesday night.
URL:https://cutstonefoods.com/event/stogies-steins-and-sinatra-at-the-biergarten/2024-06-25/
LOCATION:Petrifying Springs Biergarten\, 5555 7th St Pavilion #1\, Kenosha\, WI\, 53144\, United States
CATEGORIES:Food Truck Service
ATTACH;FMTTYPE=image/png:https://cutstonefoods.com/wp-content/uploads/2024/05/Memorial-Day-Weekend-1.png
END:VEVENT
BEGIN:VEVENT
DTSTART;TZID=America/Chicago:20240626T110000
DTEND;TZID=America/Chicago:20240626T140000
DTSTAMP:20260425T073546
CREATED:20240617T171020Z
LAST-MODIFIED:20240617T171021Z
UID:10002008-1719399600-1719410400@cutstonefoods.com
SUMMARY:Civic Lunch at Kenosha County Admin Building
DESCRIPTION:Engine 4 is serving lunch at the Kenosha County Administration Building in the Kenosha Civic Center on the last Wednesday of every month!\n\nThis event is hosted by Kenosha County and is open to the public.\n\nCome grab a pizza and take it to the park for a picnic\, or bring lunch back to the office!
URL:https://cutstonefoods.com/event/civic-lunch-at-kenosha-county-admin-building/2024-06-26/
LOCATION:Kenosha County Admin Building\, 1010 56th Street\, Kenosha\, WI\, 53140\, United States
CATEGORIES:Food Truck Service
ATTACH;FMTTYPE=image/png:https://cutstonefoods.com/wp-content/uploads/2024/06/time-1.png
END:VEVENT
BEGIN:VEVENT
DTSTART;TZID=America/Chicago:20240702T160000
DTEND;TZID=America/Chicago:20240702T203000
DTSTAMP:20260425T073546
CREATED:20240510T191409Z
LAST-MODIFIED:20240903T204253Z
UID:10001941-1719936000-1719952200@cutstonefoods.com
SUMMARY:Stogies\, Steins\, and Sinatra at the Biergarten
DESCRIPTION:Enjoy the best pizza you’ll ever have from a firetruck in Kenosha’s best outdoor venue!\nThe Cut Stone – Engine 4 Food Truck is back for our FOURTH YEAR of incredible Tuesday nights in the park.\nBring your own cigar or purchase one from Jack Andrea’s on site.\nLive Sinatra impersonator every other week\, and Frank on the radio on the opposite week.\nYou simply can’t have a better Tuesday night.
URL:https://cutstonefoods.com/event/stogies-steins-and-sinatra-at-the-biergarten/2024-07-02/
LOCATION:Petrifying Springs Biergarten\, 5555 7th St Pavilion #1\, Kenosha\, WI\, 53144\, United States
CATEGORIES:Food Truck Service
ATTACH;FMTTYPE=image/png:https://cutstonefoods.com/wp-content/uploads/2024/05/Memorial-Day-Weekend-1.png
END:VEVENT
BEGIN:VEVENT
DTSTART;TZID=America/Chicago:20240706T120000
DTEND;TZID=America/Chicago:20240706T200000
DTSTAMP:20260425T073546
CREATED:20240327T195831Z
LAST-MODIFIED:20240510T204215Z
UID:10001900-1720267200-1720296000@cutstonefoods.com
SUMMARY:Kenosha Pride 2024
DESCRIPTION:We’re joing our amazing friends at Kenosha Pride for their biggest and best Pridefest yet! \nThere will be TONS of live entertainment including musical performances\, drag shows\, and much more on 2 stages!
URL:https://cutstonefoods.com/event/kenosha-pride-2024/
LOCATION:Celebration Place\, 5501 Ring Rd\, Kenosha\, WI\, 53140\, United States
CATEGORIES:Food Truck Service
ATTACH;FMTTYPE=image/jpeg:https://cutstonefoods.com/wp-content/uploads/2023/06/20220710_115718.jpg
END:VEVENT
BEGIN:VEVENT
DTSTART;TZID=America/Chicago:20240716T180000
DTEND;TZID=America/Chicago:20240716T210000
DTSTAMP:20260425T073546
CREATED:20240617T210616Z
LAST-MODIFIED:20240617T210617Z
UID:10002011-1721152800-1721163600@cutstonefoods.com
SUMMARY:Salute to First Responders Night at The Velodrome
DESCRIPTION:Join us as we salute first responders from the Kenosha area and beyond with a night of fast bikes and hot pizzas.\nCut Stone will be serving on “The Hill” with a 10% discount for all police\, fire\, and EMS personel.\nDon’t miss the tricycle races! Area Police Departments\, Fire Department\, and Kenosha County Sheriff will be going head to head on adult tricycles to take home the coveted trike trophy!
URL:https://cutstonefoods.com/event/salute-to-first-responders-night-at-the-velodrome/
LOCATION:Washington Park Velodrome\, Washington Park\, Washington Rd\, Kenosha\, WI\, 53140\, United States
CATEGORIES:Food Truck Service
ATTACH;FMTTYPE=image/jpeg:https://cutstonefoods.com/wp-content/uploads/2024/06/358059075_592144376415573_711096118707065161_n.jpg
END:VEVENT
BEGIN:VEVENT
DTSTART;TZID=America/Chicago:20240718T160000
DTEND;TZID=America/Chicago:20240718T210000
DTSTAMP:20260425T073546
CREATED:20240617T221420Z
LAST-MODIFIED:20240617T221602Z
UID:10002016-1721318400-1721336400@cutstonefoods.com
SUMMARY:Pettrifying Springs Food Truck Show!
DESCRIPTION:It’s time for a FOOD TRUCK SHOW!!!!\nOnce a month\, The Biergarten hosts the biggest and best food truck event in the area featuring tons of creative local food including the Cut Stone Engine 4 Food Truck.
URL:https://cutstonefoods.com/event/pettrifying-springs-food-truck-show/
LOCATION:Petrifying Springs Biergarten\, 5555 7th St Pavilion #1\, Kenosha\, WI\, 53144\, United States
CATEGORIES:Food Truck Service
ATTACH;FMTTYPE=image/png:https://cutstonefoods.com/wp-content/uploads/2024/06/Memorial-Day-Weekend-3.png
END:VEVENT
BEGIN:VEVENT
DTSTART;TZID=America/Chicago:20240720T120000
DTEND;TZID=America/Chicago:20240720T200000
DTSTAMP:20260425T073546
CREATED:20240617T213458Z
LAST-MODIFIED:20240617T213500Z
UID:10002015-1721476800-1721505600@cutstonefoods.com
SUMMARY:Beach Front Arts Fest
DESCRIPTION:Cut Stone’s Engine 4 Food Truck is joing a day of vibrant creativity and community spirit at the iconic Pennoyer Park Band Shell.\nBeach Front Arts Fest is back\, showcasing an eclectic mix of music\, art\, and food. Whether you’re into live bands\, stunning art vendors\, delicious local food trucks\, or just soaking up the festival vibes with friends and family\, there’s something for everyone.
URL:https://cutstonefoods.com/event/beach-front-arts-fest/
LOCATION:Pennoyer Park\, 3601 7th Ave\, Kenosha\, WI\, 53140\, United States
CATEGORIES:Food Truck Service
ATTACH;FMTTYPE=image/jpeg:https://cutstonefoods.com/wp-content/uploads/2024/06/438099962_447876957923471_4465849492114269817_n.jpg
END:VEVENT
BEGIN:VEVENT
DTSTART;TZID=America/Chicago:20240723T160000
DTEND;TZID=America/Chicago:20240723T203000
DTSTAMP:20260425T073546
CREATED:20240510T191409Z
LAST-MODIFIED:20240903T204253Z
UID:10001944-1721750400-1721766600@cutstonefoods.com
SUMMARY:Stogies\, Steins\, and Sinatra at the Biergarten
DESCRIPTION:Enjoy the best pizza you’ll ever have from a firetruck in Kenosha’s best outdoor venue!\nThe Cut Stone – Engine 4 Food Truck is back for our FOURTH YEAR of incredible Tuesday nights in the park.\nBring your own cigar or purchase one from Jack Andrea’s on site.\nLive Sinatra impersonator every other week\, and Frank on the radio on the opposite week.\nYou simply can’t have a better Tuesday night.
URL:https://cutstonefoods.com/event/stogies-steins-and-sinatra-at-the-biergarten/2024-07-23/
LOCATION:Petrifying Springs Biergarten\, 5555 7th St Pavilion #1\, Kenosha\, WI\, 53144\, United States
CATEGORIES:Food Truck Service
ATTACH;FMTTYPE=image/png:https://cutstonefoods.com/wp-content/uploads/2024/05/Memorial-Day-Weekend-1.png
END:VEVENT
BEGIN:VEVENT
DTSTART;TZID=America/Chicago:20240730T160000
DTEND;TZID=America/Chicago:20240730T203000
DTSTAMP:20260425T073546
CREATED:20240510T191409Z
LAST-MODIFIED:20240903T204253Z
UID:10001945-1722355200-1722371400@cutstonefoods.com
SUMMARY:Stogies\, Steins\, and Sinatra at the Biergarten
DESCRIPTION:Enjoy the best pizza you’ll ever have from a firetruck in Kenosha’s best outdoor venue!\nThe Cut Stone – Engine 4 Food Truck is back for our FOURTH YEAR of incredible Tuesday nights in the park.\nBring your own cigar or purchase one from Jack Andrea’s on site.\nLive Sinatra impersonator every other week\, and Frank on the radio on the opposite week.\nYou simply can’t have a better Tuesday night.
URL:https://cutstonefoods.com/event/stogies-steins-and-sinatra-at-the-biergarten/2024-07-30/
LOCATION:Petrifying Springs Biergarten\, 5555 7th St Pavilion #1\, Kenosha\, WI\, 53144\, United States
CATEGORIES:Food Truck Service
ATTACH;FMTTYPE=image/png:https://cutstonefoods.com/wp-content/uploads/2024/05/Memorial-Day-Weekend-1.png
END:VEVENT
BEGIN:VEVENT
DTSTART;TZID=America/Chicago:20240731T110000
DTEND;TZID=America/Chicago:20240731T140000
DTSTAMP:20260425T073546
CREATED:20240617T171020Z
LAST-MODIFIED:20240617T171021Z
UID:10002009-1722423600-1722434400@cutstonefoods.com
SUMMARY:Civic Lunch at Kenosha County Admin Building
DESCRIPTION:Engine 4 is serving lunch at the Kenosha County Administration Building in the Kenosha Civic Center on the last Wednesday of every month!\n\nThis event is hosted by Kenosha County and is open to the public.\n\nCome grab a pizza and take it to the park for a picnic\, or bring lunch back to the office!
URL:https://cutstonefoods.com/event/civic-lunch-at-kenosha-county-admin-building/2024-07-31/
LOCATION:Kenosha County Admin Building\, 1010 56th Street\, Kenosha\, WI\, 53140\, United States
CATEGORIES:Food Truck Service
ATTACH;FMTTYPE=image/png:https://cutstonefoods.com/wp-content/uploads/2024/06/time-1.png
END:VEVENT
BEGIN:VEVENT
DTSTART;TZID=America/Chicago:20240806T160000
DTEND;TZID=America/Chicago:20240806T203000
DTSTAMP:20260425T073546
CREATED:20240510T191409Z
LAST-MODIFIED:20240903T204253Z
UID:10001946-1722960000-1722976200@cutstonefoods.com
SUMMARY:Stogies\, Steins\, and Sinatra at the Biergarten
DESCRIPTION:Enjoy the best pizza you’ll ever have from a firetruck in Kenosha’s best outdoor venue!\nThe Cut Stone – Engine 4 Food Truck is back for our FOURTH YEAR of incredible Tuesday nights in the park.\nBring your own cigar or purchase one from Jack Andrea’s on site.\nLive Sinatra impersonator every other week\, and Frank on the radio on the opposite week.\nYou simply can’t have a better Tuesday night.
URL:https://cutstonefoods.com/event/stogies-steins-and-sinatra-at-the-biergarten/2024-08-06/
LOCATION:Petrifying Springs Biergarten\, 5555 7th St Pavilion #1\, Kenosha\, WI\, 53144\, United States
CATEGORIES:Food Truck Service
ATTACH;FMTTYPE=image/png:https://cutstonefoods.com/wp-content/uploads/2024/05/Memorial-Day-Weekend-1.png
END:VEVENT
BEGIN:VEVENT
DTSTART;TZID=America/Chicago:20240807T170000
DTEND;TZID=America/Chicago:20240807T210000
DTSTAMP:20260425T073546
CREATED:20240617T212611Z
LAST-MODIFIED:20240617T212613Z
UID:10002013-1723050000-1723064400@cutstonefoods.com
SUMMARY:Lincoln Park Live!
DESCRIPTION:Cut Stone is teaming up with some of our favorite people on Earth at The Mahone Foundation and bringing the best pizza you’ll ever have from a fire truck to the best concert series in Kenosha!\nJoin us in the stunning Lincoln Park Flower garden for a night of community\, food\, fun\, and live music.
URL:https://cutstonefoods.com/event/lincoln-park-live/2024-08-07/
LOCATION:The Flower Gardens at Lincoln Park\, 6900 18th Ave\, Kenosha\, WI\, 53143\, United States
CATEGORIES:Food Truck Service
ATTACH;FMTTYPE=image/png:https://cutstonefoods.com/wp-content/uploads/2024/06/@.png
END:VEVENT
BEGIN:VEVENT
DTSTART;TZID=America/Chicago:20240813T160000
DTEND;TZID=America/Chicago:20240813T203000
DTSTAMP:20260425T073546
CREATED:20240510T191409Z
LAST-MODIFIED:20240903T204253Z
UID:10001947-1723564800-1723581000@cutstonefoods.com
SUMMARY:Stogies\, Steins\, and Sinatra at the Biergarten
DESCRIPTION:Enjoy the best pizza you’ll ever have from a firetruck in Kenosha’s best outdoor venue!\nThe Cut Stone – Engine 4 Food Truck is back for our FOURTH YEAR of incredible Tuesday nights in the park.\nBring your own cigar or purchase one from Jack Andrea’s on site.\nLive Sinatra impersonator every other week\, and Frank on the radio on the opposite week.\nYou simply can’t have a better Tuesday night.
URL:https://cutstonefoods.com/event/stogies-steins-and-sinatra-at-the-biergarten/2024-08-13/
LOCATION:Petrifying Springs Biergarten\, 5555 7th St Pavilion #1\, Kenosha\, WI\, 53144\, United States
CATEGORIES:Food Truck Service
ATTACH;FMTTYPE=image/png:https://cutstonefoods.com/wp-content/uploads/2024/05/Memorial-Day-Weekend-1.png
END:VEVENT
BEGIN:VEVENT
DTSTART;TZID=America/Chicago:20240817T160000
DTEND;TZID=America/Chicago:20240817T210000
DTSTAMP:20260425T073546
CREATED:20240806T010231Z
LAST-MODIFIED:20240806T010231Z
UID:10002017-1723910400-1723928400@cutstonefoods.com
SUMMARY:Picnic in the Park
DESCRIPTION:Live performances by The Brewtown Beat (4-6PM) and Rafe Carlson (6:30-8:30PM)\nInflatable slides & bounce houses\nVendors\nFireworks at dusk
URL:https://cutstonefoods.com/event/picnic-in-the-park-2/
LOCATION:Petrifying Springs Biergarten\, 5555 7th St Pavilion #1\, Kenosha\, WI\, 53144\, United States
CATEGORIES:Food Truck Service
ATTACH;FMTTYPE=image/png:https://cutstonefoods.com/wp-content/uploads/2024/08/in-the.png
END:VEVENT
BEGIN:VEVENT
DTSTART;TZID=America/Chicago:20240820T160000
DTEND;TZID=America/Chicago:20240820T203000
DTSTAMP:20260425T073546
CREATED:20240510T191409Z
LAST-MODIFIED:20240903T204253Z
UID:10001948-1724169600-1724185800@cutstonefoods.com
SUMMARY:Stogies\, Steins\, and Sinatra at the Biergarten
DESCRIPTION:Enjoy the best pizza you’ll ever have from a firetruck in Kenosha’s best outdoor venue!\nThe Cut Stone – Engine 4 Food Truck is back for our FOURTH YEAR of incredible Tuesday nights in the park.\nBring your own cigar or purchase one from Jack Andrea’s on site.\nLive Sinatra impersonator every other week\, and Frank on the radio on the opposite week.\nYou simply can’t have a better Tuesday night.
URL:https://cutstonefoods.com/event/stogies-steins-and-sinatra-at-the-biergarten/2024-08-20/
LOCATION:Petrifying Springs Biergarten\, 5555 7th St Pavilion #1\, Kenosha\, WI\, 53144\, United States
CATEGORIES:Food Truck Service
ATTACH;FMTTYPE=image/png:https://cutstonefoods.com/wp-content/uploads/2024/05/Memorial-Day-Weekend-1.png
END:VEVENT
BEGIN:VEVENT
DTSTART;TZID=America/Chicago:20240821T080000
DTEND;TZID=America/Chicago:20240821T170000
DTSTAMP:20260425T073546
CREATED:20240510T202529Z
LAST-MODIFIED:20240510T202530Z
UID:10002005-1724227200-1724259600@cutstonefoods.com
SUMMARY:Engine 4 at Cut Stone at Lakeside Lounge Concert Series
DESCRIPTION:Join us on the Kemper Center North Lawn for an intimate evening of live music and wood-fired pizzas on the shores of beautiful Lake Michigan! \nJune 19th – The awesome sounds of Colby\, Ed\, and Tom \nAugust 21st – Stu the Piano Guy!!!
URL:https://cutstonefoods.com/event/engine-4-at-cut-stone-at-lakeside-lounge-concert-series/2024-08-21/
LOCATION:Kemper Center\, 6501 3rd Ave\, Kenosha\, WI\, 53143\, United States
CATEGORIES:Food Truck Service
ATTACH;FMTTYPE=image/png:https://cutstonefoods.com/wp-content/uploads/2024/05/Lakeside-Lounge-At-Kemper.png
END:VEVENT
BEGIN:VEVENT
DTSTART;TZID=America/Chicago:20240827T160000
DTEND;TZID=America/Chicago:20240827T203000
DTSTAMP:20260425T073546
CREATED:20240510T191409Z
LAST-MODIFIED:20240903T204253Z
UID:10001949-1724774400-1724790600@cutstonefoods.com
SUMMARY:Stogies\, Steins\, and Sinatra at the Biergarten
DESCRIPTION:Enjoy the best pizza you’ll ever have from a firetruck in Kenosha’s best outdoor venue!\nThe Cut Stone – Engine 4 Food Truck is back for our FOURTH YEAR of incredible Tuesday nights in the park.\nBring your own cigar or purchase one from Jack Andrea’s on site.\nLive Sinatra impersonator every other week\, and Frank on the radio on the opposite week.\nYou simply can’t have a better Tuesday night.
URL:https://cutstonefoods.com/event/stogies-steins-and-sinatra-at-the-biergarten/2024-08-27/
LOCATION:Petrifying Springs Biergarten\, 5555 7th St Pavilion #1\, Kenosha\, WI\, 53144\, United States
CATEGORIES:Food Truck Service
ATTACH;FMTTYPE=image/png:https://cutstonefoods.com/wp-content/uploads/2024/05/Memorial-Day-Weekend-1.png
END:VEVENT
BEGIN:VEVENT
DTSTART;TZID=America/Chicago:20240828T110000
DTEND;TZID=America/Chicago:20240828T140000
DTSTAMP:20260425T073546
CREATED:20250225T172738Z
LAST-MODIFIED:20250225T192647Z
UID:10002010-1724842800-1724853600@cutstonefoods.com
SUMMARY:Civic Lunch at Kenosha County Admin Building
DESCRIPTION:Engine 4 is serving lunch at the Kenosha County Administration Building in the Kenosha Civic Center on the last Wednesday of every month!\n\nThis event is hosted by Kenosha County and is open to the public.\n\nCome grab a pizza and take it to the park for a picnic\, or bring lunch back to the office!
URL:https://cutstonefoods.com/event/civic-lunch-at-kenosha-county-admin-building-2/2024-08-28/
LOCATION:Kenosha County Admin Building\, 1010 56th Street\, Kenosha\, WI\, 53140\, United States
CATEGORIES:Food Truck Service
ATTACH;FMTTYPE=image/png:https://cutstonefoods.com/wp-content/uploads/2025/02/time-1.png
END:VEVENT
BEGIN:VEVENT
DTSTART;TZID=America/Chicago:20240828T170000
DTEND;TZID=America/Chicago:20240828T210000
DTSTAMP:20260425T073546
CREATED:20240617T212611Z
LAST-MODIFIED:20240617T212613Z
UID:10002014-1724864400-1724878800@cutstonefoods.com
SUMMARY:Lincoln Park Live!
DESCRIPTION:Cut Stone is teaming up with some of our favorite people on Earth at The Mahone Foundation and bringing the best pizza you’ll ever have from a fire truck to the best concert series in Kenosha!\nJoin us in the stunning Lincoln Park Flower garden for a night of community\, food\, fun\, and live music.
URL:https://cutstonefoods.com/event/lincoln-park-live/2024-08-28/
LOCATION:The Flower Gardens at Lincoln Park\, 6900 18th Ave\, Kenosha\, WI\, 53143\, United States
CATEGORIES:Food Truck Service
ATTACH;FMTTYPE=image/png:https://cutstonefoods.com/wp-content/uploads/2024/06/@.png
END:VEVENT
BEGIN:VEVENT
DTSTART;TZID=America/Chicago:20240906T160000
DTEND;TZID=America/Chicago:20240906T210000
DTSTAMP:20260425T073546
CREATED:20240806T011313Z
LAST-MODIFIED:20240806T011314Z
UID:10002018-1725638400-1725656400@cutstonefoods.com
SUMMARY:7th Annual Franksville Beer Garden Food Truck Festival
DESCRIPTION:Cut Stone is FINALLY making it out to Franksville!\nWe’ll be joining tons of the area’s best food trucks at the 7th Annual Franksville Food Truck Festival on both Friday and Saturday!
URL:https://cutstonefoods.com/event/7th-annual-franksville-beer-garden-food-truck-festival/2024-09-06/
LOCATION:Franksville Craft Beer Garden\, 9614 Northwestern Ave\, Franksville\, WI\, 53126\, United States
CATEGORIES:Food Truck Service
ATTACH;FMTTYPE=image/png:https://cutstonefoods.com/wp-content/uploads/2024/08/Franksville-1.png
END:VEVENT
BEGIN:VEVENT
DTSTART;TZID=America/Chicago:20240907T110000
DTEND;TZID=America/Chicago:20240907T210000
DTSTAMP:20260425T073546
CREATED:20240806T011313Z
LAST-MODIFIED:20240806T011314Z
UID:10002019-1725706800-1725742800@cutstonefoods.com
SUMMARY:7th Annual Franksville Beer Garden Food Truck Festival
DESCRIPTION:Cut Stone is FINALLY making it out to Franksville!\nWe’ll be joining tons of the area’s best food trucks at the 7th Annual Franksville Food Truck Festival on both Friday and Saturday!
URL:https://cutstonefoods.com/event/7th-annual-franksville-beer-garden-food-truck-festival/2024-09-07/
LOCATION:Franksville Craft Beer Garden\, 9614 Northwestern Ave\, Franksville\, WI\, 53126\, United States
CATEGORIES:Food Truck Service
ATTACH;FMTTYPE=image/png:https://cutstonefoods.com/wp-content/uploads/2024/08/Franksville-1.png
END:VEVENT
BEGIN:VEVENT
DTSTART;TZID=America/Chicago:20240914T120000
DTEND;TZID=America/Chicago:20240914T200000
DTSTAMP:20260425T073546
CREATED:20240904T152959Z
LAST-MODIFIED:20240910T192202Z
UID:10002896-1726315200-1726344000@cutstonefoods.com
SUMMARY:Petrifying Springs Oktoberfest
DESCRIPTION:We’re back at the area’s BEST biergarten for a celebration of the changing season!\nWe’ll be serving “the best pizza you’ll ever have from a fire truck” during all the awesome events of the day includingBeard ContestsCostume ConstestsStein HoldingLive MusicBouncy HousesAnd More!
URL:https://cutstonefoods.com/event/petrifying-springs-oktoberfest-2/
LOCATION:Petrifying Springs Biergarten\, 5555 7th St Pavilion #1\, Kenosha\, WI\, 53144\, United States
CATEGORIES:Food Truck Service
ATTACH;FMTTYPE=image/png:https://cutstonefoods.com/wp-content/uploads/2024/09/Untitled-design-52.png
END:VEVENT
BEGIN:VEVENT
DTSTART;TZID=America/Chicago:20240928T110000
DTEND;TZID=America/Chicago:20240928T200000
DTSTAMP:20260425T073546
CREATED:20240903T212550Z
LAST-MODIFIED:20240903T212550Z
UID:10002893-1727521200-1727553600@cutstonefoods.com
SUMMARY:Rustic Road Oktoberfest
DESCRIPTION:We’re teaming up with some of our favorite people for the best lakeside event of the fall!\nEngine 4 will be serving up the best pizzas you’ll ever have from a fire truck while Rustic Road Brewing provides the beer and entertainment. \nYou don’t want to miss a day of this event!
URL:https://cutstonefoods.com/event/rustic-road-oktoberfest-2/2024-09-28/
LOCATION:Celebration Place\, 5501 Ring Rd\, Kenosha\, WI\, 53140\, United States
CATEGORIES:Food Truck Service,Special Event
ATTACH;FMTTYPE=image/png:https://cutstonefoods.com/wp-content/uploads/2024/09/Untitled-design-51.png
END:VEVENT
BEGIN:VEVENT
DTSTART;TZID=America/Chicago:20240929T110000
DTEND;TZID=America/Chicago:20240929T180000
DTSTAMP:20260425T073546
CREATED:20240903T212550Z
LAST-MODIFIED:20240903T212550Z
UID:10002894-1727607600-1727632800@cutstonefoods.com
SUMMARY:Rustic Road Oktoberfest
DESCRIPTION:We’re teaming up with some of our favorite people for the best lakeside event of the fall!\nEngine 4 will be serving up the best pizzas you’ll ever have from a fire truck while Rustic Road Brewing provides the beer and entertainment. \nYou don’t want to miss a day of this event!
URL:https://cutstonefoods.com/event/rustic-road-oktoberfest-2/2024-09-29/
LOCATION:Celebration Place\, 5501 Ring Rd\, Kenosha\, WI\, 53140\, United States
CATEGORIES:Food Truck Service,Special Event
ATTACH;FMTTYPE=image/png:https://cutstonefoods.com/wp-content/uploads/2024/09/Untitled-design-51.png
END:VEVENT
BEGIN:VEVENT
DTSTART;TZID=America/Chicago:20241005T113000
DTEND;TZID=America/Chicago:20241005T200000
DTSTAMP:20260425T073546
CREATED:20240903T213643Z
LAST-MODIFIED:20240903T213645Z
UID:10002895-1728127800-1728158400@cutstonefoods.com
SUMMARY:Flannel Fest 2024!!!!
DESCRIPTION:Yo-ho! Yo-ho! Who wants to see a Lumberjack show!? There is something for EVERYONE at Flannel Fest! Start the day with Jockey’s 3K Undie Run and fuel up afterwards at an onsite food truck. Inflatable bounce houses and children’s activities will run throughout the early afternoon while a live DJ takes the main stage.Dress your pet up to participate in our Pet Costume Contest\, and bring your hairiest friend to enter our Beard Contest! Make sure to stick around for one of the three Paul Bunyan Lumberjack show times throughout the day.Interested? Read on for more details!\nRun of Show:11:30 Jockey 3K Undie Run11:30 Food trucks onsite & DJ12:00 Inflatable Bounce Houses12:30 Beard Contest1:00 Paul Bunyan Lumberjack Show2:30 Pet Costume Contest3:00 Paul Bunyan Lumberjack Show5:00 Paul Bunyan Lumberjack Show6:00 Live Music @ Kyle Jennings
URL:https://cutstonefoods.com/event/flannel-fest-2024/
LOCATION:Petrifying Springs Biergarten\, 5555 7th St Pavilion #1\, Kenosha\, WI\, 53144\, United States
CATEGORIES:Food Truck Service
ATTACH;FMTTYPE=image/jpeg:https://cutstonefoods.com/wp-content/uploads/2024/09/455403886_916300920541456_3638720256884105771_n.jpg
END:VEVENT
BEGIN:VEVENT
DTSTART;TZID=America/Chicago:20250603T170000
DTEND;TZID=America/Chicago:20250603T210000
DTSTAMP:20260425T073546
CREATED:20250224T174503Z
LAST-MODIFIED:20250225T173436Z
UID:10003252-1748970000-1748984400@cutstonefoods.com
SUMMARY:Engine 4 at "Music at Twilight"
DESCRIPTION:Cut Stone is proud to announce we will be a vendor at the spectacular lakeside concert series “Music at Twilight” at The Anderson Arts Center. \nJune 3 – Indigo Canyon\nJune 17- Gary Ward – Frank Sinatra Tribute\nJuly 1- Ivy Ford\nJuly 15 – Empty Bottle Boys and One Shot Jane\nJuly 29 – Peacetree Allstars\nAug. 12- Funk Brotherz\nAug. 26- Georgia Rae Family Band
URL:https://cutstonefoods.com/event/engine-4-at-music-at-twilight/2025-06-03/
LOCATION:Kemper Center\, 6501 3rd Ave\, Kenosha\, WI\, 53143\, United States
CATEGORIES:Food Truck Service
ATTACH;FMTTYPE=image/png:https://cutstonefoods.com/wp-content/uploads/2025/02/connect.png
END:VEVENT
BEGIN:VEVENT
DTSTART;TZID=America/Chicago:20250607T090000
DTEND;TZID=America/Chicago:20250607T140000
DTSTAMP:20260425T073546
CREATED:20250530T182011Z
LAST-MODIFIED:20250924T225643Z
UID:10003284-1749286800-1749304800@cutstonefoods.com
SUMMARY:Engine 4 at Kenosha Harbor Market
DESCRIPTION:Cut Stone is Joining the Kenosha Harbor Market!!!\n\nJoin us for our food truck pizza menu PLUS breakfast items that will ONLY be available at Harbor Market.\nYou can find us along 56th Street (we’re a big red fire truck\, I think you’ll see us)
URL:https://cutstonefoods.com/event/engine-4-at-kenosha-harbor-market/2025-06-07/
LOCATION:Kenosha Harbor Market\, 2nd Ave &\, 56th St\, Kenosha\, WI\, 53140\, United States
CATEGORIES:Food Truck Service
ATTACH;FMTTYPE=image/png:https://cutstonefoods.com/wp-content/uploads/2025/05/Untitled-design-15.png
END:VEVENT
BEGIN:VEVENT
DTSTART;TZID=America/Chicago:20250607T170000
DTEND;TZID=America/Chicago:20250607T213000
DTSTAMP:20260425T073546
CREATED:20250531T181656Z
LAST-MODIFIED:20250531T181656Z
UID:10003352-1749315600-1749331800@cutstonefoods.com
SUMMARY:Little Shop of Horrors Food Truck Pop Up
DESCRIPTION:Since we’re closed Saturday nights but we still want to be a part of the amazing Little Shop of Horrors event on our street… We’re bringing out the Engine 4 Food Truck!!!\nWe’ll be serving our food truck menu with plenty of outdoor seating that includes being able to hear the peformance and limited visibility of the events that take place on our side of the street!\nOur dining room and bar will be open. But our menu will be limited to the food truck menu.
URL:https://cutstonefoods.com/event/little-shop-of-horrors-food-truck-pop-up/
LOCATION:Cut Stone Foods\, 5925 6th Avenue A\, Kenosha\, WI\, 53140\, United States
CATEGORIES:Food Truck Service,Special Event
ATTACH;FMTTYPE=image/png:https://cutstonefoods.com/wp-content/uploads/2025/05/Heading-10.png
END:VEVENT
BEGIN:VEVENT
DTSTART;TZID=America/Chicago:20250614T090000
DTEND;TZID=America/Chicago:20250614T140000
DTSTAMP:20260425T073546
CREATED:20250530T182011Z
LAST-MODIFIED:20250924T225643Z
UID:10003285-1749891600-1749909600@cutstonefoods.com
SUMMARY:Engine 4 at Kenosha Harbor Market
DESCRIPTION:Cut Stone is Joining the Kenosha Harbor Market!!!\n\nJoin us for our food truck pizza menu PLUS breakfast items that will ONLY be available at Harbor Market.\nYou can find us along 56th Street (we’re a big red fire truck\, I think you’ll see us)
URL:https://cutstonefoods.com/event/engine-4-at-kenosha-harbor-market/2025-06-14/
LOCATION:Kenosha Harbor Market\, 2nd Ave &\, 56th St\, Kenosha\, WI\, 53140\, United States
CATEGORIES:Food Truck Service
ATTACH;FMTTYPE=image/png:https://cutstonefoods.com/wp-content/uploads/2025/05/Untitled-design-15.png
END:VEVENT
END:VCALENDAR