BEGIN:VCALENDAR
VERSION:2.0
PRODID:-//Cut Stone - ECPv6.15.20//NONSGML v1.0//EN
CALSCALE:GREGORIAN
METHOD:PUBLISH
X-WR-CALNAME:Cut Stone
X-ORIGINAL-URL:https://cutstonefoods.com
X-WR-CALDESC:Events for Cut Stone
REFRESH-INTERVAL;VALUE=DURATION:PT1H
X-Robots-Tag:noindex
X-PUBLISHED-TTL:PT1H
BEGIN:VTIMEZONE
TZID:America/Chicago
BEGIN:DAYLIGHT
TZOFFSETFROM:-0600
TZOFFSETTO:-0500
TZNAME:CDT
DTSTART:20240310T080000
END:DAYLIGHT
BEGIN:STANDARD
TZOFFSETFROM:-0500
TZOFFSETTO:-0600
TZNAME:CST
DTSTART:20241103T070000
END:STANDARD
BEGIN:DAYLIGHT
TZOFFSETFROM:-0600
TZOFFSETTO:-0500
TZNAME:CDT
DTSTART:20250309T080000
END:DAYLIGHT
BEGIN:STANDARD
TZOFFSETFROM:-0500
TZOFFSETTO:-0600
TZNAME:CST
DTSTART:20251102T070000
END:STANDARD
BEGIN:DAYLIGHT
TZOFFSETFROM:-0600
TZOFFSETTO:-0500
TZNAME:CDT
DTSTART:20260308T080000
END:DAYLIGHT
BEGIN:STANDARD
TZOFFSETFROM:-0500
TZOFFSETTO:-0600
TZNAME:CST
DTSTART:20261101T070000
END:STANDARD
END:VTIMEZONE
BEGIN:VEVENT
DTSTART;TZID=America/Chicago:20250607T170000
DTEND;TZID=America/Chicago:20250607T213000
DTSTAMP:20260424T102648
CREATED:20250531T181656Z
LAST-MODIFIED:20250531T181656Z
UID:10003352-1749315600-1749331800@cutstonefoods.com
SUMMARY:Little Shop of Horrors Food Truck Pop Up
DESCRIPTION:Since we’re closed Saturday nights but we still want to be a part of the amazing Little Shop of Horrors event on our street… We’re bringing out the Engine 4 Food Truck!!!\nWe’ll be serving our food truck menu with plenty of outdoor seating that includes being able to hear the peformance and limited visibility of the events that take place on our side of the street!\nOur dining room and bar will be open. But our menu will be limited to the food truck menu.
URL:https://cutstonefoods.com/event/little-shop-of-horrors-food-truck-pop-up/
LOCATION:Cut Stone Foods\, 5925 6th Avenue A\, Kenosha\, WI\, 53140\, United States
CATEGORIES:Food Truck Service,Special Event
ATTACH;FMTTYPE=image/png:https://cutstonefoods.com/wp-content/uploads/2025/05/Heading-10.png
END:VEVENT
END:VCALENDAR