BEGIN:VCALENDAR
VERSION:2.0
PRODID:-//Cut Stone - ECPv6.15.20//NONSGML v1.0//EN
CALSCALE:GREGORIAN
METHOD:PUBLISH
X-WR-CALNAME:Cut Stone
X-ORIGINAL-URL:https://cutstonefoods.com
X-WR-CALDESC:Events for Cut Stone
REFRESH-INTERVAL;VALUE=DURATION:PT1H
X-Robots-Tag:noindex
X-PUBLISHED-TTL:PT1H
BEGIN:VTIMEZONE
TZID:America/Chicago
BEGIN:DAYLIGHT
TZOFFSETFROM:-0600
TZOFFSETTO:-0500
TZNAME:CDT
DTSTART:20240310T080000
END:DAYLIGHT
BEGIN:STANDARD
TZOFFSETFROM:-0500
TZOFFSETTO:-0600
TZNAME:CST
DTSTART:20241103T070000
END:STANDARD
BEGIN:DAYLIGHT
TZOFFSETFROM:-0600
TZOFFSETTO:-0500
TZNAME:CDT
DTSTART:20250309T080000
END:DAYLIGHT
BEGIN:STANDARD
TZOFFSETFROM:-0500
TZOFFSETTO:-0600
TZNAME:CST
DTSTART:20251102T070000
END:STANDARD
BEGIN:DAYLIGHT
TZOFFSETFROM:-0600
TZOFFSETTO:-0500
TZNAME:CDT
DTSTART:20260308T080000
END:DAYLIGHT
BEGIN:STANDARD
TZOFFSETFROM:-0500
TZOFFSETTO:-0600
TZNAME:CST
DTSTART:20261101T070000
END:STANDARD
END:VTIMEZONE
BEGIN:VEVENT
DTSTART;TZID=America/Chicago:20250820T170000
DTEND;TZID=America/Chicago:20250820T210000
DTSTAMP:20260425T053853
CREATED:20250224T223228Z
LAST-MODIFIED:20250707T151955Z
UID:10003263-1755709200-1755723600@cutstonefoods.com
SUMMARY:Engine 4 @ Lincoln Park Live
DESCRIPTION:Cut Stone is teaming up with some of our favorite people on Earth at The Mahone Foundation and bringing the best pizza you’ll ever have from a fire truck to the best concert series in Kenosha!\n\nJoin us in the stunning Lincoln Park Flower garden for a night of community\, food\, fun\, and live music.
URL:https://cutstonefoods.com/event/engine-4-lincoln-park-live/2025-08-20/
LOCATION:The Flower Gardens at Lincoln Park\, 6900 18th Ave\, Kenosha\, WI\, 53143\, United States
CATEGORIES:Food Truck Service,Special Event
ATTACH;FMTTYPE=image/jpeg:https://cutstonefoods.com/wp-content/uploads/2025/02/470224648_122171593268262454_7233372900010846288_n.jpg
END:VEVENT
BEGIN:VEVENT
DTSTART;TZID=America/Chicago:20250825T080000
DTEND;TZID=America/Chicago:20250825T170000
DTSTAMP:20260425T053853
CREATED:20250825T172612Z
LAST-MODIFIED:20250825T172614Z
UID:10003389-1756108800-1756141200@cutstonefoods.com
SUMMARY:Downtown Car Show
DESCRIPTION:Is it really a car show without a 1993 Spartan Fire Engine that cooks and serves pizza?\nWe’ll be set up in the parking lot across from the Jockey Factory Store all car show long with the best pizza you’ll ever have from a fire truck PLUS our incredible Breakfast Pizza\nIt’s the biggest event of the Summer in Downtown and we can’t wait to see you there!!!
URL:https://cutstonefoods.com/event/downtown-car-show/
LOCATION:Downtown Kenosha\, 5500 6th Avenue\, Kenosha\, WI\, 53140\, United States
CATEGORIES:Food Truck Service,Special Event
ATTACH;FMTTYPE=image/png:https://cutstonefoods.com/wp-content/uploads/2025/08/PIzza-Brunch.png
END:VEVENT
BEGIN:VEVENT
DTSTART;TZID=America/Chicago:20251004T113000
DTEND;TZID=America/Chicago:20251004T200000
DTSTAMP:20260425T053853
CREATED:20250924T225349Z
LAST-MODIFIED:20250924T225440Z
UID:10003390-1759577400-1759608000@cutstonefoods.com
SUMMARY:Flannel Fest 2025!!!!
DESCRIPTION:Yo-ho! Yo-ho! Who wants to see a Lumberjack show!? There is something for EVERYONE at Flannel Fest (Sponsored by Jockey Being Family!) Food trucks on site at 11:30am. bounce houses and children’s activities will run throughout the early afternoon while a live DJ takes the main stage.\nBring your hairiest friend to enter our Beard Contest! Make sure to stick around for one of the three Paul Bunyan Lumberjack show times throughout the day.Interested? Read on for more details!Run of Show:11:30 Food trucks onsite & DJ12:00 Inflatable Bounce Houses12:30 Beard Contest1:00 Paul Bunyan Lumberjack Show3:00 Paul Bunyan Lumberjack Show5:00 Paul Bunyan Lumberjack Show6:00 Live Music @ Kyle Jennings\nBeard Contest Yeah\, you read that right. A beard contest. By audience applause\, the person with the thickest\, longest\, and most interesting beard will win bragging rights and free beer (along with other great prizes!)\nComplimentary Shuttle Service provided by AES to and from upper lots.The Petrifying Springs Biergarten is located at 5555 7th Street Kenosha\, Wisconsin 53144 across from the Petrifying Springs Dog Park. Parking on the grass is not allowed. Please park in one of the designated lots within the Park\, or one of the academic lots at UW-Parkside off of country road JR.
URL:https://cutstonefoods.com/event/flannel-fest-2025/
LOCATION:Petrifying Springs Biergarten\, 5555 7th St Pavilion #1\, Kenosha\, WI\, 53144\, United States
CATEGORIES:Food Truck Service,Special Event
ATTACH;FMTTYPE=image/jpeg:https://cutstonefoods.com/wp-content/uploads/2025/09/552938225_1230342429137302_4030357060059304766_n.jpg
END:VEVENT
BEGIN:VEVENT
DTSTART;VALUE=DATE:20251031
DTEND;VALUE=DATE:20251102
DTSTAMP:20260425T053853
CREATED:20251007T225834Z
LAST-MODIFIED:20251007T230221Z
UID:10003440-1761876000-1761962399@cutstonefoods.com
SUMMARY:Closed for Trick or Treat
DESCRIPTION:We are closed this evening so our staff can enjoy the City of Kenosha Trick or Treat with their families.
URL:https://cutstonefoods.com/event/closed-for-trick-or-treat-2/
LOCATION:WI
CATEGORIES:Special Event
END:VEVENT
BEGIN:VEVENT
DTSTART;TZID=America/Chicago:20251129T090000
DTEND;TZID=America/Chicago:20251129T140000
DTSTAMP:20260425T053853
CREATED:20251105T193644Z
LAST-MODIFIED:20251105T193732Z
UID:10003442-1764406800-1764424800@cutstonefoods.com
SUMMARY:Pizza Brunch: Small Business Saturday
DESCRIPTION:Join us for a specialty menu of breakfast pizzas and beverages in addition to our full brick-and-mortar menu!.\nSpeciality Breakfast pizzas\, bloody marys\, deviled eggs\, and more!!!
URL:https://cutstonefoods.com/event/pizza-brunch-small-business-saturday/
LOCATION:Cut Stone Foods\, 5925 6th Avenue A\, Kenosha\, WI\, 53140\, United States
CATEGORIES:Full Menu Indoor Dining,Special Event
ATTACH;FMTTYPE=image/png:https://cutstonefoods.com/wp-content/uploads/2025/11/Subheading-scaled.png
END:VEVENT
END:VCALENDAR