BEGIN:VCALENDAR
VERSION:2.0
PRODID:-//Cut Stone - ECPv6.15.20//NONSGML v1.0//EN
CALSCALE:GREGORIAN
METHOD:PUBLISH
X-WR-CALNAME:Cut Stone
X-ORIGINAL-URL:https://cutstonefoods.com
X-WR-CALDESC:Events for Cut Stone
REFRESH-INTERVAL;VALUE=DURATION:PT1H
X-Robots-Tag:noindex
X-PUBLISHED-TTL:PT1H
BEGIN:VTIMEZONE
TZID:America/Chicago
BEGIN:DAYLIGHT
TZOFFSETFROM:-0600
TZOFFSETTO:-0500
TZNAME:CDT
DTSTART:20240310T080000
END:DAYLIGHT
BEGIN:STANDARD
TZOFFSETFROM:-0500
TZOFFSETTO:-0600
TZNAME:CST
DTSTART:20241103T070000
END:STANDARD
BEGIN:DAYLIGHT
TZOFFSETFROM:-0600
TZOFFSETTO:-0500
TZNAME:CDT
DTSTART:20250309T080000
END:DAYLIGHT
BEGIN:STANDARD
TZOFFSETFROM:-0500
TZOFFSETTO:-0600
TZNAME:CST
DTSTART:20251102T070000
END:STANDARD
BEGIN:DAYLIGHT
TZOFFSETFROM:-0600
TZOFFSETTO:-0500
TZNAME:CDT
DTSTART:20260308T080000
END:DAYLIGHT
BEGIN:STANDARD
TZOFFSETFROM:-0500
TZOFFSETTO:-0600
TZNAME:CST
DTSTART:20261101T070000
END:STANDARD
BEGIN:DAYLIGHT
TZOFFSETFROM:-0600
TZOFFSETTO:-0500
TZNAME:CDT
DTSTART:20270314T080000
END:DAYLIGHT
BEGIN:STANDARD
TZOFFSETFROM:-0500
TZOFFSETTO:-0600
TZNAME:CST
DTSTART:20271107T070000
END:STANDARD
END:VTIMEZONE
BEGIN:VEVENT
DTSTART;TZID=America/Chicago:20260218T163000
DTEND;TZID=America/Chicago:20260218T210000
DTSTAMP:20260423T152436
CREATED:20250403T005645Z
LAST-MODIFIED:20251007T225538Z
UID:10002248-1771432200-1771448400@cutstonefoods.com
SUMMARY:Full Menu Indoor Dining
DESCRIPTION:Experience the full Cut Stone pizza menu and wine list. \nOur indoor dining room offers us more space to create a larger variety of incredible neapolitan style pizzas as well as a full bar menu.
URL:https://cutstonefoods.com/event/full-menu-indoor-dining-5-2-2/2026-02-18/
LOCATION:Cut Stone Foods\, 5925 6th Avenue A\, Kenosha\, WI\, 53140\, United States
CATEGORIES:Full Menu Indoor Dining
ATTACH;FMTTYPE=image/jpeg:https://cutstonefoods.com/wp-content/uploads/2023/02/20221028_160958.jpg
END:VEVENT
BEGIN:VEVENT
DTSTART;TZID=America/Chicago:20260213T163000
DTEND;TZID=America/Chicago:20260213T210000
DTSTAMP:20260423T152436
CREATED:20250403T005645Z
LAST-MODIFIED:20251007T225538Z
UID:10002247-1771000200-1771016400@cutstonefoods.com
SUMMARY:Full Menu Indoor Dining
DESCRIPTION:Experience the full Cut Stone pizza menu and wine list. \nOur indoor dining room offers us more space to create a larger variety of incredible neapolitan style pizzas as well as a full bar menu.
URL:https://cutstonefoods.com/event/full-menu-indoor-dining-5-2-2/2026-02-13/
LOCATION:Cut Stone Foods\, 5925 6th Avenue A\, Kenosha\, WI\, 53140\, United States
CATEGORIES:Full Menu Indoor Dining
ATTACH;FMTTYPE=image/jpeg:https://cutstonefoods.com/wp-content/uploads/2023/02/20221028_160958.jpg
END:VEVENT
BEGIN:VEVENT
DTSTART;TZID=America/Chicago:20260212T163000
DTEND;TZID=America/Chicago:20260212T210000
DTSTAMP:20260423T152436
CREATED:20250403T005645Z
LAST-MODIFIED:20251007T225538Z
UID:10002246-1770913800-1770930000@cutstonefoods.com
SUMMARY:Full Menu Indoor Dining
DESCRIPTION:Experience the full Cut Stone pizza menu and wine list. \nOur indoor dining room offers us more space to create a larger variety of incredible neapolitan style pizzas as well as a full bar menu.
URL:https://cutstonefoods.com/event/full-menu-indoor-dining-5-2-2/2026-02-12/
LOCATION:Cut Stone Foods\, 5925 6th Avenue A\, Kenosha\, WI\, 53140\, United States
CATEGORIES:Full Menu Indoor Dining
ATTACH;FMTTYPE=image/jpeg:https://cutstonefoods.com/wp-content/uploads/2023/02/20221028_160958.jpg
END:VEVENT
BEGIN:VEVENT
DTSTART;TZID=America/Chicago:20260211T163000
DTEND;TZID=America/Chicago:20260211T210000
DTSTAMP:20260423T152436
CREATED:20250403T005645Z
LAST-MODIFIED:20251007T225538Z
UID:10002245-1770827400-1770843600@cutstonefoods.com
SUMMARY:Full Menu Indoor Dining
DESCRIPTION:Experience the full Cut Stone pizza menu and wine list. \nOur indoor dining room offers us more space to create a larger variety of incredible neapolitan style pizzas as well as a full bar menu.
URL:https://cutstonefoods.com/event/full-menu-indoor-dining-5-2-2/2026-02-11/
LOCATION:Cut Stone Foods\, 5925 6th Avenue A\, Kenosha\, WI\, 53140\, United States
CATEGORIES:Full Menu Indoor Dining
ATTACH;FMTTYPE=image/jpeg:https://cutstonefoods.com/wp-content/uploads/2023/02/20221028_160958.jpg
END:VEVENT
BEGIN:VEVENT
DTSTART;TZID=America/Chicago:20260206T163000
DTEND;TZID=America/Chicago:20260206T210000
DTSTAMP:20260423T152436
CREATED:20250403T005645Z
LAST-MODIFIED:20251007T225538Z
UID:10002244-1770395400-1770411600@cutstonefoods.com
SUMMARY:Full Menu Indoor Dining
DESCRIPTION:Experience the full Cut Stone pizza menu and wine list. \nOur indoor dining room offers us more space to create a larger variety of incredible neapolitan style pizzas as well as a full bar menu.
URL:https://cutstonefoods.com/event/full-menu-indoor-dining-5-2-2/2026-02-06/
LOCATION:Cut Stone Foods\, 5925 6th Avenue A\, Kenosha\, WI\, 53140\, United States
CATEGORIES:Full Menu Indoor Dining
ATTACH;FMTTYPE=image/jpeg:https://cutstonefoods.com/wp-content/uploads/2023/02/20221028_160958.jpg
END:VEVENT
BEGIN:VEVENT
DTSTART;TZID=America/Chicago:20260205T163000
DTEND;TZID=America/Chicago:20260205T210000
DTSTAMP:20260423T152436
CREATED:20250403T005645Z
LAST-MODIFIED:20251007T225538Z
UID:10002243-1770309000-1770325200@cutstonefoods.com
SUMMARY:Full Menu Indoor Dining
DESCRIPTION:Experience the full Cut Stone pizza menu and wine list. \nOur indoor dining room offers us more space to create a larger variety of incredible neapolitan style pizzas as well as a full bar menu.
URL:https://cutstonefoods.com/event/full-menu-indoor-dining-5-2-2/2026-02-05/
LOCATION:Cut Stone Foods\, 5925 6th Avenue A\, Kenosha\, WI\, 53140\, United States
CATEGORIES:Full Menu Indoor Dining
ATTACH;FMTTYPE=image/jpeg:https://cutstonefoods.com/wp-content/uploads/2023/02/20221028_160958.jpg
END:VEVENT
BEGIN:VEVENT
DTSTART;TZID=America/Chicago:20260204T163000
DTEND;TZID=America/Chicago:20260204T210000
DTSTAMP:20260423T152436
CREATED:20250403T005645Z
LAST-MODIFIED:20251007T225538Z
UID:10002242-1770222600-1770238800@cutstonefoods.com
SUMMARY:Full Menu Indoor Dining
DESCRIPTION:Experience the full Cut Stone pizza menu and wine list. \nOur indoor dining room offers us more space to create a larger variety of incredible neapolitan style pizzas as well as a full bar menu.
URL:https://cutstonefoods.com/event/full-menu-indoor-dining-5-2-2/2026-02-04/
LOCATION:Cut Stone Foods\, 5925 6th Avenue A\, Kenosha\, WI\, 53140\, United States
CATEGORIES:Full Menu Indoor Dining
ATTACH;FMTTYPE=image/jpeg:https://cutstonefoods.com/wp-content/uploads/2023/02/20221028_160958.jpg
END:VEVENT
BEGIN:VEVENT
DTSTART;TZID=America/Chicago:20260130T163000
DTEND;TZID=America/Chicago:20260130T210000
DTSTAMP:20260423T152436
CREATED:20250403T005645Z
LAST-MODIFIED:20251007T225538Z
UID:10002241-1769790600-1769806800@cutstonefoods.com
SUMMARY:Full Menu Indoor Dining
DESCRIPTION:Experience the full Cut Stone pizza menu and wine list. \nOur indoor dining room offers us more space to create a larger variety of incredible neapolitan style pizzas as well as a full bar menu.
URL:https://cutstonefoods.com/event/full-menu-indoor-dining-5-2-2/2026-01-30/
LOCATION:Cut Stone Foods\, 5925 6th Avenue A\, Kenosha\, WI\, 53140\, United States
CATEGORIES:Full Menu Indoor Dining
ATTACH;FMTTYPE=image/jpeg:https://cutstonefoods.com/wp-content/uploads/2023/02/20221028_160958.jpg
END:VEVENT
BEGIN:VEVENT
DTSTART;TZID=America/Chicago:20260129T163000
DTEND;TZID=America/Chicago:20260129T210000
DTSTAMP:20260423T152436
CREATED:20250403T005645Z
LAST-MODIFIED:20251007T225538Z
UID:10002240-1769704200-1769720400@cutstonefoods.com
SUMMARY:Full Menu Indoor Dining
DESCRIPTION:Experience the full Cut Stone pizza menu and wine list. \nOur indoor dining room offers us more space to create a larger variety of incredible neapolitan style pizzas as well as a full bar menu.
URL:https://cutstonefoods.com/event/full-menu-indoor-dining-5-2-2/2026-01-29/
LOCATION:Cut Stone Foods\, 5925 6th Avenue A\, Kenosha\, WI\, 53140\, United States
CATEGORIES:Full Menu Indoor Dining
ATTACH;FMTTYPE=image/jpeg:https://cutstonefoods.com/wp-content/uploads/2023/02/20221028_160958.jpg
END:VEVENT
BEGIN:VEVENT
DTSTART;TZID=America/Chicago:20260128T163000
DTEND;TZID=America/Chicago:20260128T210000
DTSTAMP:20260423T152436
CREATED:20250403T005645Z
LAST-MODIFIED:20251007T225538Z
UID:10002239-1769617800-1769634000@cutstonefoods.com
SUMMARY:Full Menu Indoor Dining
DESCRIPTION:Experience the full Cut Stone pizza menu and wine list. \nOur indoor dining room offers us more space to create a larger variety of incredible neapolitan style pizzas as well as a full bar menu.
URL:https://cutstonefoods.com/event/full-menu-indoor-dining-5-2-2/2026-01-28/
LOCATION:Cut Stone Foods\, 5925 6th Avenue A\, Kenosha\, WI\, 53140\, United States
CATEGORIES:Full Menu Indoor Dining
ATTACH;FMTTYPE=image/jpeg:https://cutstonefoods.com/wp-content/uploads/2023/02/20221028_160958.jpg
END:VEVENT
BEGIN:VEVENT
DTSTART;TZID=America/Chicago:20260123T163000
DTEND;TZID=America/Chicago:20260123T210000
DTSTAMP:20260423T152436
CREATED:20250403T005645Z
LAST-MODIFIED:20251007T225538Z
UID:10002238-1769185800-1769202000@cutstonefoods.com
SUMMARY:Full Menu Indoor Dining
DESCRIPTION:Experience the full Cut Stone pizza menu and wine list. \nOur indoor dining room offers us more space to create a larger variety of incredible neapolitan style pizzas as well as a full bar menu.
URL:https://cutstonefoods.com/event/full-menu-indoor-dining-5-2-2/2026-01-23/
LOCATION:Cut Stone Foods\, 5925 6th Avenue A\, Kenosha\, WI\, 53140\, United States
CATEGORIES:Full Menu Indoor Dining
ATTACH;FMTTYPE=image/jpeg:https://cutstonefoods.com/wp-content/uploads/2023/02/20221028_160958.jpg
END:VEVENT
BEGIN:VEVENT
DTSTART;TZID=America/Chicago:20260122T163000
DTEND;TZID=America/Chicago:20260122T210000
DTSTAMP:20260423T152436
CREATED:20250403T005645Z
LAST-MODIFIED:20251007T225538Z
UID:10002237-1769099400-1769115600@cutstonefoods.com
SUMMARY:Full Menu Indoor Dining
DESCRIPTION:Experience the full Cut Stone pizza menu and wine list. \nOur indoor dining room offers us more space to create a larger variety of incredible neapolitan style pizzas as well as a full bar menu.
URL:https://cutstonefoods.com/event/full-menu-indoor-dining-5-2-2/2026-01-22/
LOCATION:Cut Stone Foods\, 5925 6th Avenue A\, Kenosha\, WI\, 53140\, United States
CATEGORIES:Full Menu Indoor Dining
ATTACH;FMTTYPE=image/jpeg:https://cutstonefoods.com/wp-content/uploads/2023/02/20221028_160958.jpg
END:VEVENT
BEGIN:VEVENT
DTSTART;TZID=America/Chicago:20260121T163000
DTEND;TZID=America/Chicago:20260121T210000
DTSTAMP:20260423T152436
CREATED:20250403T005645Z
LAST-MODIFIED:20251007T225538Z
UID:10002236-1769013000-1769029200@cutstonefoods.com
SUMMARY:Full Menu Indoor Dining
DESCRIPTION:Experience the full Cut Stone pizza menu and wine list. \nOur indoor dining room offers us more space to create a larger variety of incredible neapolitan style pizzas as well as a full bar menu.
URL:https://cutstonefoods.com/event/full-menu-indoor-dining-5-2-2/2026-01-21/
LOCATION:Cut Stone Foods\, 5925 6th Avenue A\, Kenosha\, WI\, 53140\, United States
CATEGORIES:Full Menu Indoor Dining
ATTACH;FMTTYPE=image/jpeg:https://cutstonefoods.com/wp-content/uploads/2023/02/20221028_160958.jpg
END:VEVENT
BEGIN:VEVENT
DTSTART;TZID=America/Chicago:20260116T163000
DTEND;TZID=America/Chicago:20260116T210000
DTSTAMP:20260423T152436
CREATED:20250403T005645Z
LAST-MODIFIED:20251007T225538Z
UID:10002235-1768581000-1768597200@cutstonefoods.com
SUMMARY:Full Menu Indoor Dining
DESCRIPTION:Experience the full Cut Stone pizza menu and wine list. \nOur indoor dining room offers us more space to create a larger variety of incredible neapolitan style pizzas as well as a full bar menu.
URL:https://cutstonefoods.com/event/full-menu-indoor-dining-5-2-2/2026-01-16/
LOCATION:Cut Stone Foods\, 5925 6th Avenue A\, Kenosha\, WI\, 53140\, United States
CATEGORIES:Full Menu Indoor Dining
ATTACH;FMTTYPE=image/jpeg:https://cutstonefoods.com/wp-content/uploads/2023/02/20221028_160958.jpg
END:VEVENT
BEGIN:VEVENT
DTSTART;TZID=America/Chicago:20260115T163000
DTEND;TZID=America/Chicago:20260115T210000
DTSTAMP:20260423T152436
CREATED:20250403T005645Z
LAST-MODIFIED:20251007T225538Z
UID:10002234-1768494600-1768510800@cutstonefoods.com
SUMMARY:Full Menu Indoor Dining
DESCRIPTION:Experience the full Cut Stone pizza menu and wine list. \nOur indoor dining room offers us more space to create a larger variety of incredible neapolitan style pizzas as well as a full bar menu.
URL:https://cutstonefoods.com/event/full-menu-indoor-dining-5-2-2/2026-01-15/
LOCATION:Cut Stone Foods\, 5925 6th Avenue A\, Kenosha\, WI\, 53140\, United States
CATEGORIES:Full Menu Indoor Dining
ATTACH;FMTTYPE=image/jpeg:https://cutstonefoods.com/wp-content/uploads/2023/02/20221028_160958.jpg
END:VEVENT
BEGIN:VEVENT
DTSTART;TZID=America/Chicago:20260114T163000
DTEND;TZID=America/Chicago:20260114T210000
DTSTAMP:20260423T152436
CREATED:20250403T005645Z
LAST-MODIFIED:20251007T225538Z
UID:10002233-1768408200-1768424400@cutstonefoods.com
SUMMARY:Full Menu Indoor Dining
DESCRIPTION:Experience the full Cut Stone pizza menu and wine list. \nOur indoor dining room offers us more space to create a larger variety of incredible neapolitan style pizzas as well as a full bar menu.
URL:https://cutstonefoods.com/event/full-menu-indoor-dining-5-2-2/2026-01-14/
LOCATION:Cut Stone Foods\, 5925 6th Avenue A\, Kenosha\, WI\, 53140\, United States
CATEGORIES:Full Menu Indoor Dining
ATTACH;FMTTYPE=image/jpeg:https://cutstonefoods.com/wp-content/uploads/2023/02/20221028_160958.jpg
END:VEVENT
BEGIN:VEVENT
DTSTART;TZID=America/Chicago:20260109T163000
DTEND;TZID=America/Chicago:20260109T210000
DTSTAMP:20260423T152436
CREATED:20250403T005645Z
LAST-MODIFIED:20251007T225538Z
UID:10002232-1767976200-1767992400@cutstonefoods.com
SUMMARY:Full Menu Indoor Dining
DESCRIPTION:Experience the full Cut Stone pizza menu and wine list. \nOur indoor dining room offers us more space to create a larger variety of incredible neapolitan style pizzas as well as a full bar menu.
URL:https://cutstonefoods.com/event/full-menu-indoor-dining-5-2-2/2026-01-09/
LOCATION:Cut Stone Foods\, 5925 6th Avenue A\, Kenosha\, WI\, 53140\, United States
CATEGORIES:Full Menu Indoor Dining
ATTACH;FMTTYPE=image/jpeg:https://cutstonefoods.com/wp-content/uploads/2023/02/20221028_160958.jpg
END:VEVENT
BEGIN:VEVENT
DTSTART;TZID=America/Chicago:20260108T163000
DTEND;TZID=America/Chicago:20260108T210000
DTSTAMP:20260423T152436
CREATED:20250403T005645Z
LAST-MODIFIED:20251007T225538Z
UID:10002231-1767889800-1767906000@cutstonefoods.com
SUMMARY:Full Menu Indoor Dining
DESCRIPTION:Experience the full Cut Stone pizza menu and wine list. \nOur indoor dining room offers us more space to create a larger variety of incredible neapolitan style pizzas as well as a full bar menu.
URL:https://cutstonefoods.com/event/full-menu-indoor-dining-5-2-2/2026-01-08/
LOCATION:Cut Stone Foods\, 5925 6th Avenue A\, Kenosha\, WI\, 53140\, United States
CATEGORIES:Full Menu Indoor Dining
ATTACH;FMTTYPE=image/jpeg:https://cutstonefoods.com/wp-content/uploads/2023/02/20221028_160958.jpg
END:VEVENT
BEGIN:VEVENT
DTSTART;TZID=America/Chicago:20260107T163000
DTEND;TZID=America/Chicago:20260107T210000
DTSTAMP:20260423T152436
CREATED:20250403T005645Z
LAST-MODIFIED:20251007T225538Z
UID:10002230-1767803400-1767819600@cutstonefoods.com
SUMMARY:Full Menu Indoor Dining
DESCRIPTION:Experience the full Cut Stone pizza menu and wine list. \nOur indoor dining room offers us more space to create a larger variety of incredible neapolitan style pizzas as well as a full bar menu.
URL:https://cutstonefoods.com/event/full-menu-indoor-dining-5-2-2/2026-01-07/
LOCATION:Cut Stone Foods\, 5925 6th Avenue A\, Kenosha\, WI\, 53140\, United States
CATEGORIES:Full Menu Indoor Dining
ATTACH;FMTTYPE=image/jpeg:https://cutstonefoods.com/wp-content/uploads/2023/02/20221028_160958.jpg
END:VEVENT
BEGIN:VEVENT
DTSTART;TZID=America/Chicago:20260102T163000
DTEND;TZID=America/Chicago:20260102T210000
DTSTAMP:20260423T152436
CREATED:20250403T005645Z
LAST-MODIFIED:20251007T225538Z
UID:10002229-1767371400-1767387600@cutstonefoods.com
SUMMARY:Full Menu Indoor Dining
DESCRIPTION:Experience the full Cut Stone pizza menu and wine list. \nOur indoor dining room offers us more space to create a larger variety of incredible neapolitan style pizzas as well as a full bar menu.
URL:https://cutstonefoods.com/event/full-menu-indoor-dining-5-2-2/2026-01-02/
LOCATION:Cut Stone Foods\, 5925 6th Avenue A\, Kenosha\, WI\, 53140\, United States
CATEGORIES:Full Menu Indoor Dining
ATTACH;FMTTYPE=image/jpeg:https://cutstonefoods.com/wp-content/uploads/2023/02/20221028_160958.jpg
END:VEVENT
BEGIN:VEVENT
DTSTART;TZID=America/Chicago:20260101T163000
DTEND;TZID=America/Chicago:20260101T210000
DTSTAMP:20260423T152436
CREATED:20250403T005645Z
LAST-MODIFIED:20251007T225538Z
UID:10002228-1767285000-1767301200@cutstonefoods.com
SUMMARY:Full Menu Indoor Dining
DESCRIPTION:Experience the full Cut Stone pizza menu and wine list. \nOur indoor dining room offers us more space to create a larger variety of incredible neapolitan style pizzas as well as a full bar menu.
URL:https://cutstonefoods.com/event/full-menu-indoor-dining-5-2-2/2026-01-01/
LOCATION:Cut Stone Foods\, 5925 6th Avenue A\, Kenosha\, WI\, 53140\, United States
CATEGORIES:Full Menu Indoor Dining
ATTACH;FMTTYPE=image/jpeg:https://cutstonefoods.com/wp-content/uploads/2023/02/20221028_160958.jpg
END:VEVENT
BEGIN:VEVENT
DTSTART;TZID=America/Chicago:20251231T163000
DTEND;TZID=America/Chicago:20251231T210000
DTSTAMP:20260423T152436
CREATED:20250403T005645Z
LAST-MODIFIED:20251007T225538Z
UID:10002227-1767198600-1767214800@cutstonefoods.com
SUMMARY:Full Menu Indoor Dining
DESCRIPTION:Experience the full Cut Stone pizza menu and wine list. \nOur indoor dining room offers us more space to create a larger variety of incredible neapolitan style pizzas as well as a full bar menu.
URL:https://cutstonefoods.com/event/full-menu-indoor-dining-5-2-2/2025-12-31/
LOCATION:Cut Stone Foods\, 5925 6th Avenue A\, Kenosha\, WI\, 53140\, United States
CATEGORIES:Full Menu Indoor Dining
ATTACH;FMTTYPE=image/jpeg:https://cutstonefoods.com/wp-content/uploads/2023/02/20221028_160958.jpg
END:VEVENT
BEGIN:VEVENT
DTSTART;TZID=America/Chicago:20251226T163000
DTEND;TZID=America/Chicago:20251226T210000
DTSTAMP:20260423T152436
CREATED:20250403T005645Z
LAST-MODIFIED:20251007T225538Z
UID:10002226-1766766600-1766782800@cutstonefoods.com
SUMMARY:Full Menu Indoor Dining
DESCRIPTION:Experience the full Cut Stone pizza menu and wine list. \nOur indoor dining room offers us more space to create a larger variety of incredible neapolitan style pizzas as well as a full bar menu.
URL:https://cutstonefoods.com/event/full-menu-indoor-dining-5-2-2/2025-12-26/
LOCATION:Cut Stone Foods\, 5925 6th Avenue A\, Kenosha\, WI\, 53140\, United States
CATEGORIES:Full Menu Indoor Dining
ATTACH;FMTTYPE=image/jpeg:https://cutstonefoods.com/wp-content/uploads/2023/02/20221028_160958.jpg
END:VEVENT
BEGIN:VEVENT
DTSTART;TZID=America/Chicago:20251225T163000
DTEND;TZID=America/Chicago:20251225T210000
DTSTAMP:20260423T152436
CREATED:20250403T005645Z
LAST-MODIFIED:20251007T225538Z
UID:10002225-1766680200-1766696400@cutstonefoods.com
SUMMARY:Full Menu Indoor Dining
DESCRIPTION:Experience the full Cut Stone pizza menu and wine list. \nOur indoor dining room offers us more space to create a larger variety of incredible neapolitan style pizzas as well as a full bar menu.
URL:https://cutstonefoods.com/event/full-menu-indoor-dining-5-2-2/2025-12-25/
LOCATION:Cut Stone Foods\, 5925 6th Avenue A\, Kenosha\, WI\, 53140\, United States
CATEGORIES:Full Menu Indoor Dining
ATTACH;FMTTYPE=image/jpeg:https://cutstonefoods.com/wp-content/uploads/2023/02/20221028_160958.jpg
END:VEVENT
BEGIN:VEVENT
DTSTART;TZID=America/Chicago:20251224T163000
DTEND;TZID=America/Chicago:20251224T210000
DTSTAMP:20260423T152436
CREATED:20250403T005645Z
LAST-MODIFIED:20251007T225538Z
UID:10002224-1766593800-1766610000@cutstonefoods.com
SUMMARY:Full Menu Indoor Dining
DESCRIPTION:Experience the full Cut Stone pizza menu and wine list. \nOur indoor dining room offers us more space to create a larger variety of incredible neapolitan style pizzas as well as a full bar menu.
URL:https://cutstonefoods.com/event/full-menu-indoor-dining-5-2-2/2025-12-24/
LOCATION:Cut Stone Foods\, 5925 6th Avenue A\, Kenosha\, WI\, 53140\, United States
CATEGORIES:Full Menu Indoor Dining
ATTACH;FMTTYPE=image/jpeg:https://cutstonefoods.com/wp-content/uploads/2023/02/20221028_160958.jpg
END:VEVENT
BEGIN:VEVENT
DTSTART;TZID=America/Chicago:20251219T163000
DTEND;TZID=America/Chicago:20251219T210000
DTSTAMP:20260423T152436
CREATED:20250403T005645Z
LAST-MODIFIED:20251007T225538Z
UID:10002223-1766161800-1766178000@cutstonefoods.com
SUMMARY:Full Menu Indoor Dining
DESCRIPTION:Experience the full Cut Stone pizza menu and wine list. \nOur indoor dining room offers us more space to create a larger variety of incredible neapolitan style pizzas as well as a full bar menu.
URL:https://cutstonefoods.com/event/full-menu-indoor-dining-5-2-2/2025-12-19/
LOCATION:Cut Stone Foods\, 5925 6th Avenue A\, Kenosha\, WI\, 53140\, United States
CATEGORIES:Full Menu Indoor Dining
ATTACH;FMTTYPE=image/jpeg:https://cutstonefoods.com/wp-content/uploads/2023/02/20221028_160958.jpg
END:VEVENT
BEGIN:VEVENT
DTSTART;TZID=America/Chicago:20251218T163000
DTEND;TZID=America/Chicago:20251218T210000
DTSTAMP:20260423T152436
CREATED:20250403T005645Z
LAST-MODIFIED:20251007T225538Z
UID:10002222-1766075400-1766091600@cutstonefoods.com
SUMMARY:Full Menu Indoor Dining
DESCRIPTION:Experience the full Cut Stone pizza menu and wine list. \nOur indoor dining room offers us more space to create a larger variety of incredible neapolitan style pizzas as well as a full bar menu.
URL:https://cutstonefoods.com/event/full-menu-indoor-dining-5-2-2/2025-12-18/
LOCATION:Cut Stone Foods\, 5925 6th Avenue A\, Kenosha\, WI\, 53140\, United States
CATEGORIES:Full Menu Indoor Dining
ATTACH;FMTTYPE=image/jpeg:https://cutstonefoods.com/wp-content/uploads/2023/02/20221028_160958.jpg
END:VEVENT
BEGIN:VEVENT
DTSTART;TZID=America/Chicago:20251217T163000
DTEND;TZID=America/Chicago:20251217T210000
DTSTAMP:20260423T152436
CREATED:20250403T005645Z
LAST-MODIFIED:20251007T225538Z
UID:10002221-1765989000-1766005200@cutstonefoods.com
SUMMARY:Full Menu Indoor Dining
DESCRIPTION:Experience the full Cut Stone pizza menu and wine list. \nOur indoor dining room offers us more space to create a larger variety of incredible neapolitan style pizzas as well as a full bar menu.
URL:https://cutstonefoods.com/event/full-menu-indoor-dining-5-2-2/2025-12-17/
LOCATION:Cut Stone Foods\, 5925 6th Avenue A\, Kenosha\, WI\, 53140\, United States
CATEGORIES:Full Menu Indoor Dining
ATTACH;FMTTYPE=image/jpeg:https://cutstonefoods.com/wp-content/uploads/2023/02/20221028_160958.jpg
END:VEVENT
BEGIN:VEVENT
DTSTART;TZID=America/Chicago:20251212T163000
DTEND;TZID=America/Chicago:20251212T210000
DTSTAMP:20260423T152436
CREATED:20250403T005645Z
LAST-MODIFIED:20251007T225538Z
UID:10002220-1765557000-1765573200@cutstonefoods.com
SUMMARY:Full Menu Indoor Dining
DESCRIPTION:Experience the full Cut Stone pizza menu and wine list. \nOur indoor dining room offers us more space to create a larger variety of incredible neapolitan style pizzas as well as a full bar menu.
URL:https://cutstonefoods.com/event/full-menu-indoor-dining-5-2-2/2025-12-12/
LOCATION:Cut Stone Foods\, 5925 6th Avenue A\, Kenosha\, WI\, 53140\, United States
CATEGORIES:Full Menu Indoor Dining
ATTACH;FMTTYPE=image/jpeg:https://cutstonefoods.com/wp-content/uploads/2023/02/20221028_160958.jpg
END:VEVENT
BEGIN:VEVENT
DTSTART;TZID=America/Chicago:20251211T163000
DTEND;TZID=America/Chicago:20251211T210000
DTSTAMP:20260423T152436
CREATED:20250403T005645Z
LAST-MODIFIED:20251007T225538Z
UID:10002219-1765470600-1765486800@cutstonefoods.com
SUMMARY:Full Menu Indoor Dining
DESCRIPTION:Experience the full Cut Stone pizza menu and wine list. \nOur indoor dining room offers us more space to create a larger variety of incredible neapolitan style pizzas as well as a full bar menu.
URL:https://cutstonefoods.com/event/full-menu-indoor-dining-5-2-2/2025-12-11/
LOCATION:Cut Stone Foods\, 5925 6th Avenue A\, Kenosha\, WI\, 53140\, United States
CATEGORIES:Full Menu Indoor Dining
ATTACH;FMTTYPE=image/jpeg:https://cutstonefoods.com/wp-content/uploads/2023/02/20221028_160958.jpg
END:VEVENT
END:VCALENDAR