BEGIN:VCALENDAR
VERSION:2.0
PRODID:-//Cut Stone - ECPv6.15.20//NONSGML v1.0//EN
CALSCALE:GREGORIAN
METHOD:PUBLISH
X-WR-CALNAME:Cut Stone
X-ORIGINAL-URL:https://cutstonefoods.com
X-WR-CALDESC:Events for Cut Stone
REFRESH-INTERVAL;VALUE=DURATION:PT1H
X-Robots-Tag:noindex
X-PUBLISHED-TTL:PT1H
BEGIN:VTIMEZONE
TZID:America/Chicago
BEGIN:DAYLIGHT
TZOFFSETFROM:-0600
TZOFFSETTO:-0500
TZNAME:CDT
DTSTART:20260308T080000
END:DAYLIGHT
BEGIN:STANDARD
TZOFFSETFROM:-0500
TZOFFSETTO:-0600
TZNAME:CST
DTSTART:20261101T070000
END:STANDARD
BEGIN:DAYLIGHT
TZOFFSETFROM:-0600
TZOFFSETTO:-0500
TZNAME:CDT
DTSTART:20270314T080000
END:DAYLIGHT
BEGIN:STANDARD
TZOFFSETFROM:-0500
TZOFFSETTO:-0600
TZNAME:CST
DTSTART:20271107T070000
END:STANDARD
BEGIN:DAYLIGHT
TZOFFSETFROM:-0600
TZOFFSETTO:-0500
TZNAME:CDT
DTSTART:20280312T080000
END:DAYLIGHT
BEGIN:STANDARD
TZOFFSETFROM:-0500
TZOFFSETTO:-0600
TZNAME:CST
DTSTART:20281105T070000
END:STANDARD
END:VTIMEZONE
BEGIN:VEVENT
DTSTART;TZID=America/Chicago:20270813T163000
DTEND;TZID=America/Chicago:20270813T210000
DTSTAMP:20260425T071337
CREATED:20250403T005645Z
LAST-MODIFIED:20251007T225538Z
UID:10002481-1818174600-1818190800@cutstonefoods.com
SUMMARY:Full Menu Indoor Dining
DESCRIPTION:Experience the full Cut Stone pizza menu and wine list. \nOur indoor dining room offers us more space to create a larger variety of incredible neapolitan style pizzas as well as a full bar menu.
URL:https://cutstonefoods.com/event/full-menu-indoor-dining-5-2-2/2027-08-13/
LOCATION:Cut Stone Foods\, 5925 6th Avenue A\, Kenosha\, WI\, 53140\, United States
CATEGORIES:Full Menu Indoor Dining
ATTACH;FMTTYPE=image/jpeg:https://cutstonefoods.com/wp-content/uploads/2023/02/20221028_160958.jpg
END:VEVENT
BEGIN:VEVENT
DTSTART;TZID=America/Chicago:20270818T163000
DTEND;TZID=America/Chicago:20270818T210000
DTSTAMP:20260425T071337
CREATED:20250403T005645Z
LAST-MODIFIED:20251007T225538Z
UID:10002482-1818606600-1818622800@cutstonefoods.com
SUMMARY:Full Menu Indoor Dining
DESCRIPTION:Experience the full Cut Stone pizza menu and wine list. \nOur indoor dining room offers us more space to create a larger variety of incredible neapolitan style pizzas as well as a full bar menu.
URL:https://cutstonefoods.com/event/full-menu-indoor-dining-5-2-2/2027-08-18/
LOCATION:Cut Stone Foods\, 5925 6th Avenue A\, Kenosha\, WI\, 53140\, United States
CATEGORIES:Full Menu Indoor Dining
ATTACH;FMTTYPE=image/jpeg:https://cutstonefoods.com/wp-content/uploads/2023/02/20221028_160958.jpg
END:VEVENT
BEGIN:VEVENT
DTSTART;TZID=America/Chicago:20270819T163000
DTEND;TZID=America/Chicago:20270819T210000
DTSTAMP:20260425T071337
CREATED:20250403T005645Z
LAST-MODIFIED:20251007T225538Z
UID:10002483-1818693000-1818709200@cutstonefoods.com
SUMMARY:Full Menu Indoor Dining
DESCRIPTION:Experience the full Cut Stone pizza menu and wine list. \nOur indoor dining room offers us more space to create a larger variety of incredible neapolitan style pizzas as well as a full bar menu.
URL:https://cutstonefoods.com/event/full-menu-indoor-dining-5-2-2/2027-08-19/
LOCATION:Cut Stone Foods\, 5925 6th Avenue A\, Kenosha\, WI\, 53140\, United States
CATEGORIES:Full Menu Indoor Dining
ATTACH;FMTTYPE=image/jpeg:https://cutstonefoods.com/wp-content/uploads/2023/02/20221028_160958.jpg
END:VEVENT
BEGIN:VEVENT
DTSTART;TZID=America/Chicago:20270820T163000
DTEND;TZID=America/Chicago:20270820T210000
DTSTAMP:20260425T071337
CREATED:20250403T005645Z
LAST-MODIFIED:20251007T225538Z
UID:10002484-1818779400-1818795600@cutstonefoods.com
SUMMARY:Full Menu Indoor Dining
DESCRIPTION:Experience the full Cut Stone pizza menu and wine list. \nOur indoor dining room offers us more space to create a larger variety of incredible neapolitan style pizzas as well as a full bar menu.
URL:https://cutstonefoods.com/event/full-menu-indoor-dining-5-2-2/2027-08-20/
LOCATION:Cut Stone Foods\, 5925 6th Avenue A\, Kenosha\, WI\, 53140\, United States
CATEGORIES:Full Menu Indoor Dining
ATTACH;FMTTYPE=image/jpeg:https://cutstonefoods.com/wp-content/uploads/2023/02/20221028_160958.jpg
END:VEVENT
BEGIN:VEVENT
DTSTART;TZID=America/Chicago:20270825T163000
DTEND;TZID=America/Chicago:20270825T210000
DTSTAMP:20260425T071337
CREATED:20250403T005645Z
LAST-MODIFIED:20251007T225538Z
UID:10002485-1819211400-1819227600@cutstonefoods.com
SUMMARY:Full Menu Indoor Dining
DESCRIPTION:Experience the full Cut Stone pizza menu and wine list. \nOur indoor dining room offers us more space to create a larger variety of incredible neapolitan style pizzas as well as a full bar menu.
URL:https://cutstonefoods.com/event/full-menu-indoor-dining-5-2-2/2027-08-25/
LOCATION:Cut Stone Foods\, 5925 6th Avenue A\, Kenosha\, WI\, 53140\, United States
CATEGORIES:Full Menu Indoor Dining
ATTACH;FMTTYPE=image/jpeg:https://cutstonefoods.com/wp-content/uploads/2023/02/20221028_160958.jpg
END:VEVENT
BEGIN:VEVENT
DTSTART;TZID=America/Chicago:20270826T163000
DTEND;TZID=America/Chicago:20270826T210000
DTSTAMP:20260425T071337
CREATED:20250403T005645Z
LAST-MODIFIED:20251007T225538Z
UID:10002486-1819297800-1819314000@cutstonefoods.com
SUMMARY:Full Menu Indoor Dining
DESCRIPTION:Experience the full Cut Stone pizza menu and wine list. \nOur indoor dining room offers us more space to create a larger variety of incredible neapolitan style pizzas as well as a full bar menu.
URL:https://cutstonefoods.com/event/full-menu-indoor-dining-5-2-2/2027-08-26/
LOCATION:Cut Stone Foods\, 5925 6th Avenue A\, Kenosha\, WI\, 53140\, United States
CATEGORIES:Full Menu Indoor Dining
ATTACH;FMTTYPE=image/jpeg:https://cutstonefoods.com/wp-content/uploads/2023/02/20221028_160958.jpg
END:VEVENT
BEGIN:VEVENT
DTSTART;TZID=America/Chicago:20270827T163000
DTEND;TZID=America/Chicago:20270827T210000
DTSTAMP:20260425T071337
CREATED:20250403T005645Z
LAST-MODIFIED:20251007T225538Z
UID:10002487-1819384200-1819400400@cutstonefoods.com
SUMMARY:Full Menu Indoor Dining
DESCRIPTION:Experience the full Cut Stone pizza menu and wine list. \nOur indoor dining room offers us more space to create a larger variety of incredible neapolitan style pizzas as well as a full bar menu.
URL:https://cutstonefoods.com/event/full-menu-indoor-dining-5-2-2/2027-08-27/
LOCATION:Cut Stone Foods\, 5925 6th Avenue A\, Kenosha\, WI\, 53140\, United States
CATEGORIES:Full Menu Indoor Dining
ATTACH;FMTTYPE=image/jpeg:https://cutstonefoods.com/wp-content/uploads/2023/02/20221028_160958.jpg
END:VEVENT
BEGIN:VEVENT
DTSTART;TZID=America/Chicago:20270901T163000
DTEND;TZID=America/Chicago:20270901T210000
DTSTAMP:20260425T071337
CREATED:20250403T005645Z
LAST-MODIFIED:20251007T225538Z
UID:10002488-1819816200-1819832400@cutstonefoods.com
SUMMARY:Full Menu Indoor Dining
DESCRIPTION:Experience the full Cut Stone pizza menu and wine list. \nOur indoor dining room offers us more space to create a larger variety of incredible neapolitan style pizzas as well as a full bar menu.
URL:https://cutstonefoods.com/event/full-menu-indoor-dining-5-2-2/2027-09-01/
LOCATION:Cut Stone Foods\, 5925 6th Avenue A\, Kenosha\, WI\, 53140\, United States
CATEGORIES:Full Menu Indoor Dining
ATTACH;FMTTYPE=image/jpeg:https://cutstonefoods.com/wp-content/uploads/2023/02/20221028_160958.jpg
END:VEVENT
BEGIN:VEVENT
DTSTART;TZID=America/Chicago:20270902T163000
DTEND;TZID=America/Chicago:20270902T210000
DTSTAMP:20260425T071337
CREATED:20250403T005645Z
LAST-MODIFIED:20251007T225538Z
UID:10002489-1819902600-1819918800@cutstonefoods.com
SUMMARY:Full Menu Indoor Dining
DESCRIPTION:Experience the full Cut Stone pizza menu and wine list. \nOur indoor dining room offers us more space to create a larger variety of incredible neapolitan style pizzas as well as a full bar menu.
URL:https://cutstonefoods.com/event/full-menu-indoor-dining-5-2-2/2027-09-02/
LOCATION:Cut Stone Foods\, 5925 6th Avenue A\, Kenosha\, WI\, 53140\, United States
CATEGORIES:Full Menu Indoor Dining
ATTACH;FMTTYPE=image/jpeg:https://cutstonefoods.com/wp-content/uploads/2023/02/20221028_160958.jpg
END:VEVENT
BEGIN:VEVENT
DTSTART;TZID=America/Chicago:20270903T163000
DTEND;TZID=America/Chicago:20270903T210000
DTSTAMP:20260425T071337
CREATED:20250403T005645Z
LAST-MODIFIED:20251007T225538Z
UID:10002490-1819989000-1820005200@cutstonefoods.com
SUMMARY:Full Menu Indoor Dining
DESCRIPTION:Experience the full Cut Stone pizza menu and wine list. \nOur indoor dining room offers us more space to create a larger variety of incredible neapolitan style pizzas as well as a full bar menu.
URL:https://cutstonefoods.com/event/full-menu-indoor-dining-5-2-2/2027-09-03/
LOCATION:Cut Stone Foods\, 5925 6th Avenue A\, Kenosha\, WI\, 53140\, United States
CATEGORIES:Full Menu Indoor Dining
ATTACH;FMTTYPE=image/jpeg:https://cutstonefoods.com/wp-content/uploads/2023/02/20221028_160958.jpg
END:VEVENT
BEGIN:VEVENT
DTSTART;TZID=America/Chicago:20270908T163000
DTEND;TZID=America/Chicago:20270908T210000
DTSTAMP:20260425T071337
CREATED:20250403T005645Z
LAST-MODIFIED:20251007T225538Z
UID:10002491-1820421000-1820437200@cutstonefoods.com
SUMMARY:Full Menu Indoor Dining
DESCRIPTION:Experience the full Cut Stone pizza menu and wine list. \nOur indoor dining room offers us more space to create a larger variety of incredible neapolitan style pizzas as well as a full bar menu.
URL:https://cutstonefoods.com/event/full-menu-indoor-dining-5-2-2/2027-09-08/
LOCATION:Cut Stone Foods\, 5925 6th Avenue A\, Kenosha\, WI\, 53140\, United States
CATEGORIES:Full Menu Indoor Dining
ATTACH;FMTTYPE=image/jpeg:https://cutstonefoods.com/wp-content/uploads/2023/02/20221028_160958.jpg
END:VEVENT
BEGIN:VEVENT
DTSTART;TZID=America/Chicago:20270909T163000
DTEND;TZID=America/Chicago:20270909T210000
DTSTAMP:20260425T071337
CREATED:20250403T005645Z
LAST-MODIFIED:20251007T225538Z
UID:10002492-1820507400-1820523600@cutstonefoods.com
SUMMARY:Full Menu Indoor Dining
DESCRIPTION:Experience the full Cut Stone pizza menu and wine list. \nOur indoor dining room offers us more space to create a larger variety of incredible neapolitan style pizzas as well as a full bar menu.
URL:https://cutstonefoods.com/event/full-menu-indoor-dining-5-2-2/2027-09-09/
LOCATION:Cut Stone Foods\, 5925 6th Avenue A\, Kenosha\, WI\, 53140\, United States
CATEGORIES:Full Menu Indoor Dining
ATTACH;FMTTYPE=image/jpeg:https://cutstonefoods.com/wp-content/uploads/2023/02/20221028_160958.jpg
END:VEVENT
BEGIN:VEVENT
DTSTART;TZID=America/Chicago:20270910T163000
DTEND;TZID=America/Chicago:20270910T210000
DTSTAMP:20260425T071337
CREATED:20250403T005645Z
LAST-MODIFIED:20251007T225538Z
UID:10002493-1820593800-1820610000@cutstonefoods.com
SUMMARY:Full Menu Indoor Dining
DESCRIPTION:Experience the full Cut Stone pizza menu and wine list. \nOur indoor dining room offers us more space to create a larger variety of incredible neapolitan style pizzas as well as a full bar menu.
URL:https://cutstonefoods.com/event/full-menu-indoor-dining-5-2-2/2027-09-10/
LOCATION:Cut Stone Foods\, 5925 6th Avenue A\, Kenosha\, WI\, 53140\, United States
CATEGORIES:Full Menu Indoor Dining
ATTACH;FMTTYPE=image/jpeg:https://cutstonefoods.com/wp-content/uploads/2023/02/20221028_160958.jpg
END:VEVENT
BEGIN:VEVENT
DTSTART;TZID=America/Chicago:20270915T163000
DTEND;TZID=America/Chicago:20270915T210000
DTSTAMP:20260425T071337
CREATED:20250403T005645Z
LAST-MODIFIED:20251007T225538Z
UID:10002494-1821025800-1821042000@cutstonefoods.com
SUMMARY:Full Menu Indoor Dining
DESCRIPTION:Experience the full Cut Stone pizza menu and wine list. \nOur indoor dining room offers us more space to create a larger variety of incredible neapolitan style pizzas as well as a full bar menu.
URL:https://cutstonefoods.com/event/full-menu-indoor-dining-5-2-2/2027-09-15/
LOCATION:Cut Stone Foods\, 5925 6th Avenue A\, Kenosha\, WI\, 53140\, United States
CATEGORIES:Full Menu Indoor Dining
ATTACH;FMTTYPE=image/jpeg:https://cutstonefoods.com/wp-content/uploads/2023/02/20221028_160958.jpg
END:VEVENT
BEGIN:VEVENT
DTSTART;TZID=America/Chicago:20270916T163000
DTEND;TZID=America/Chicago:20270916T210000
DTSTAMP:20260425T071337
CREATED:20250403T005645Z
LAST-MODIFIED:20251007T225538Z
UID:10002495-1821112200-1821128400@cutstonefoods.com
SUMMARY:Full Menu Indoor Dining
DESCRIPTION:Experience the full Cut Stone pizza menu and wine list. \nOur indoor dining room offers us more space to create a larger variety of incredible neapolitan style pizzas as well as a full bar menu.
URL:https://cutstonefoods.com/event/full-menu-indoor-dining-5-2-2/2027-09-16/
LOCATION:Cut Stone Foods\, 5925 6th Avenue A\, Kenosha\, WI\, 53140\, United States
CATEGORIES:Full Menu Indoor Dining
ATTACH;FMTTYPE=image/jpeg:https://cutstonefoods.com/wp-content/uploads/2023/02/20221028_160958.jpg
END:VEVENT
BEGIN:VEVENT
DTSTART;TZID=America/Chicago:20270917T163000
DTEND;TZID=America/Chicago:20270917T210000
DTSTAMP:20260425T071337
CREATED:20250403T005645Z
LAST-MODIFIED:20251007T225538Z
UID:10002496-1821198600-1821214800@cutstonefoods.com
SUMMARY:Full Menu Indoor Dining
DESCRIPTION:Experience the full Cut Stone pizza menu and wine list. \nOur indoor dining room offers us more space to create a larger variety of incredible neapolitan style pizzas as well as a full bar menu.
URL:https://cutstonefoods.com/event/full-menu-indoor-dining-5-2-2/2027-09-17/
LOCATION:Cut Stone Foods\, 5925 6th Avenue A\, Kenosha\, WI\, 53140\, United States
CATEGORIES:Full Menu Indoor Dining
ATTACH;FMTTYPE=image/jpeg:https://cutstonefoods.com/wp-content/uploads/2023/02/20221028_160958.jpg
END:VEVENT
BEGIN:VEVENT
DTSTART;TZID=America/Chicago:20270922T163000
DTEND;TZID=America/Chicago:20270922T210000
DTSTAMP:20260425T071337
CREATED:20250403T005645Z
LAST-MODIFIED:20251007T225538Z
UID:10002497-1821630600-1821646800@cutstonefoods.com
SUMMARY:Full Menu Indoor Dining
DESCRIPTION:Experience the full Cut Stone pizza menu and wine list. \nOur indoor dining room offers us more space to create a larger variety of incredible neapolitan style pizzas as well as a full bar menu.
URL:https://cutstonefoods.com/event/full-menu-indoor-dining-5-2-2/2027-09-22/
LOCATION:Cut Stone Foods\, 5925 6th Avenue A\, Kenosha\, WI\, 53140\, United States
CATEGORIES:Full Menu Indoor Dining
ATTACH;FMTTYPE=image/jpeg:https://cutstonefoods.com/wp-content/uploads/2023/02/20221028_160958.jpg
END:VEVENT
BEGIN:VEVENT
DTSTART;TZID=America/Chicago:20270923T163000
DTEND;TZID=America/Chicago:20270923T210000
DTSTAMP:20260425T071337
CREATED:20250403T005645Z
LAST-MODIFIED:20251007T225538Z
UID:10002498-1821717000-1821733200@cutstonefoods.com
SUMMARY:Full Menu Indoor Dining
DESCRIPTION:Experience the full Cut Stone pizza menu and wine list. \nOur indoor dining room offers us more space to create a larger variety of incredible neapolitan style pizzas as well as a full bar menu.
URL:https://cutstonefoods.com/event/full-menu-indoor-dining-5-2-2/2027-09-23/
LOCATION:Cut Stone Foods\, 5925 6th Avenue A\, Kenosha\, WI\, 53140\, United States
CATEGORIES:Full Menu Indoor Dining
ATTACH;FMTTYPE=image/jpeg:https://cutstonefoods.com/wp-content/uploads/2023/02/20221028_160958.jpg
END:VEVENT
BEGIN:VEVENT
DTSTART;TZID=America/Chicago:20270924T163000
DTEND;TZID=America/Chicago:20270924T210000
DTSTAMP:20260425T071337
CREATED:20250403T005645Z
LAST-MODIFIED:20251007T225538Z
UID:10002499-1821803400-1821819600@cutstonefoods.com
SUMMARY:Full Menu Indoor Dining
DESCRIPTION:Experience the full Cut Stone pizza menu and wine list. \nOur indoor dining room offers us more space to create a larger variety of incredible neapolitan style pizzas as well as a full bar menu.
URL:https://cutstonefoods.com/event/full-menu-indoor-dining-5-2-2/2027-09-24/
LOCATION:Cut Stone Foods\, 5925 6th Avenue A\, Kenosha\, WI\, 53140\, United States
CATEGORIES:Full Menu Indoor Dining
ATTACH;FMTTYPE=image/jpeg:https://cutstonefoods.com/wp-content/uploads/2023/02/20221028_160958.jpg
END:VEVENT
BEGIN:VEVENT
DTSTART;TZID=America/Chicago:20270929T163000
DTEND;TZID=America/Chicago:20270929T210000
DTSTAMP:20260425T071337
CREATED:20250403T005645Z
LAST-MODIFIED:20251007T225538Z
UID:10002500-1822235400-1822251600@cutstonefoods.com
SUMMARY:Full Menu Indoor Dining
DESCRIPTION:Experience the full Cut Stone pizza menu and wine list. \nOur indoor dining room offers us more space to create a larger variety of incredible neapolitan style pizzas as well as a full bar menu.
URL:https://cutstonefoods.com/event/full-menu-indoor-dining-5-2-2/2027-09-29/
LOCATION:Cut Stone Foods\, 5925 6th Avenue A\, Kenosha\, WI\, 53140\, United States
CATEGORIES:Full Menu Indoor Dining
ATTACH;FMTTYPE=image/jpeg:https://cutstonefoods.com/wp-content/uploads/2023/02/20221028_160958.jpg
END:VEVENT
BEGIN:VEVENT
DTSTART;TZID=America/Chicago:20270930T163000
DTEND;TZID=America/Chicago:20270930T210000
DTSTAMP:20260425T071337
CREATED:20250403T005645Z
LAST-MODIFIED:20251007T225538Z
UID:10002501-1822321800-1822338000@cutstonefoods.com
SUMMARY:Full Menu Indoor Dining
DESCRIPTION:Experience the full Cut Stone pizza menu and wine list. \nOur indoor dining room offers us more space to create a larger variety of incredible neapolitan style pizzas as well as a full bar menu.
URL:https://cutstonefoods.com/event/full-menu-indoor-dining-5-2-2/2027-09-30/
LOCATION:Cut Stone Foods\, 5925 6th Avenue A\, Kenosha\, WI\, 53140\, United States
CATEGORIES:Full Menu Indoor Dining
ATTACH;FMTTYPE=image/jpeg:https://cutstonefoods.com/wp-content/uploads/2023/02/20221028_160958.jpg
END:VEVENT
BEGIN:VEVENT
DTSTART;TZID=America/Chicago:20271001T163000
DTEND;TZID=America/Chicago:20271001T210000
DTSTAMP:20260425T071337
CREATED:20250403T005645Z
LAST-MODIFIED:20251007T225538Z
UID:10002502-1822408200-1822424400@cutstonefoods.com
SUMMARY:Full Menu Indoor Dining
DESCRIPTION:Experience the full Cut Stone pizza menu and wine list. \nOur indoor dining room offers us more space to create a larger variety of incredible neapolitan style pizzas as well as a full bar menu.
URL:https://cutstonefoods.com/event/full-menu-indoor-dining-5-2-2/2027-10-01/
LOCATION:Cut Stone Foods\, 5925 6th Avenue A\, Kenosha\, WI\, 53140\, United States
CATEGORIES:Full Menu Indoor Dining
ATTACH;FMTTYPE=image/jpeg:https://cutstonefoods.com/wp-content/uploads/2023/02/20221028_160958.jpg
END:VEVENT
BEGIN:VEVENT
DTSTART;TZID=America/Chicago:20271006T163000
DTEND;TZID=America/Chicago:20271006T210000
DTSTAMP:20260425T071337
CREATED:20250403T005645Z
LAST-MODIFIED:20251007T225538Z
UID:10002503-1822840200-1822856400@cutstonefoods.com
SUMMARY:Full Menu Indoor Dining
DESCRIPTION:Experience the full Cut Stone pizza menu and wine list. \nOur indoor dining room offers us more space to create a larger variety of incredible neapolitan style pizzas as well as a full bar menu.
URL:https://cutstonefoods.com/event/full-menu-indoor-dining-5-2-2/2027-10-06/
LOCATION:Cut Stone Foods\, 5925 6th Avenue A\, Kenosha\, WI\, 53140\, United States
CATEGORIES:Full Menu Indoor Dining
ATTACH;FMTTYPE=image/jpeg:https://cutstonefoods.com/wp-content/uploads/2023/02/20221028_160958.jpg
END:VEVENT
BEGIN:VEVENT
DTSTART;TZID=America/Chicago:20271007T163000
DTEND;TZID=America/Chicago:20271007T210000
DTSTAMP:20260425T071337
CREATED:20250403T005645Z
LAST-MODIFIED:20251007T225538Z
UID:10002504-1822926600-1822942800@cutstonefoods.com
SUMMARY:Full Menu Indoor Dining
DESCRIPTION:Experience the full Cut Stone pizza menu and wine list. \nOur indoor dining room offers us more space to create a larger variety of incredible neapolitan style pizzas as well as a full bar menu.
URL:https://cutstonefoods.com/event/full-menu-indoor-dining-5-2-2/2027-10-07/
LOCATION:Cut Stone Foods\, 5925 6th Avenue A\, Kenosha\, WI\, 53140\, United States
CATEGORIES:Full Menu Indoor Dining
ATTACH;FMTTYPE=image/jpeg:https://cutstonefoods.com/wp-content/uploads/2023/02/20221028_160958.jpg
END:VEVENT
BEGIN:VEVENT
DTSTART;TZID=America/Chicago:20271008T163000
DTEND;TZID=America/Chicago:20271008T210000
DTSTAMP:20260425T071337
CREATED:20250403T005645Z
LAST-MODIFIED:20251007T225538Z
UID:10002505-1823013000-1823029200@cutstonefoods.com
SUMMARY:Full Menu Indoor Dining
DESCRIPTION:Experience the full Cut Stone pizza menu and wine list. \nOur indoor dining room offers us more space to create a larger variety of incredible neapolitan style pizzas as well as a full bar menu.
URL:https://cutstonefoods.com/event/full-menu-indoor-dining-5-2-2/2027-10-08/
LOCATION:Cut Stone Foods\, 5925 6th Avenue A\, Kenosha\, WI\, 53140\, United States
CATEGORIES:Full Menu Indoor Dining
ATTACH;FMTTYPE=image/jpeg:https://cutstonefoods.com/wp-content/uploads/2023/02/20221028_160958.jpg
END:VEVENT
BEGIN:VEVENT
DTSTART;TZID=America/Chicago:20271013T163000
DTEND;TZID=America/Chicago:20271013T210000
DTSTAMP:20260425T071337
CREATED:20250403T005645Z
LAST-MODIFIED:20251007T225538Z
UID:10002506-1823445000-1823461200@cutstonefoods.com
SUMMARY:Full Menu Indoor Dining
DESCRIPTION:Experience the full Cut Stone pizza menu and wine list. \nOur indoor dining room offers us more space to create a larger variety of incredible neapolitan style pizzas as well as a full bar menu.
URL:https://cutstonefoods.com/event/full-menu-indoor-dining-5-2-2/2027-10-13/
LOCATION:Cut Stone Foods\, 5925 6th Avenue A\, Kenosha\, WI\, 53140\, United States
CATEGORIES:Full Menu Indoor Dining
ATTACH;FMTTYPE=image/jpeg:https://cutstonefoods.com/wp-content/uploads/2023/02/20221028_160958.jpg
END:VEVENT
BEGIN:VEVENT
DTSTART;TZID=America/Chicago:20271014T163000
DTEND;TZID=America/Chicago:20271014T210000
DTSTAMP:20260425T071337
CREATED:20250403T005645Z
LAST-MODIFIED:20251007T225538Z
UID:10002507-1823531400-1823547600@cutstonefoods.com
SUMMARY:Full Menu Indoor Dining
DESCRIPTION:Experience the full Cut Stone pizza menu and wine list. \nOur indoor dining room offers us more space to create a larger variety of incredible neapolitan style pizzas as well as a full bar menu.
URL:https://cutstonefoods.com/event/full-menu-indoor-dining-5-2-2/2027-10-14/
LOCATION:Cut Stone Foods\, 5925 6th Avenue A\, Kenosha\, WI\, 53140\, United States
CATEGORIES:Full Menu Indoor Dining
ATTACH;FMTTYPE=image/jpeg:https://cutstonefoods.com/wp-content/uploads/2023/02/20221028_160958.jpg
END:VEVENT
BEGIN:VEVENT
DTSTART;TZID=America/Chicago:20271015T163000
DTEND;TZID=America/Chicago:20271015T210000
DTSTAMP:20260425T071337
CREATED:20250403T005645Z
LAST-MODIFIED:20251007T225538Z
UID:10002508-1823617800-1823634000@cutstonefoods.com
SUMMARY:Full Menu Indoor Dining
DESCRIPTION:Experience the full Cut Stone pizza menu and wine list. \nOur indoor dining room offers us more space to create a larger variety of incredible neapolitan style pizzas as well as a full bar menu.
URL:https://cutstonefoods.com/event/full-menu-indoor-dining-5-2-2/2027-10-15/
LOCATION:Cut Stone Foods\, 5925 6th Avenue A\, Kenosha\, WI\, 53140\, United States
CATEGORIES:Full Menu Indoor Dining
ATTACH;FMTTYPE=image/jpeg:https://cutstonefoods.com/wp-content/uploads/2023/02/20221028_160958.jpg
END:VEVENT
BEGIN:VEVENT
DTSTART;TZID=America/Chicago:20271020T163000
DTEND;TZID=America/Chicago:20271020T210000
DTSTAMP:20260425T071337
CREATED:20250403T005645Z
LAST-MODIFIED:20251007T225538Z
UID:10002509-1824049800-1824066000@cutstonefoods.com
SUMMARY:Full Menu Indoor Dining
DESCRIPTION:Experience the full Cut Stone pizza menu and wine list. \nOur indoor dining room offers us more space to create a larger variety of incredible neapolitan style pizzas as well as a full bar menu.
URL:https://cutstonefoods.com/event/full-menu-indoor-dining-5-2-2/2027-10-20/
LOCATION:Cut Stone Foods\, 5925 6th Avenue A\, Kenosha\, WI\, 53140\, United States
CATEGORIES:Full Menu Indoor Dining
ATTACH;FMTTYPE=image/jpeg:https://cutstonefoods.com/wp-content/uploads/2023/02/20221028_160958.jpg
END:VEVENT
BEGIN:VEVENT
DTSTART;TZID=America/Chicago:20271021T163000
DTEND;TZID=America/Chicago:20271021T210000
DTSTAMP:20260425T071337
CREATED:20250403T005645Z
LAST-MODIFIED:20251007T225538Z
UID:10002510-1824136200-1824152400@cutstonefoods.com
SUMMARY:Full Menu Indoor Dining
DESCRIPTION:Experience the full Cut Stone pizza menu and wine list. \nOur indoor dining room offers us more space to create a larger variety of incredible neapolitan style pizzas as well as a full bar menu.
URL:https://cutstonefoods.com/event/full-menu-indoor-dining-5-2-2/2027-10-21/
LOCATION:Cut Stone Foods\, 5925 6th Avenue A\, Kenosha\, WI\, 53140\, United States
CATEGORIES:Full Menu Indoor Dining
ATTACH;FMTTYPE=image/jpeg:https://cutstonefoods.com/wp-content/uploads/2023/02/20221028_160958.jpg
END:VEVENT
END:VCALENDAR