BEGIN:VCALENDAR
VERSION:2.0
PRODID:-//Cut Stone - ECPv6.15.20//NONSGML v1.0//EN
CALSCALE:GREGORIAN
METHOD:PUBLISH
X-WR-CALNAME:Cut Stone
X-ORIGINAL-URL:https://cutstonefoods.com
X-WR-CALDESC:Events for Cut Stone
REFRESH-INTERVAL;VALUE=DURATION:PT1H
X-Robots-Tag:noindex
X-PUBLISHED-TTL:PT1H
BEGIN:VTIMEZONE
TZID:America/Chicago
BEGIN:DAYLIGHT
TZOFFSETFROM:-0600
TZOFFSETTO:-0500
TZNAME:CDT
DTSTART:20240310T080000
END:DAYLIGHT
BEGIN:STANDARD
TZOFFSETFROM:-0500
TZOFFSETTO:-0600
TZNAME:CST
DTSTART:20241103T070000
END:STANDARD
BEGIN:DAYLIGHT
TZOFFSETFROM:-0600
TZOFFSETTO:-0500
TZNAME:CDT
DTSTART:20250309T080000
END:DAYLIGHT
BEGIN:STANDARD
TZOFFSETFROM:-0500
TZOFFSETTO:-0600
TZNAME:CST
DTSTART:20251102T070000
END:STANDARD
BEGIN:DAYLIGHT
TZOFFSETFROM:-0600
TZOFFSETTO:-0500
TZNAME:CDT
DTSTART:20260308T080000
END:DAYLIGHT
BEGIN:STANDARD
TZOFFSETFROM:-0500
TZOFFSETTO:-0600
TZNAME:CST
DTSTART:20261101T070000
END:STANDARD
END:VTIMEZONE
BEGIN:VEVENT
DTSTART;TZID=America/Chicago:20250718T163000
DTEND;TZID=America/Chicago:20250718T210000
DTSTAMP:20260424T094845
CREATED:20250403T005645Z
LAST-MODIFIED:20251007T225538Z
UID:10002157-1752856200-1752872400@cutstonefoods.com
SUMMARY:Full Menu Indoor Dining
DESCRIPTION:Experience the full Cut Stone pizza menu and wine list. \nOur indoor dining room offers us more space to create a larger variety of incredible neapolitan style pizzas as well as a full bar menu.
URL:https://cutstonefoods.com/event/full-menu-indoor-dining-5-2-2/2025-07-18/
LOCATION:Cut Stone Foods\, 5925 6th Avenue A\, Kenosha\, WI\, 53140\, United States
CATEGORIES:Full Menu Indoor Dining
ATTACH;FMTTYPE=image/jpeg:https://cutstonefoods.com/wp-content/uploads/2023/02/20221028_160958.jpg
END:VEVENT
BEGIN:VEVENT
DTSTART;TZID=America/Chicago:20250717T163000
DTEND;TZID=America/Chicago:20250717T210000
DTSTAMP:20260424T094845
CREATED:20250403T005645Z
LAST-MODIFIED:20251007T225538Z
UID:10002156-1752769800-1752786000@cutstonefoods.com
SUMMARY:Full Menu Indoor Dining
DESCRIPTION:Experience the full Cut Stone pizza menu and wine list. \nOur indoor dining room offers us more space to create a larger variety of incredible neapolitan style pizzas as well as a full bar menu.
URL:https://cutstonefoods.com/event/full-menu-indoor-dining-5-2-2/2025-07-17/
LOCATION:Cut Stone Foods\, 5925 6th Avenue A\, Kenosha\, WI\, 53140\, United States
CATEGORIES:Full Menu Indoor Dining
ATTACH;FMTTYPE=image/jpeg:https://cutstonefoods.com/wp-content/uploads/2023/02/20221028_160958.jpg
END:VEVENT
BEGIN:VEVENT
DTSTART;TZID=America/Chicago:20250716T170000
DTEND;TZID=America/Chicago:20250716T210000
DTSTAMP:20260424T094845
CREATED:20250224T223228Z
LAST-MODIFIED:20250707T151955Z
UID:10003260-1752685200-1752699600@cutstonefoods.com
SUMMARY:Engine 4 @ Lincoln Park Live
DESCRIPTION:Cut Stone is teaming up with some of our favorite people on Earth at The Mahone Foundation and bringing the best pizza you’ll ever have from a fire truck to the best concert series in Kenosha!\n\nJoin us in the stunning Lincoln Park Flower garden for a night of community\, food\, fun\, and live music.
URL:https://cutstonefoods.com/event/engine-4-lincoln-park-live/2025-07-16/
LOCATION:The Flower Gardens at Lincoln Park\, 6900 18th Ave\, Kenosha\, WI\, 53143\, United States
CATEGORIES:Food Truck Service,Special Event
ATTACH;FMTTYPE=image/jpeg:https://cutstonefoods.com/wp-content/uploads/2025/02/470224648_122171593268262454_7233372900010846288_n.jpg
END:VEVENT
BEGIN:VEVENT
DTSTART;TZID=America/Chicago:20250716T163000
DTEND;TZID=America/Chicago:20250716T210000
DTSTAMP:20260424T094845
CREATED:20250403T005645Z
LAST-MODIFIED:20251007T225538Z
UID:10002155-1752683400-1752699600@cutstonefoods.com
SUMMARY:Full Menu Indoor Dining
DESCRIPTION:Experience the full Cut Stone pizza menu and wine list. \nOur indoor dining room offers us more space to create a larger variety of incredible neapolitan style pizzas as well as a full bar menu.
URL:https://cutstonefoods.com/event/full-menu-indoor-dining-5-2-2/2025-07-16/
LOCATION:Cut Stone Foods\, 5925 6th Avenue A\, Kenosha\, WI\, 53140\, United States
CATEGORIES:Full Menu Indoor Dining
ATTACH;FMTTYPE=image/jpeg:https://cutstonefoods.com/wp-content/uploads/2023/02/20221028_160958.jpg
END:VEVENT
BEGIN:VEVENT
DTSTART;TZID=America/Chicago:20250715T170000
DTEND;TZID=America/Chicago:20250715T210000
DTSTAMP:20260424T094845
CREATED:20250224T174503Z
LAST-MODIFIED:20250225T173436Z
UID:10003255-1752598800-1752613200@cutstonefoods.com
SUMMARY:Engine 4 at "Music at Twilight"
DESCRIPTION:Cut Stone is proud to announce we will be a vendor at the spectacular lakeside concert series “Music at Twilight” at The Anderson Arts Center. \nJune 3 – Indigo Canyon\nJune 17- Gary Ward – Frank Sinatra Tribute\nJuly 1- Ivy Ford\nJuly 15 – Empty Bottle Boys and One Shot Jane\nJuly 29 – Peacetree Allstars\nAug. 12- Funk Brotherz\nAug. 26- Georgia Rae Family Band
URL:https://cutstonefoods.com/event/engine-4-at-music-at-twilight/2025-07-15/
LOCATION:Kemper Center\, 6501 3rd Ave\, Kenosha\, WI\, 53143\, United States
CATEGORIES:Food Truck Service
ATTACH;FMTTYPE=image/png:https://cutstonefoods.com/wp-content/uploads/2025/02/connect.png
END:VEVENT
BEGIN:VEVENT
DTSTART;TZID=America/Chicago:20250712T120000
DTEND;TZID=America/Chicago:20250712T190000
DTSTAMP:20260424T094845
CREATED:20250707T151230Z
LAST-MODIFIED:20250707T151231Z
UID:10003387-1752321600-1752346800@cutstonefoods.com
SUMMARY:Kenosha Pride!!
DESCRIPTION:It’s time for the best event of the summer!!!!\nKenosha Pride packs the best entertainment\, the best food\, and the best folks all into one day of incredible fun.\nJoin us for the best pizza you’ll ever have from a fire truck alongside live music\, dj shows\, incredible drag performances\, and more!
URL:https://cutstonefoods.com/event/kenosha-pride-2/
LOCATION:Celebration Place\, 5501 Ring Rd\, Kenosha\, WI\, 53140\, United States
CATEGORIES:Food Truck Service,Special Event
ATTACH;FMTTYPE=image/jpeg:https://cutstonefoods.com/wp-content/uploads/2025/07/517032243_122206622642262454_158509492191331880_n.jpg
END:VEVENT
BEGIN:VEVENT
DTSTART;TZID=America/Chicago:20250711T163000
DTEND;TZID=America/Chicago:20250711T210000
DTSTAMP:20260424T094845
CREATED:20250403T005645Z
LAST-MODIFIED:20251007T225538Z
UID:10002154-1752251400-1752267600@cutstonefoods.com
SUMMARY:Full Menu Indoor Dining
DESCRIPTION:Experience the full Cut Stone pizza menu and wine list. \nOur indoor dining room offers us more space to create a larger variety of incredible neapolitan style pizzas as well as a full bar menu.
URL:https://cutstonefoods.com/event/full-menu-indoor-dining-5-2-2/2025-07-11/
LOCATION:Cut Stone Foods\, 5925 6th Avenue A\, Kenosha\, WI\, 53140\, United States
CATEGORIES:Full Menu Indoor Dining
ATTACH;FMTTYPE=image/jpeg:https://cutstonefoods.com/wp-content/uploads/2023/02/20221028_160958.jpg
END:VEVENT
BEGIN:VEVENT
DTSTART;TZID=America/Chicago:20250710T163000
DTEND;TZID=America/Chicago:20250710T210000
DTSTAMP:20260424T094845
CREATED:20250403T005645Z
LAST-MODIFIED:20251007T225538Z
UID:10002153-1752165000-1752181200@cutstonefoods.com
SUMMARY:Full Menu Indoor Dining
DESCRIPTION:Experience the full Cut Stone pizza menu and wine list. \nOur indoor dining room offers us more space to create a larger variety of incredible neapolitan style pizzas as well as a full bar menu.
URL:https://cutstonefoods.com/event/full-menu-indoor-dining-5-2-2/2025-07-10/
LOCATION:Cut Stone Foods\, 5925 6th Avenue A\, Kenosha\, WI\, 53140\, United States
CATEGORIES:Full Menu Indoor Dining
ATTACH;FMTTYPE=image/jpeg:https://cutstonefoods.com/wp-content/uploads/2023/02/20221028_160958.jpg
END:VEVENT
BEGIN:VEVENT
DTSTART;TZID=America/Chicago:20250709T163000
DTEND;TZID=America/Chicago:20250709T210000
DTSTAMP:20260424T094845
CREATED:20250403T005645Z
LAST-MODIFIED:20251007T225538Z
UID:10002152-1752078600-1752094800@cutstonefoods.com
SUMMARY:Full Menu Indoor Dining
DESCRIPTION:Experience the full Cut Stone pizza menu and wine list. \nOur indoor dining room offers us more space to create a larger variety of incredible neapolitan style pizzas as well as a full bar menu.
URL:https://cutstonefoods.com/event/full-menu-indoor-dining-5-2-2/2025-07-09/
LOCATION:Cut Stone Foods\, 5925 6th Avenue A\, Kenosha\, WI\, 53140\, United States
CATEGORIES:Full Menu Indoor Dining
ATTACH;FMTTYPE=image/jpeg:https://cutstonefoods.com/wp-content/uploads/2023/02/20221028_160958.jpg
END:VEVENT
BEGIN:VEVENT
DTSTART;TZID=America/Chicago:20250705T090000
DTEND;TZID=America/Chicago:20250705T140000
DTSTAMP:20260424T094845
CREATED:20250530T182011Z
LAST-MODIFIED:20250924T225643Z
UID:10003287-1751706000-1751724000@cutstonefoods.com
SUMMARY:Engine 4 at Kenosha Harbor Market
DESCRIPTION:Cut Stone is Joining the Kenosha Harbor Market!!!\n\nJoin us for our food truck pizza menu PLUS breakfast items that will ONLY be available at Harbor Market.\nYou can find us along 56th Street (we’re a big red fire truck\, I think you’ll see us)
URL:https://cutstonefoods.com/event/engine-4-at-kenosha-harbor-market/2025-07-05/
LOCATION:Kenosha Harbor Market\, 2nd Ave &\, 56th St\, Kenosha\, WI\, 53140\, United States
CATEGORIES:Food Truck Service
ATTACH;FMTTYPE=image/png:https://cutstonefoods.com/wp-content/uploads/2025/05/Untitled-design-15.png
END:VEVENT
BEGIN:VEVENT
DTSTART;TZID=America/Chicago:20250704T120000
DTEND;TZID=America/Chicago:20250704T160000
DTSTAMP:20260424T094845
CREATED:20250618T220636Z
LAST-MODIFIED:20250618T220636Z
UID:10003386-1751630400-1751644800@cutstonefoods.com
SUMMARY:Somers Fourth of July Parade
DESCRIPTION:Join us at the Village of Somers spectaculular Fourth of July Parade!!!
URL:https://cutstonefoods.com/event/somers-fourth-of-july-parade/
LOCATION:Somers Village Hall\, 7511-12th Street\, Somers\, 53171\, United States
CATEGORIES:Food Truck Service
ATTACH;FMTTYPE=image/png:https://cutstonefoods.com/wp-content/uploads/2025/06/Untitled-design-17.png
END:VEVENT
BEGIN:VEVENT
DTSTART;TZID=America/Chicago:20250703T163000
DTEND;TZID=America/Chicago:20250703T210000
DTSTAMP:20260424T094845
CREATED:20250403T005645Z
LAST-MODIFIED:20251007T225538Z
UID:10002150-1751560200-1751576400@cutstonefoods.com
SUMMARY:Full Menu Indoor Dining
DESCRIPTION:Experience the full Cut Stone pizza menu and wine list. \nOur indoor dining room offers us more space to create a larger variety of incredible neapolitan style pizzas as well as a full bar menu.
URL:https://cutstonefoods.com/event/full-menu-indoor-dining-5-2-2/2025-07-03/
LOCATION:Cut Stone Foods\, 5925 6th Avenue A\, Kenosha\, WI\, 53140\, United States
CATEGORIES:Full Menu Indoor Dining
ATTACH;FMTTYPE=image/jpeg:https://cutstonefoods.com/wp-content/uploads/2023/02/20221028_160958.jpg
END:VEVENT
BEGIN:VEVENT
DTSTART;TZID=America/Chicago:20250702T163000
DTEND;TZID=America/Chicago:20250702T210000
DTSTAMP:20260424T094845
CREATED:20250403T005645Z
LAST-MODIFIED:20251007T225538Z
UID:10002149-1751473800-1751490000@cutstonefoods.com
SUMMARY:Full Menu Indoor Dining
DESCRIPTION:Experience the full Cut Stone pizza menu and wine list. \nOur indoor dining room offers us more space to create a larger variety of incredible neapolitan style pizzas as well as a full bar menu.
URL:https://cutstonefoods.com/event/full-menu-indoor-dining-5-2-2/2025-07-02/
LOCATION:Cut Stone Foods\, 5925 6th Avenue A\, Kenosha\, WI\, 53140\, United States
CATEGORIES:Full Menu Indoor Dining
ATTACH;FMTTYPE=image/jpeg:https://cutstonefoods.com/wp-content/uploads/2023/02/20221028_160958.jpg
END:VEVENT
BEGIN:VEVENT
DTSTART;TZID=America/Chicago:20250701T170000
DTEND;TZID=America/Chicago:20250701T210000
DTSTAMP:20260424T094845
CREATED:20250224T174503Z
LAST-MODIFIED:20250225T173436Z
UID:10003254-1751389200-1751403600@cutstonefoods.com
SUMMARY:Engine 4 at "Music at Twilight"
DESCRIPTION:Cut Stone is proud to announce we will be a vendor at the spectacular lakeside concert series “Music at Twilight” at The Anderson Arts Center. \nJune 3 – Indigo Canyon\nJune 17- Gary Ward – Frank Sinatra Tribute\nJuly 1- Ivy Ford\nJuly 15 – Empty Bottle Boys and One Shot Jane\nJuly 29 – Peacetree Allstars\nAug. 12- Funk Brotherz\nAug. 26- Georgia Rae Family Band
URL:https://cutstonefoods.com/event/engine-4-at-music-at-twilight/2025-07-01/
LOCATION:Kemper Center\, 6501 3rd Ave\, Kenosha\, WI\, 53143\, United States
CATEGORIES:Food Truck Service
ATTACH;FMTTYPE=image/png:https://cutstonefoods.com/wp-content/uploads/2025/02/connect.png
END:VEVENT
BEGIN:VEVENT
DTSTART;TZID=America/Chicago:20250628T110000
DTEND;TZID=America/Chicago:20250628T190000
DTSTAMP:20260424T094845
CREATED:20250331T212951Z
LAST-MODIFIED:20250627T183228Z
UID:10003267-1751108400-1751137200@cutstonefoods.com
SUMMARY:Engine 4 at KPD Community Day
DESCRIPTION:We’re teaming up with the Kenosha Police Department for the coolest Community Day ever! \nJoin us at Indian Trail High School for Bounce Houses\, Touch a Truck\, K9 Demos and more!!! \nFinish the night off with a screening of Dog Man. The cop that’s half dog\, half man! \n*BONUS* It’s National Food Truck Day!!!!!\nJoin us and other awesome local trucks and celebrate food trucks AND build community at THE SAME TIME!!!!
URL:https://cutstonefoods.com/event/engine-4-at-kpd-community-day/
LOCATION:Tremper High School\, 8560 26th Ave\,\, Kenosha\, United States
CATEGORIES:Food Truck Service
ATTACH;FMTTYPE=image/png:https://cutstonefoods.com/wp-content/uploads/2025/03/Untitled-design-11.png
END:VEVENT
BEGIN:VEVENT
DTSTART;TZID=America/Chicago:20250627T163000
DTEND;TZID=America/Chicago:20250627T210000
DTSTAMP:20260424T094845
CREATED:20250403T005645Z
LAST-MODIFIED:20251007T225538Z
UID:10002148-1751041800-1751058000@cutstonefoods.com
SUMMARY:Full Menu Indoor Dining
DESCRIPTION:Experience the full Cut Stone pizza menu and wine list. \nOur indoor dining room offers us more space to create a larger variety of incredible neapolitan style pizzas as well as a full bar menu.
URL:https://cutstonefoods.com/event/full-menu-indoor-dining-5-2-2/2025-06-27/
LOCATION:Cut Stone Foods\, 5925 6th Avenue A\, Kenosha\, WI\, 53140\, United States
CATEGORIES:Full Menu Indoor Dining
ATTACH;FMTTYPE=image/jpeg:https://cutstonefoods.com/wp-content/uploads/2023/02/20221028_160958.jpg
END:VEVENT
BEGIN:VEVENT
DTSTART;TZID=America/Chicago:20250626T163000
DTEND;TZID=America/Chicago:20250626T210000
DTSTAMP:20260424T094845
CREATED:20250403T005645Z
LAST-MODIFIED:20251007T225538Z
UID:10002147-1750955400-1750971600@cutstonefoods.com
SUMMARY:Full Menu Indoor Dining
DESCRIPTION:Experience the full Cut Stone pizza menu and wine list. \nOur indoor dining room offers us more space to create a larger variety of incredible neapolitan style pizzas as well as a full bar menu.
URL:https://cutstonefoods.com/event/full-menu-indoor-dining-5-2-2/2025-06-26/
LOCATION:Cut Stone Foods\, 5925 6th Avenue A\, Kenosha\, WI\, 53140\, United States
CATEGORIES:Full Menu Indoor Dining
ATTACH;FMTTYPE=image/jpeg:https://cutstonefoods.com/wp-content/uploads/2023/02/20221028_160958.jpg
END:VEVENT
BEGIN:VEVENT
DTSTART;TZID=America/Chicago:20250625T163000
DTEND;TZID=America/Chicago:20250625T210000
DTSTAMP:20260424T094845
CREATED:20250403T005645Z
LAST-MODIFIED:20251007T225538Z
UID:10002146-1750869000-1750885200@cutstonefoods.com
SUMMARY:Full Menu Indoor Dining
DESCRIPTION:Experience the full Cut Stone pizza menu and wine list. \nOur indoor dining room offers us more space to create a larger variety of incredible neapolitan style pizzas as well as a full bar menu.
URL:https://cutstonefoods.com/event/full-menu-indoor-dining-5-2-2/2025-06-25/
LOCATION:Cut Stone Foods\, 5925 6th Avenue A\, Kenosha\, WI\, 53140\, United States
CATEGORIES:Full Menu Indoor Dining
ATTACH;FMTTYPE=image/jpeg:https://cutstonefoods.com/wp-content/uploads/2023/02/20221028_160958.jpg
END:VEVENT
BEGIN:VEVENT
DTSTART;TZID=America/Chicago:20250625T110000
DTEND;TZID=America/Chicago:20250625T140000
DTSTAMP:20260424T094845
CREATED:20250225T172738Z
LAST-MODIFIED:20250225T192647Z
UID:10003264-1750849200-1750860000@cutstonefoods.com
SUMMARY:Civic Lunch at Kenosha County Admin Building
DESCRIPTION:Engine 4 is serving lunch at the Kenosha County Administration Building in the Kenosha Civic Center on the last Wednesday of every month!\n\nThis event is hosted by Kenosha County and is open to the public.\n\nCome grab a pizza and take it to the park for a picnic\, or bring lunch back to the office!
URL:https://cutstonefoods.com/event/civic-lunch-at-kenosha-county-admin-building-2/2025-06-25/
LOCATION:Kenosha County Admin Building\, 1010 56th Street\, Kenosha\, WI\, 53140\, United States
CATEGORIES:Food Truck Service
ATTACH;FMTTYPE=image/png:https://cutstonefoods.com/wp-content/uploads/2025/02/time-1.png
END:VEVENT
BEGIN:VEVENT
DTSTART;TZID=America/Chicago:20250621T090000
DTEND;TZID=America/Chicago:20250621T140000
DTSTAMP:20260424T094845
CREATED:20250530T182011Z
LAST-MODIFIED:20250924T225643Z
UID:10003286-1750496400-1750514400@cutstonefoods.com
SUMMARY:Engine 4 at Kenosha Harbor Market
DESCRIPTION:Cut Stone is Joining the Kenosha Harbor Market!!!\n\nJoin us for our food truck pizza menu PLUS breakfast items that will ONLY be available at Harbor Market.\nYou can find us along 56th Street (we’re a big red fire truck\, I think you’ll see us)
URL:https://cutstonefoods.com/event/engine-4-at-kenosha-harbor-market/2025-06-21/
LOCATION:Kenosha Harbor Market\, 2nd Ave &\, 56th St\, Kenosha\, WI\, 53140\, United States
CATEGORIES:Food Truck Service
ATTACH;FMTTYPE=image/png:https://cutstonefoods.com/wp-content/uploads/2025/05/Untitled-design-15.png
END:VEVENT
BEGIN:VEVENT
DTSTART;TZID=America/Chicago:20250620T163000
DTEND;TZID=America/Chicago:20250620T210000
DTSTAMP:20260424T094845
CREATED:20250403T005645Z
LAST-MODIFIED:20251007T225538Z
UID:10002145-1750437000-1750453200@cutstonefoods.com
SUMMARY:Full Menu Indoor Dining
DESCRIPTION:Experience the full Cut Stone pizza menu and wine list. \nOur indoor dining room offers us more space to create a larger variety of incredible neapolitan style pizzas as well as a full bar menu.
URL:https://cutstonefoods.com/event/full-menu-indoor-dining-5-2-2/2025-06-20/
LOCATION:Cut Stone Foods\, 5925 6th Avenue A\, Kenosha\, WI\, 53140\, United States
CATEGORIES:Full Menu Indoor Dining
ATTACH;FMTTYPE=image/jpeg:https://cutstonefoods.com/wp-content/uploads/2023/02/20221028_160958.jpg
END:VEVENT
BEGIN:VEVENT
DTSTART;TZID=America/Chicago:20250619T163000
DTEND;TZID=America/Chicago:20250619T210000
DTSTAMP:20260424T094845
CREATED:20250403T005645Z
LAST-MODIFIED:20251007T225538Z
UID:10002144-1750350600-1750366800@cutstonefoods.com
SUMMARY:Full Menu Indoor Dining
DESCRIPTION:Experience the full Cut Stone pizza menu and wine list. \nOur indoor dining room offers us more space to create a larger variety of incredible neapolitan style pizzas as well as a full bar menu.
URL:https://cutstonefoods.com/event/full-menu-indoor-dining-5-2-2/2025-06-19/
LOCATION:Cut Stone Foods\, 5925 6th Avenue A\, Kenosha\, WI\, 53140\, United States
CATEGORIES:Full Menu Indoor Dining
ATTACH;FMTTYPE=image/jpeg:https://cutstonefoods.com/wp-content/uploads/2023/02/20221028_160958.jpg
END:VEVENT
BEGIN:VEVENT
DTSTART;TZID=America/Chicago:20250618T163000
DTEND;TZID=America/Chicago:20250618T210000
DTSTAMP:20260424T094845
CREATED:20250403T005645Z
LAST-MODIFIED:20251007T225538Z
UID:10002143-1750264200-1750280400@cutstonefoods.com
SUMMARY:Full Menu Indoor Dining
DESCRIPTION:Experience the full Cut Stone pizza menu and wine list. \nOur indoor dining room offers us more space to create a larger variety of incredible neapolitan style pizzas as well as a full bar menu.
URL:https://cutstonefoods.com/event/full-menu-indoor-dining-5-2-2/2025-06-18/
LOCATION:Cut Stone Foods\, 5925 6th Avenue A\, Kenosha\, WI\, 53140\, United States
CATEGORIES:Full Menu Indoor Dining
ATTACH;FMTTYPE=image/jpeg:https://cutstonefoods.com/wp-content/uploads/2023/02/20221028_160958.jpg
END:VEVENT
BEGIN:VEVENT
DTSTART;TZID=America/Chicago:20250617T170000
DTEND;TZID=America/Chicago:20250617T210000
DTSTAMP:20260424T094845
CREATED:20250224T174503Z
LAST-MODIFIED:20250225T173436Z
UID:10003253-1750179600-1750194000@cutstonefoods.com
SUMMARY:Engine 4 at "Music at Twilight"
DESCRIPTION:Cut Stone is proud to announce we will be a vendor at the spectacular lakeside concert series “Music at Twilight” at The Anderson Arts Center. \nJune 3 – Indigo Canyon\nJune 17- Gary Ward – Frank Sinatra Tribute\nJuly 1- Ivy Ford\nJuly 15 – Empty Bottle Boys and One Shot Jane\nJuly 29 – Peacetree Allstars\nAug. 12- Funk Brotherz\nAug. 26- Georgia Rae Family Band
URL:https://cutstonefoods.com/event/engine-4-at-music-at-twilight/2025-06-17/
LOCATION:Kemper Center\, 6501 3rd Ave\, Kenosha\, WI\, 53143\, United States
CATEGORIES:Food Truck Service
ATTACH;FMTTYPE=image/png:https://cutstonefoods.com/wp-content/uploads/2025/02/connect.png
END:VEVENT
BEGIN:VEVENT
DTSTART;TZID=America/Chicago:20250614T090000
DTEND;TZID=America/Chicago:20250614T140000
DTSTAMP:20260424T094845
CREATED:20250530T182011Z
LAST-MODIFIED:20250924T225643Z
UID:10003285-1749891600-1749909600@cutstonefoods.com
SUMMARY:Engine 4 at Kenosha Harbor Market
DESCRIPTION:Cut Stone is Joining the Kenosha Harbor Market!!!\n\nJoin us for our food truck pizza menu PLUS breakfast items that will ONLY be available at Harbor Market.\nYou can find us along 56th Street (we’re a big red fire truck\, I think you’ll see us)
URL:https://cutstonefoods.com/event/engine-4-at-kenosha-harbor-market/2025-06-14/
LOCATION:Kenosha Harbor Market\, 2nd Ave &\, 56th St\, Kenosha\, WI\, 53140\, United States
CATEGORIES:Food Truck Service
ATTACH;FMTTYPE=image/png:https://cutstonefoods.com/wp-content/uploads/2025/05/Untitled-design-15.png
END:VEVENT
BEGIN:VEVENT
DTSTART;TZID=America/Chicago:20250613T163000
DTEND;TZID=America/Chicago:20250613T210000
DTSTAMP:20260424T094845
CREATED:20250403T005645Z
LAST-MODIFIED:20251007T225538Z
UID:10002142-1749832200-1749848400@cutstonefoods.com
SUMMARY:Full Menu Indoor Dining
DESCRIPTION:Experience the full Cut Stone pizza menu and wine list. \nOur indoor dining room offers us more space to create a larger variety of incredible neapolitan style pizzas as well as a full bar menu.
URL:https://cutstonefoods.com/event/full-menu-indoor-dining-5-2-2/2025-06-13/
LOCATION:Cut Stone Foods\, 5925 6th Avenue A\, Kenosha\, WI\, 53140\, United States
CATEGORIES:Full Menu Indoor Dining
ATTACH;FMTTYPE=image/jpeg:https://cutstonefoods.com/wp-content/uploads/2023/02/20221028_160958.jpg
END:VEVENT
BEGIN:VEVENT
DTSTART;TZID=America/Chicago:20250612T163000
DTEND;TZID=America/Chicago:20250612T210000
DTSTAMP:20260424T094845
CREATED:20250403T005645Z
LAST-MODIFIED:20251007T225538Z
UID:10002141-1749745800-1749762000@cutstonefoods.com
SUMMARY:Full Menu Indoor Dining
DESCRIPTION:Experience the full Cut Stone pizza menu and wine list. \nOur indoor dining room offers us more space to create a larger variety of incredible neapolitan style pizzas as well as a full bar menu.
URL:https://cutstonefoods.com/event/full-menu-indoor-dining-5-2-2/2025-06-12/
LOCATION:Cut Stone Foods\, 5925 6th Avenue A\, Kenosha\, WI\, 53140\, United States
CATEGORIES:Full Menu Indoor Dining
ATTACH;FMTTYPE=image/jpeg:https://cutstonefoods.com/wp-content/uploads/2023/02/20221028_160958.jpg
END:VEVENT
BEGIN:VEVENT
DTSTART;TZID=America/Chicago:20250611T163000
DTEND;TZID=America/Chicago:20250611T210000
DTSTAMP:20260424T094845
CREATED:20250403T005645Z
LAST-MODIFIED:20251007T225538Z
UID:10002140-1749659400-1749675600@cutstonefoods.com
SUMMARY:Full Menu Indoor Dining
DESCRIPTION:Experience the full Cut Stone pizza menu and wine list. \nOur indoor dining room offers us more space to create a larger variety of incredible neapolitan style pizzas as well as a full bar menu.
URL:https://cutstonefoods.com/event/full-menu-indoor-dining-5-2-2/2025-06-11/
LOCATION:Cut Stone Foods\, 5925 6th Avenue A\, Kenosha\, WI\, 53140\, United States
CATEGORIES:Full Menu Indoor Dining
ATTACH;FMTTYPE=image/jpeg:https://cutstonefoods.com/wp-content/uploads/2023/02/20221028_160958.jpg
END:VEVENT
BEGIN:VEVENT
DTSTART;TZID=America/Chicago:20250607T170000
DTEND;TZID=America/Chicago:20250607T213000
DTSTAMP:20260424T094845
CREATED:20250531T181656Z
LAST-MODIFIED:20250531T181656Z
UID:10003352-1749315600-1749331800@cutstonefoods.com
SUMMARY:Little Shop of Horrors Food Truck Pop Up
DESCRIPTION:Since we’re closed Saturday nights but we still want to be a part of the amazing Little Shop of Horrors event on our street… We’re bringing out the Engine 4 Food Truck!!!\nWe’ll be serving our food truck menu with plenty of outdoor seating that includes being able to hear the peformance and limited visibility of the events that take place on our side of the street!\nOur dining room and bar will be open. But our menu will be limited to the food truck menu.
URL:https://cutstonefoods.com/event/little-shop-of-horrors-food-truck-pop-up/
LOCATION:Cut Stone Foods\, 5925 6th Avenue A\, Kenosha\, WI\, 53140\, United States
CATEGORIES:Food Truck Service,Special Event
ATTACH;FMTTYPE=image/png:https://cutstonefoods.com/wp-content/uploads/2025/05/Heading-10.png
END:VEVENT
BEGIN:VEVENT
DTSTART;TZID=America/Chicago:20250607T090000
DTEND;TZID=America/Chicago:20250607T140000
DTSTAMP:20260424T094845
CREATED:20250530T182011Z
LAST-MODIFIED:20250924T225643Z
UID:10003284-1749286800-1749304800@cutstonefoods.com
SUMMARY:Engine 4 at Kenosha Harbor Market
DESCRIPTION:Cut Stone is Joining the Kenosha Harbor Market!!!\n\nJoin us for our food truck pizza menu PLUS breakfast items that will ONLY be available at Harbor Market.\nYou can find us along 56th Street (we’re a big red fire truck\, I think you’ll see us)
URL:https://cutstonefoods.com/event/engine-4-at-kenosha-harbor-market/2025-06-07/
LOCATION:Kenosha Harbor Market\, 2nd Ave &\, 56th St\, Kenosha\, WI\, 53140\, United States
CATEGORIES:Food Truck Service
ATTACH;FMTTYPE=image/png:https://cutstonefoods.com/wp-content/uploads/2025/05/Untitled-design-15.png
END:VEVENT
END:VCALENDAR