BEGIN:VCALENDAR
VERSION:2.0
PRODID:-//Cut Stone - ECPv6.15.20//NONSGML v1.0//EN
CALSCALE:GREGORIAN
METHOD:PUBLISH
X-WR-CALNAME:Cut Stone
X-ORIGINAL-URL:https://cutstonefoods.com
X-WR-CALDESC:Events for Cut Stone
REFRESH-INTERVAL;VALUE=DURATION:PT1H
X-Robots-Tag:noindex
X-PUBLISHED-TTL:PT1H
BEGIN:VTIMEZONE
TZID:America/Chicago
BEGIN:DAYLIGHT
TZOFFSETFROM:-0600
TZOFFSETTO:-0500
TZNAME:CDT
DTSTART:20220313T080000
END:DAYLIGHT
BEGIN:STANDARD
TZOFFSETFROM:-0500
TZOFFSETTO:-0600
TZNAME:CST
DTSTART:20221106T070000
END:STANDARD
BEGIN:DAYLIGHT
TZOFFSETFROM:-0600
TZOFFSETTO:-0500
TZNAME:CDT
DTSTART:20230312T080000
END:DAYLIGHT
BEGIN:STANDARD
TZOFFSETFROM:-0500
TZOFFSETTO:-0600
TZNAME:CST
DTSTART:20231105T070000
END:STANDARD
BEGIN:DAYLIGHT
TZOFFSETFROM:-0600
TZOFFSETTO:-0500
TZNAME:CDT
DTSTART:20240310T080000
END:DAYLIGHT
BEGIN:STANDARD
TZOFFSETFROM:-0500
TZOFFSETTO:-0600
TZNAME:CST
DTSTART:20241103T070000
END:STANDARD
BEGIN:DAYLIGHT
TZOFFSETFROM:-0600
TZOFFSETTO:-0500
TZNAME:CDT
DTSTART:20250309T080000
END:DAYLIGHT
BEGIN:STANDARD
TZOFFSETFROM:-0500
TZOFFSETTO:-0600
TZNAME:CST
DTSTART:20251102T070000
END:STANDARD
END:VTIMEZONE
BEGIN:VEVENT
DTSTART;TZID=America/Chicago:20231017T163000
DTEND;TZID=America/Chicago:20231017T210000
DTSTAMP:20260425T053835
CREATED:20230830T182522Z
LAST-MODIFIED:20230830T183845Z
UID:10001263-1697560200-1697576400@cutstonefoods.com
SUMMARY:Full Menu Indoor Dining
DESCRIPTION:Experience the full Cut Stone pizza menu and wine list. \nOur indoor dining room offers us more space to create a larger variety of incredible neapolitan style pizzas as well as a full bar menu.
URL:https://cutstonefoods.com/event/full-menu-indoor-dining-4/2023-10-17/
LOCATION:Cut Stone Foods\, 5925 6th Avenue A\, Kenosha\, WI\, 53140\, United States
CATEGORIES:Full Menu Indoor Dining
ATTACH;FMTTYPE=image/jpeg:https://cutstonefoods.com/wp-content/uploads/2023/02/20221028_160958.jpg
END:VEVENT
BEGIN:VEVENT
DTSTART;TZID=America/Chicago:20231019T163000
DTEND;TZID=America/Chicago:20231019T210000
DTSTAMP:20260425T053835
CREATED:20230830T182522Z
LAST-MODIFIED:20230830T183845Z
UID:10000726-1697733000-1697749200@cutstonefoods.com
SUMMARY:Full Menu Indoor Dining
DESCRIPTION:Experience the full Cut Stone pizza menu and wine list. \nOur indoor dining room offers us more space to create a larger variety of incredible neapolitan style pizzas as well as a full bar menu.
URL:https://cutstonefoods.com/event/full-menu-indoor-dining-4/2023-10-19/
LOCATION:Cut Stone Foods\, 5925 6th Avenue A\, Kenosha\, WI\, 53140\, United States
CATEGORIES:Full Menu Indoor Dining
ATTACH;FMTTYPE=image/jpeg:https://cutstonefoods.com/wp-content/uploads/2023/02/20221028_160958.jpg
END:VEVENT
BEGIN:VEVENT
DTSTART;TZID=America/Chicago:20231019T163000
DTEND;TZID=America/Chicago:20231019T210000
DTSTAMP:20260425T053835
CREATED:20230430T185328Z
LAST-MODIFIED:20230830T183836Z
UID:10003498-1697733000-1697749200@cutstonefoods.com
SUMMARY:Full Menu Indoor Dining
DESCRIPTION:Experience the full Cut Stone pizza menu and wine list. \nOur indoor dining room offers us more space to create a larger variety of incredible neapolitan style pizzas as well as a full bar menu.
URL:https://cutstonefoods.com/event/full-menu-indoor-dining-3/2023-10-19/
LOCATION:Cut Stone Foods\, 5925 6th Avenue A\, Kenosha\, WI\, 53140\, United States
CATEGORIES:Full Menu Indoor Dining
ATTACH;FMTTYPE=image/jpeg:https://cutstonefoods.com/wp-content/uploads/2023/02/20221028_160958.jpg
END:VEVENT
BEGIN:VEVENT
DTSTART;TZID=America/Chicago:20231020T163000
DTEND;TZID=America/Chicago:20231020T210000
DTSTAMP:20260425T053835
CREATED:20230830T182522Z
LAST-MODIFIED:20230830T183845Z
UID:10000727-1697819400-1697835600@cutstonefoods.com
SUMMARY:Full Menu Indoor Dining
DESCRIPTION:Experience the full Cut Stone pizza menu and wine list. \nOur indoor dining room offers us more space to create a larger variety of incredible neapolitan style pizzas as well as a full bar menu.
URL:https://cutstonefoods.com/event/full-menu-indoor-dining-4/2023-10-20/
LOCATION:Cut Stone Foods\, 5925 6th Avenue A\, Kenosha\, WI\, 53140\, United States
CATEGORIES:Full Menu Indoor Dining
ATTACH;FMTTYPE=image/jpeg:https://cutstonefoods.com/wp-content/uploads/2023/02/20221028_160958.jpg
END:VEVENT
BEGIN:VEVENT
DTSTART;TZID=America/Chicago:20231020T163000
DTEND;TZID=America/Chicago:20231020T210000
DTSTAMP:20260425T053835
CREATED:20230430T185328Z
LAST-MODIFIED:20230830T183836Z
UID:10003499-1697819400-1697835600@cutstonefoods.com
SUMMARY:Full Menu Indoor Dining
DESCRIPTION:Experience the full Cut Stone pizza menu and wine list. \nOur indoor dining room offers us more space to create a larger variety of incredible neapolitan style pizzas as well as a full bar menu.
URL:https://cutstonefoods.com/event/full-menu-indoor-dining-3/2023-10-20/
LOCATION:Cut Stone Foods\, 5925 6th Avenue A\, Kenosha\, WI\, 53140\, United States
CATEGORIES:Full Menu Indoor Dining
ATTACH;FMTTYPE=image/jpeg:https://cutstonefoods.com/wp-content/uploads/2023/02/20221028_160958.jpg
END:VEVENT
BEGIN:VEVENT
DTSTART;TZID=America/Chicago:20231024T163000
DTEND;TZID=America/Chicago:20231024T210000
DTSTAMP:20260425T053835
CREATED:20230830T182522Z
LAST-MODIFIED:20230830T183845Z
UID:10001264-1698165000-1698181200@cutstonefoods.com
SUMMARY:Full Menu Indoor Dining
DESCRIPTION:Experience the full Cut Stone pizza menu and wine list. \nOur indoor dining room offers us more space to create a larger variety of incredible neapolitan style pizzas as well as a full bar menu.
URL:https://cutstonefoods.com/event/full-menu-indoor-dining-4/2023-10-24/
LOCATION:Cut Stone Foods\, 5925 6th Avenue A\, Kenosha\, WI\, 53140\, United States
CATEGORIES:Full Menu Indoor Dining
ATTACH;FMTTYPE=image/jpeg:https://cutstonefoods.com/wp-content/uploads/2023/02/20221028_160958.jpg
END:VEVENT
BEGIN:VEVENT
DTSTART;TZID=America/Chicago:20231026T163000
DTEND;TZID=America/Chicago:20231026T210000
DTSTAMP:20260425T053835
CREATED:20230830T182522Z
LAST-MODIFIED:20230830T183845Z
UID:10000728-1698337800-1698354000@cutstonefoods.com
SUMMARY:Full Menu Indoor Dining
DESCRIPTION:Experience the full Cut Stone pizza menu and wine list. \nOur indoor dining room offers us more space to create a larger variety of incredible neapolitan style pizzas as well as a full bar menu.
URL:https://cutstonefoods.com/event/full-menu-indoor-dining-4/2023-10-26/
LOCATION:Cut Stone Foods\, 5925 6th Avenue A\, Kenosha\, WI\, 53140\, United States
CATEGORIES:Full Menu Indoor Dining
ATTACH;FMTTYPE=image/jpeg:https://cutstonefoods.com/wp-content/uploads/2023/02/20221028_160958.jpg
END:VEVENT
BEGIN:VEVENT
DTSTART;TZID=America/Chicago:20231026T163000
DTEND;TZID=America/Chicago:20231026T210000
DTSTAMP:20260425T053835
CREATED:20230430T185328Z
LAST-MODIFIED:20230830T183836Z
UID:10003500-1698337800-1698354000@cutstonefoods.com
SUMMARY:Full Menu Indoor Dining
DESCRIPTION:Experience the full Cut Stone pizza menu and wine list. \nOur indoor dining room offers us more space to create a larger variety of incredible neapolitan style pizzas as well as a full bar menu.
URL:https://cutstonefoods.com/event/full-menu-indoor-dining-3/2023-10-26/
LOCATION:Cut Stone Foods\, 5925 6th Avenue A\, Kenosha\, WI\, 53140\, United States
CATEGORIES:Full Menu Indoor Dining
ATTACH;FMTTYPE=image/jpeg:https://cutstonefoods.com/wp-content/uploads/2023/02/20221028_160958.jpg
END:VEVENT
BEGIN:VEVENT
DTSTART;TZID=America/Chicago:20231027T163000
DTEND;TZID=America/Chicago:20231027T210000
DTSTAMP:20260425T053835
CREATED:20230830T182522Z
LAST-MODIFIED:20230830T183845Z
UID:10000729-1698424200-1698440400@cutstonefoods.com
SUMMARY:Full Menu Indoor Dining
DESCRIPTION:Experience the full Cut Stone pizza menu and wine list. \nOur indoor dining room offers us more space to create a larger variety of incredible neapolitan style pizzas as well as a full bar menu.
URL:https://cutstonefoods.com/event/full-menu-indoor-dining-4/2023-10-27/
LOCATION:Cut Stone Foods\, 5925 6th Avenue A\, Kenosha\, WI\, 53140\, United States
CATEGORIES:Full Menu Indoor Dining
ATTACH;FMTTYPE=image/jpeg:https://cutstonefoods.com/wp-content/uploads/2023/02/20221028_160958.jpg
END:VEVENT
BEGIN:VEVENT
DTSTART;TZID=America/Chicago:20231027T163000
DTEND;TZID=America/Chicago:20231027T210000
DTSTAMP:20260425T053835
CREATED:20230430T185328Z
LAST-MODIFIED:20230830T183836Z
UID:10003501-1698424200-1698440400@cutstonefoods.com
SUMMARY:Full Menu Indoor Dining
DESCRIPTION:Experience the full Cut Stone pizza menu and wine list. \nOur indoor dining room offers us more space to create a larger variety of incredible neapolitan style pizzas as well as a full bar menu.
URL:https://cutstonefoods.com/event/full-menu-indoor-dining-3/2023-10-27/
LOCATION:Cut Stone Foods\, 5925 6th Avenue A\, Kenosha\, WI\, 53140\, United States
CATEGORIES:Full Menu Indoor Dining
ATTACH;FMTTYPE=image/jpeg:https://cutstonefoods.com/wp-content/uploads/2023/02/20221028_160958.jpg
END:VEVENT
BEGIN:VEVENT
DTSTART;TZID=America/Chicago:20231102T163000
DTEND;TZID=America/Chicago:20231102T210000
DTSTAMP:20260425T053835
CREATED:20230430T185328Z
LAST-MODIFIED:20230830T183836Z
UID:10003502-1698942600-1698958800@cutstonefoods.com
SUMMARY:Full Menu Indoor Dining
DESCRIPTION:Experience the full Cut Stone pizza menu and wine list. \nOur indoor dining room offers us more space to create a larger variety of incredible neapolitan style pizzas as well as a full bar menu.
URL:https://cutstonefoods.com/event/full-menu-indoor-dining-3/2023-11-02/
LOCATION:Cut Stone Foods\, 5925 6th Avenue A\, Kenosha\, WI\, 53140\, United States
CATEGORIES:Full Menu Indoor Dining
ATTACH;FMTTYPE=image/jpeg:https://cutstonefoods.com/wp-content/uploads/2023/02/20221028_160958.jpg
END:VEVENT
BEGIN:VEVENT
DTSTART;TZID=America/Chicago:20231103T163000
DTEND;TZID=America/Chicago:20231103T210000
DTSTAMP:20260425T053835
CREATED:20230430T185328Z
LAST-MODIFIED:20230830T183836Z
UID:10003503-1699029000-1699045200@cutstonefoods.com
SUMMARY:Full Menu Indoor Dining
DESCRIPTION:Experience the full Cut Stone pizza menu and wine list. \nOur indoor dining room offers us more space to create a larger variety of incredible neapolitan style pizzas as well as a full bar menu.
URL:https://cutstonefoods.com/event/full-menu-indoor-dining-3/2023-11-03/
LOCATION:Cut Stone Foods\, 5925 6th Avenue A\, Kenosha\, WI\, 53140\, United States
CATEGORIES:Full Menu Indoor Dining
ATTACH;FMTTYPE=image/jpeg:https://cutstonefoods.com/wp-content/uploads/2023/02/20221028_160958.jpg
END:VEVENT
BEGIN:VEVENT
DTSTART;TZID=America/Chicago:20231109T163000
DTEND;TZID=America/Chicago:20231109T210000
DTSTAMP:20260425T053835
CREATED:20230430T185328Z
LAST-MODIFIED:20230830T183836Z
UID:10003504-1699547400-1699563600@cutstonefoods.com
SUMMARY:Full Menu Indoor Dining
DESCRIPTION:Experience the full Cut Stone pizza menu and wine list. \nOur indoor dining room offers us more space to create a larger variety of incredible neapolitan style pizzas as well as a full bar menu.
URL:https://cutstonefoods.com/event/full-menu-indoor-dining-3/2023-11-09/
LOCATION:Cut Stone Foods\, 5925 6th Avenue A\, Kenosha\, WI\, 53140\, United States
CATEGORIES:Full Menu Indoor Dining
ATTACH;FMTTYPE=image/jpeg:https://cutstonefoods.com/wp-content/uploads/2023/02/20221028_160958.jpg
END:VEVENT
BEGIN:VEVENT
DTSTART;TZID=America/Chicago:20231110T163000
DTEND;TZID=America/Chicago:20231110T210000
DTSTAMP:20260425T053835
CREATED:20230430T185328Z
LAST-MODIFIED:20230830T183836Z
UID:10003505-1699633800-1699650000@cutstonefoods.com
SUMMARY:Full Menu Indoor Dining
DESCRIPTION:Experience the full Cut Stone pizza menu and wine list. \nOur indoor dining room offers us more space to create a larger variety of incredible neapolitan style pizzas as well as a full bar menu.
URL:https://cutstonefoods.com/event/full-menu-indoor-dining-3/2023-11-10/
LOCATION:Cut Stone Foods\, 5925 6th Avenue A\, Kenosha\, WI\, 53140\, United States
CATEGORIES:Full Menu Indoor Dining
ATTACH;FMTTYPE=image/jpeg:https://cutstonefoods.com/wp-content/uploads/2023/02/20221028_160958.jpg
END:VEVENT
BEGIN:VEVENT
DTSTART;TZID=America/Chicago:20231116T163000
DTEND;TZID=America/Chicago:20231116T210000
DTSTAMP:20260425T053835
CREATED:20230430T185328Z
LAST-MODIFIED:20230830T183836Z
UID:10003506-1700152200-1700168400@cutstonefoods.com
SUMMARY:Full Menu Indoor Dining
DESCRIPTION:Experience the full Cut Stone pizza menu and wine list. \nOur indoor dining room offers us more space to create a larger variety of incredible neapolitan style pizzas as well as a full bar menu.
URL:https://cutstonefoods.com/event/full-menu-indoor-dining-3/2023-11-16/
LOCATION:Cut Stone Foods\, 5925 6th Avenue A\, Kenosha\, WI\, 53140\, United States
CATEGORIES:Full Menu Indoor Dining
ATTACH;FMTTYPE=image/jpeg:https://cutstonefoods.com/wp-content/uploads/2023/02/20221028_160958.jpg
END:VEVENT
BEGIN:VEVENT
DTSTART;TZID=America/Chicago:20231117T163000
DTEND;TZID=America/Chicago:20231117T210000
DTSTAMP:20260425T053835
CREATED:20230430T185328Z
LAST-MODIFIED:20230830T183836Z
UID:10003507-1700238600-1700254800@cutstonefoods.com
SUMMARY:Full Menu Indoor Dining
DESCRIPTION:Experience the full Cut Stone pizza menu and wine list. \nOur indoor dining room offers us more space to create a larger variety of incredible neapolitan style pizzas as well as a full bar menu.
URL:https://cutstonefoods.com/event/full-menu-indoor-dining-3/2023-11-17/
LOCATION:Cut Stone Foods\, 5925 6th Avenue A\, Kenosha\, WI\, 53140\, United States
CATEGORIES:Full Menu Indoor Dining
ATTACH;FMTTYPE=image/jpeg:https://cutstonefoods.com/wp-content/uploads/2023/02/20221028_160958.jpg
END:VEVENT
BEGIN:VEVENT
DTSTART;TZID=America/Chicago:20231123T163000
DTEND;TZID=America/Chicago:20231123T210000
DTSTAMP:20260425T053835
CREATED:20230430T185328Z
LAST-MODIFIED:20230830T183836Z
UID:10003508-1700757000-1700773200@cutstonefoods.com
SUMMARY:Full Menu Indoor Dining
DESCRIPTION:Experience the full Cut Stone pizza menu and wine list. \nOur indoor dining room offers us more space to create a larger variety of incredible neapolitan style pizzas as well as a full bar menu.
URL:https://cutstonefoods.com/event/full-menu-indoor-dining-3/2023-11-23/
LOCATION:Cut Stone Foods\, 5925 6th Avenue A\, Kenosha\, WI\, 53140\, United States
CATEGORIES:Full Menu Indoor Dining
ATTACH;FMTTYPE=image/jpeg:https://cutstonefoods.com/wp-content/uploads/2023/02/20221028_160958.jpg
END:VEVENT
BEGIN:VEVENT
DTSTART;TZID=America/Chicago:20231124T163000
DTEND;TZID=America/Chicago:20231124T210000
DTSTAMP:20260425T053835
CREATED:20230430T185328Z
LAST-MODIFIED:20230830T183836Z
UID:10003509-1700843400-1700859600@cutstonefoods.com
SUMMARY:Full Menu Indoor Dining
DESCRIPTION:Experience the full Cut Stone pizza menu and wine list. \nOur indoor dining room offers us more space to create a larger variety of incredible neapolitan style pizzas as well as a full bar menu.
URL:https://cutstonefoods.com/event/full-menu-indoor-dining-3/2023-11-24/
LOCATION:Cut Stone Foods\, 5925 6th Avenue A\, Kenosha\, WI\, 53140\, United States
CATEGORIES:Full Menu Indoor Dining
ATTACH;FMTTYPE=image/jpeg:https://cutstonefoods.com/wp-content/uploads/2023/02/20221028_160958.jpg
END:VEVENT
BEGIN:VEVENT
DTSTART;TZID=America/Chicago:20231125T163000
DTEND;TZID=America/Chicago:20231125T210000
DTSTAMP:20260425T053835
CREATED:20231112T224939Z
LAST-MODIFIED:20231112T234919Z
UID:10001825-1700929800-1700946000@cutstonefoods.com
SUMMARY:Pizza Brunch
DESCRIPTION:Pizza Brunch is back!\n\n\nJoin us for specialty breakfast and lunch pizzas\, mimosas\, and great times with family and friends as we celebrate Small Business Saturday alongside our amazing Downtown Kenosha neighbors. \nOur full food and beverage menu will be available in addition to specialty brunch pizzas and drinks.
URL:https://cutstonefoods.com/event/pizza-brunch-2/
LOCATION:Cut Stone Foods\, 5925 6th Avenue A\, Kenosha\, WI\, 53140\, United States
CATEGORIES:Special Event
ATTACH;FMTTYPE=image/png:https://cutstonefoods.com/wp-content/uploads/2023/11/Beige-and-Brown-Thanksgiving-Celebration-Facebook-Event-Cover.png
END:VEVENT
BEGIN:VEVENT
DTSTART;TZID=America/Chicago:20231130T163000
DTEND;TZID=America/Chicago:20231130T210000
DTSTAMP:20260425T053835
CREATED:20230430T185328Z
LAST-MODIFIED:20230830T183836Z
UID:10003510-1701361800-1701378000@cutstonefoods.com
SUMMARY:Full Menu Indoor Dining
DESCRIPTION:Experience the full Cut Stone pizza menu and wine list. \nOur indoor dining room offers us more space to create a larger variety of incredible neapolitan style pizzas as well as a full bar menu.
URL:https://cutstonefoods.com/event/full-menu-indoor-dining-3/2023-11-30/
LOCATION:Cut Stone Foods\, 5925 6th Avenue A\, Kenosha\, WI\, 53140\, United States
CATEGORIES:Full Menu Indoor Dining
ATTACH;FMTTYPE=image/jpeg:https://cutstonefoods.com/wp-content/uploads/2023/02/20221028_160958.jpg
END:VEVENT
BEGIN:VEVENT
DTSTART;TZID=America/Chicago:20231201T163000
DTEND;TZID=America/Chicago:20231201T210000
DTSTAMP:20260425T053835
CREATED:20230430T185328Z
LAST-MODIFIED:20230830T183836Z
UID:10003511-1701448200-1701464400@cutstonefoods.com
SUMMARY:Full Menu Indoor Dining
DESCRIPTION:Experience the full Cut Stone pizza menu and wine list. \nOur indoor dining room offers us more space to create a larger variety of incredible neapolitan style pizzas as well as a full bar menu.
URL:https://cutstonefoods.com/event/full-menu-indoor-dining-3/2023-12-01/
LOCATION:Cut Stone Foods\, 5925 6th Avenue A\, Kenosha\, WI\, 53140\, United States
CATEGORIES:Full Menu Indoor Dining
ATTACH;FMTTYPE=image/jpeg:https://cutstonefoods.com/wp-content/uploads/2023/02/20221028_160958.jpg
END:VEVENT
BEGIN:VEVENT
DTSTART;TZID=America/Chicago:20231207T163000
DTEND;TZID=America/Chicago:20231207T210000
DTSTAMP:20260425T053835
CREATED:20230430T185328Z
LAST-MODIFIED:20230830T183836Z
UID:10003512-1701966600-1701982800@cutstonefoods.com
SUMMARY:Full Menu Indoor Dining
DESCRIPTION:Experience the full Cut Stone pizza menu and wine list. \nOur indoor dining room offers us more space to create a larger variety of incredible neapolitan style pizzas as well as a full bar menu.
URL:https://cutstonefoods.com/event/full-menu-indoor-dining-3/2023-12-07/
LOCATION:Cut Stone Foods\, 5925 6th Avenue A\, Kenosha\, WI\, 53140\, United States
CATEGORIES:Full Menu Indoor Dining
ATTACH;FMTTYPE=image/jpeg:https://cutstonefoods.com/wp-content/uploads/2023/02/20221028_160958.jpg
END:VEVENT
BEGIN:VEVENT
DTSTART;TZID=America/Chicago:20231208T163000
DTEND;TZID=America/Chicago:20231208T210000
DTSTAMP:20260425T053835
CREATED:20230430T185328Z
LAST-MODIFIED:20230830T183836Z
UID:10003513-1702053000-1702069200@cutstonefoods.com
SUMMARY:Full Menu Indoor Dining
DESCRIPTION:Experience the full Cut Stone pizza menu and wine list. \nOur indoor dining room offers us more space to create a larger variety of incredible neapolitan style pizzas as well as a full bar menu.
URL:https://cutstonefoods.com/event/full-menu-indoor-dining-3/2023-12-08/
LOCATION:Cut Stone Foods\, 5925 6th Avenue A\, Kenosha\, WI\, 53140\, United States
CATEGORIES:Full Menu Indoor Dining
ATTACH;FMTTYPE=image/jpeg:https://cutstonefoods.com/wp-content/uploads/2023/02/20221028_160958.jpg
END:VEVENT
BEGIN:VEVENT
DTSTART;TZID=America/Chicago:20231214T163000
DTEND;TZID=America/Chicago:20231214T210000
DTSTAMP:20260425T053835
CREATED:20230430T185328Z
LAST-MODIFIED:20230830T183836Z
UID:10003514-1702571400-1702587600@cutstonefoods.com
SUMMARY:Full Menu Indoor Dining
DESCRIPTION:Experience the full Cut Stone pizza menu and wine list. \nOur indoor dining room offers us more space to create a larger variety of incredible neapolitan style pizzas as well as a full bar menu.
URL:https://cutstonefoods.com/event/full-menu-indoor-dining-3/2023-12-14/
LOCATION:Cut Stone Foods\, 5925 6th Avenue A\, Kenosha\, WI\, 53140\, United States
CATEGORIES:Full Menu Indoor Dining
ATTACH;FMTTYPE=image/jpeg:https://cutstonefoods.com/wp-content/uploads/2023/02/20221028_160958.jpg
END:VEVENT
BEGIN:VEVENT
DTSTART;TZID=America/Chicago:20231215T163000
DTEND;TZID=America/Chicago:20231215T210000
DTSTAMP:20260425T053835
CREATED:20230430T185328Z
LAST-MODIFIED:20230830T183836Z
UID:10003515-1702657800-1702674000@cutstonefoods.com
SUMMARY:Full Menu Indoor Dining
DESCRIPTION:Experience the full Cut Stone pizza menu and wine list. \nOur indoor dining room offers us more space to create a larger variety of incredible neapolitan style pizzas as well as a full bar menu.
URL:https://cutstonefoods.com/event/full-menu-indoor-dining-3/2023-12-15/
LOCATION:Cut Stone Foods\, 5925 6th Avenue A\, Kenosha\, WI\, 53140\, United States
CATEGORIES:Full Menu Indoor Dining
ATTACH;FMTTYPE=image/jpeg:https://cutstonefoods.com/wp-content/uploads/2023/02/20221028_160958.jpg
END:VEVENT
BEGIN:VEVENT
DTSTART;TZID=America/Chicago:20231221T163000
DTEND;TZID=America/Chicago:20231221T210000
DTSTAMP:20260425T053835
CREATED:20230430T185328Z
LAST-MODIFIED:20230830T183836Z
UID:10003516-1703176200-1703192400@cutstonefoods.com
SUMMARY:Full Menu Indoor Dining
DESCRIPTION:Experience the full Cut Stone pizza menu and wine list. \nOur indoor dining room offers us more space to create a larger variety of incredible neapolitan style pizzas as well as a full bar menu.
URL:https://cutstonefoods.com/event/full-menu-indoor-dining-3/2023-12-21/
LOCATION:Cut Stone Foods\, 5925 6th Avenue A\, Kenosha\, WI\, 53140\, United States
CATEGORIES:Full Menu Indoor Dining
ATTACH;FMTTYPE=image/jpeg:https://cutstonefoods.com/wp-content/uploads/2023/02/20221028_160958.jpg
END:VEVENT
BEGIN:VEVENT
DTSTART;TZID=America/Chicago:20231222T163000
DTEND;TZID=America/Chicago:20231222T210000
DTSTAMP:20260425T053835
CREATED:20230430T185328Z
LAST-MODIFIED:20230830T183836Z
UID:10003517-1703262600-1703278800@cutstonefoods.com
SUMMARY:Full Menu Indoor Dining
DESCRIPTION:Experience the full Cut Stone pizza menu and wine list. \nOur indoor dining room offers us more space to create a larger variety of incredible neapolitan style pizzas as well as a full bar menu.
URL:https://cutstonefoods.com/event/full-menu-indoor-dining-3/2023-12-22/
LOCATION:Cut Stone Foods\, 5925 6th Avenue A\, Kenosha\, WI\, 53140\, United States
CATEGORIES:Full Menu Indoor Dining
ATTACH;FMTTYPE=image/jpeg:https://cutstonefoods.com/wp-content/uploads/2023/02/20221028_160958.jpg
END:VEVENT
BEGIN:VEVENT
DTSTART;TZID=America/Chicago:20231228T163000
DTEND;TZID=America/Chicago:20231228T210000
DTSTAMP:20260425T053835
CREATED:20230430T185328Z
LAST-MODIFIED:20230830T183836Z
UID:10003518-1703781000-1703797200@cutstonefoods.com
SUMMARY:Full Menu Indoor Dining
DESCRIPTION:Experience the full Cut Stone pizza menu and wine list. \nOur indoor dining room offers us more space to create a larger variety of incredible neapolitan style pizzas as well as a full bar menu.
URL:https://cutstonefoods.com/event/full-menu-indoor-dining-3/2023-12-28/
LOCATION:Cut Stone Foods\, 5925 6th Avenue A\, Kenosha\, WI\, 53140\, United States
CATEGORIES:Full Menu Indoor Dining
ATTACH;FMTTYPE=image/jpeg:https://cutstonefoods.com/wp-content/uploads/2023/02/20221028_160958.jpg
END:VEVENT
BEGIN:VEVENT
DTSTART;TZID=America/Chicago:20231229T163000
DTEND;TZID=America/Chicago:20231229T210000
DTSTAMP:20260425T053835
CREATED:20230430T185328Z
LAST-MODIFIED:20230830T183836Z
UID:10003519-1703867400-1703883600@cutstonefoods.com
SUMMARY:Full Menu Indoor Dining
DESCRIPTION:Experience the full Cut Stone pizza menu and wine list. \nOur indoor dining room offers us more space to create a larger variety of incredible neapolitan style pizzas as well as a full bar menu.
URL:https://cutstonefoods.com/event/full-menu-indoor-dining-3/2023-12-29/
LOCATION:Cut Stone Foods\, 5925 6th Avenue A\, Kenosha\, WI\, 53140\, United States
CATEGORIES:Full Menu Indoor Dining
ATTACH;FMTTYPE=image/jpeg:https://cutstonefoods.com/wp-content/uploads/2023/02/20221028_160958.jpg
END:VEVENT
BEGIN:VEVENT
DTSTART;TZID=America/Chicago:20240127T090000
DTEND;TZID=America/Chicago:20240127T140000
DTSTAMP:20260425T053835
CREATED:20240111T233307Z
LAST-MODIFIED:20240112T003056Z
UID:10001826-1706346000-1706364000@cutstonefoods.com
SUMMARY:Pizza Brunch - Snow Daze Edition
DESCRIPTION:Pizza Brunch is back!\n\nJoin us for specialty breakfast and lunch pizzas\, mimosas\, and great times with family and friends as we celebrate Snow Daze alongside our amazing Downtown Kenosha neighbors.\n\nDowntown Kenosha will be filled with custom Ice Sculptures! Bring the fam and try to see them all!\n\nWe’ll keep you warm and fed along the way!
URL:https://cutstonefoods.com/event/pizza-brunch-snow-daze-edition/
LOCATION:WI
CATEGORIES:Full Menu Indoor Dining,Special Event
ATTACH;FMTTYPE=image/png:https://cutstonefoods.com/wp-content/uploads/2024/01/pizza-9.png
END:VEVENT
END:VCALENDAR