BEGIN:VCALENDAR
VERSION:2.0
PRODID:-//Cut Stone - ECPv6.15.20//NONSGML v1.0//EN
CALSCALE:GREGORIAN
METHOD:PUBLISH
X-WR-CALNAME:Cut Stone
X-ORIGINAL-URL:https://cutstonefoods.com
X-WR-CALDESC:Events for Cut Stone
REFRESH-INTERVAL;VALUE=DURATION:PT1H
X-Robots-Tag:noindex
X-PUBLISHED-TTL:PT1H
BEGIN:VTIMEZONE
TZID:America/Chicago
BEGIN:DAYLIGHT
TZOFFSETFROM:-0600
TZOFFSETTO:-0500
TZNAME:CDT
DTSTART:20270314T080000
END:DAYLIGHT
BEGIN:STANDARD
TZOFFSETFROM:-0500
TZOFFSETTO:-0600
TZNAME:CST
DTSTART:20271107T070000
END:STANDARD
BEGIN:DAYLIGHT
TZOFFSETFROM:-0600
TZOFFSETTO:-0500
TZNAME:CDT
DTSTART:20280312T080000
END:DAYLIGHT
BEGIN:STANDARD
TZOFFSETFROM:-0500
TZOFFSETTO:-0600
TZNAME:CST
DTSTART:20281105T070000
END:STANDARD
BEGIN:DAYLIGHT
TZOFFSETFROM:-0600
TZOFFSETTO:-0500
TZNAME:CDT
DTSTART:20290311T080000
END:DAYLIGHT
BEGIN:STANDARD
TZOFFSETFROM:-0500
TZOFFSETTO:-0600
TZNAME:CST
DTSTART:20291104T070000
END:STANDARD
END:VTIMEZONE
BEGIN:VEVENT
DTSTART;TZID=America/Chicago:20281201T163000
DTEND;TZID=America/Chicago:20281201T210000
DTSTAMP:20260425T100149
CREATED:20250403T005645Z
LAST-MODIFIED:20251007T225538Z
UID:10002685-1859301000-1859317200@cutstonefoods.com
SUMMARY:Full Menu Indoor Dining
DESCRIPTION:Experience the full Cut Stone pizza menu and wine list. \nOur indoor dining room offers us more space to create a larger variety of incredible neapolitan style pizzas as well as a full bar menu.
URL:https://cutstonefoods.com/event/full-menu-indoor-dining-5-2-2/2028-12-01/
LOCATION:Cut Stone Foods\, 5925 6th Avenue A\, Kenosha\, WI\, 53140\, United States
CATEGORIES:Full Menu Indoor Dining
ATTACH;FMTTYPE=image/jpeg:https://cutstonefoods.com/wp-content/uploads/2023/02/20221028_160958.jpg
END:VEVENT
BEGIN:VEVENT
DTSTART;TZID=America/Chicago:20281206T163000
DTEND;TZID=America/Chicago:20281206T210000
DTSTAMP:20260425T100149
CREATED:20250403T005645Z
LAST-MODIFIED:20251007T225538Z
UID:10002686-1859733000-1859749200@cutstonefoods.com
SUMMARY:Full Menu Indoor Dining
DESCRIPTION:Experience the full Cut Stone pizza menu and wine list. \nOur indoor dining room offers us more space to create a larger variety of incredible neapolitan style pizzas as well as a full bar menu.
URL:https://cutstonefoods.com/event/full-menu-indoor-dining-5-2-2/2028-12-06/
LOCATION:Cut Stone Foods\, 5925 6th Avenue A\, Kenosha\, WI\, 53140\, United States
CATEGORIES:Full Menu Indoor Dining
ATTACH;FMTTYPE=image/jpeg:https://cutstonefoods.com/wp-content/uploads/2023/02/20221028_160958.jpg
END:VEVENT
BEGIN:VEVENT
DTSTART;TZID=America/Chicago:20281207T163000
DTEND;TZID=America/Chicago:20281207T210000
DTSTAMP:20260425T100149
CREATED:20250403T005645Z
LAST-MODIFIED:20251007T225538Z
UID:10002687-1859819400-1859835600@cutstonefoods.com
SUMMARY:Full Menu Indoor Dining
DESCRIPTION:Experience the full Cut Stone pizza menu and wine list. \nOur indoor dining room offers us more space to create a larger variety of incredible neapolitan style pizzas as well as a full bar menu.
URL:https://cutstonefoods.com/event/full-menu-indoor-dining-5-2-2/2028-12-07/
LOCATION:Cut Stone Foods\, 5925 6th Avenue A\, Kenosha\, WI\, 53140\, United States
CATEGORIES:Full Menu Indoor Dining
ATTACH;FMTTYPE=image/jpeg:https://cutstonefoods.com/wp-content/uploads/2023/02/20221028_160958.jpg
END:VEVENT
BEGIN:VEVENT
DTSTART;TZID=America/Chicago:20281208T163000
DTEND;TZID=America/Chicago:20281208T210000
DTSTAMP:20260425T100149
CREATED:20250403T005645Z
LAST-MODIFIED:20251007T225538Z
UID:10002688-1859905800-1859922000@cutstonefoods.com
SUMMARY:Full Menu Indoor Dining
DESCRIPTION:Experience the full Cut Stone pizza menu and wine list. \nOur indoor dining room offers us more space to create a larger variety of incredible neapolitan style pizzas as well as a full bar menu.
URL:https://cutstonefoods.com/event/full-menu-indoor-dining-5-2-2/2028-12-08/
LOCATION:Cut Stone Foods\, 5925 6th Avenue A\, Kenosha\, WI\, 53140\, United States
CATEGORIES:Full Menu Indoor Dining
ATTACH;FMTTYPE=image/jpeg:https://cutstonefoods.com/wp-content/uploads/2023/02/20221028_160958.jpg
END:VEVENT
BEGIN:VEVENT
DTSTART;TZID=America/Chicago:20281213T163000
DTEND;TZID=America/Chicago:20281213T210000
DTSTAMP:20260425T100149
CREATED:20250403T005645Z
LAST-MODIFIED:20251007T225538Z
UID:10002689-1860337800-1860354000@cutstonefoods.com
SUMMARY:Full Menu Indoor Dining
DESCRIPTION:Experience the full Cut Stone pizza menu and wine list. \nOur indoor dining room offers us more space to create a larger variety of incredible neapolitan style pizzas as well as a full bar menu.
URL:https://cutstonefoods.com/event/full-menu-indoor-dining-5-2-2/2028-12-13/
LOCATION:Cut Stone Foods\, 5925 6th Avenue A\, Kenosha\, WI\, 53140\, United States
CATEGORIES:Full Menu Indoor Dining
ATTACH;FMTTYPE=image/jpeg:https://cutstonefoods.com/wp-content/uploads/2023/02/20221028_160958.jpg
END:VEVENT
BEGIN:VEVENT
DTSTART;TZID=America/Chicago:20281214T163000
DTEND;TZID=America/Chicago:20281214T210000
DTSTAMP:20260425T100149
CREATED:20250403T005645Z
LAST-MODIFIED:20251007T225538Z
UID:10002690-1860424200-1860440400@cutstonefoods.com
SUMMARY:Full Menu Indoor Dining
DESCRIPTION:Experience the full Cut Stone pizza menu and wine list. \nOur indoor dining room offers us more space to create a larger variety of incredible neapolitan style pizzas as well as a full bar menu.
URL:https://cutstonefoods.com/event/full-menu-indoor-dining-5-2-2/2028-12-14/
LOCATION:Cut Stone Foods\, 5925 6th Avenue A\, Kenosha\, WI\, 53140\, United States
CATEGORIES:Full Menu Indoor Dining
ATTACH;FMTTYPE=image/jpeg:https://cutstonefoods.com/wp-content/uploads/2023/02/20221028_160958.jpg
END:VEVENT
BEGIN:VEVENT
DTSTART;TZID=America/Chicago:20281215T163000
DTEND;TZID=America/Chicago:20281215T210000
DTSTAMP:20260425T100149
CREATED:20250403T005645Z
LAST-MODIFIED:20251007T225538Z
UID:10002691-1860510600-1860526800@cutstonefoods.com
SUMMARY:Full Menu Indoor Dining
DESCRIPTION:Experience the full Cut Stone pizza menu and wine list. \nOur indoor dining room offers us more space to create a larger variety of incredible neapolitan style pizzas as well as a full bar menu.
URL:https://cutstonefoods.com/event/full-menu-indoor-dining-5-2-2/2028-12-15/
LOCATION:Cut Stone Foods\, 5925 6th Avenue A\, Kenosha\, WI\, 53140\, United States
CATEGORIES:Full Menu Indoor Dining
ATTACH;FMTTYPE=image/jpeg:https://cutstonefoods.com/wp-content/uploads/2023/02/20221028_160958.jpg
END:VEVENT
BEGIN:VEVENT
DTSTART;TZID=America/Chicago:20281220T163000
DTEND;TZID=America/Chicago:20281220T210000
DTSTAMP:20260425T100149
CREATED:20250403T005645Z
LAST-MODIFIED:20251007T225538Z
UID:10002692-1860942600-1860958800@cutstonefoods.com
SUMMARY:Full Menu Indoor Dining
DESCRIPTION:Experience the full Cut Stone pizza menu and wine list. \nOur indoor dining room offers us more space to create a larger variety of incredible neapolitan style pizzas as well as a full bar menu.
URL:https://cutstonefoods.com/event/full-menu-indoor-dining-5-2-2/2028-12-20/
LOCATION:Cut Stone Foods\, 5925 6th Avenue A\, Kenosha\, WI\, 53140\, United States
CATEGORIES:Full Menu Indoor Dining
ATTACH;FMTTYPE=image/jpeg:https://cutstonefoods.com/wp-content/uploads/2023/02/20221028_160958.jpg
END:VEVENT
BEGIN:VEVENT
DTSTART;TZID=America/Chicago:20281221T163000
DTEND;TZID=America/Chicago:20281221T210000
DTSTAMP:20260425T100149
CREATED:20250403T005645Z
LAST-MODIFIED:20251007T225538Z
UID:10002693-1861029000-1861045200@cutstonefoods.com
SUMMARY:Full Menu Indoor Dining
DESCRIPTION:Experience the full Cut Stone pizza menu and wine list. \nOur indoor dining room offers us more space to create a larger variety of incredible neapolitan style pizzas as well as a full bar menu.
URL:https://cutstonefoods.com/event/full-menu-indoor-dining-5-2-2/2028-12-21/
LOCATION:Cut Stone Foods\, 5925 6th Avenue A\, Kenosha\, WI\, 53140\, United States
CATEGORIES:Full Menu Indoor Dining
ATTACH;FMTTYPE=image/jpeg:https://cutstonefoods.com/wp-content/uploads/2023/02/20221028_160958.jpg
END:VEVENT
BEGIN:VEVENT
DTSTART;TZID=America/Chicago:20281222T163000
DTEND;TZID=America/Chicago:20281222T210000
DTSTAMP:20260425T100149
CREATED:20250403T005645Z
LAST-MODIFIED:20251007T225538Z
UID:10002694-1861115400-1861131600@cutstonefoods.com
SUMMARY:Full Menu Indoor Dining
DESCRIPTION:Experience the full Cut Stone pizza menu and wine list. \nOur indoor dining room offers us more space to create a larger variety of incredible neapolitan style pizzas as well as a full bar menu.
URL:https://cutstonefoods.com/event/full-menu-indoor-dining-5-2-2/2028-12-22/
LOCATION:Cut Stone Foods\, 5925 6th Avenue A\, Kenosha\, WI\, 53140\, United States
CATEGORIES:Full Menu Indoor Dining
ATTACH;FMTTYPE=image/jpeg:https://cutstonefoods.com/wp-content/uploads/2023/02/20221028_160958.jpg
END:VEVENT
BEGIN:VEVENT
DTSTART;TZID=America/Chicago:20281227T163000
DTEND;TZID=America/Chicago:20281227T210000
DTSTAMP:20260425T100149
CREATED:20250403T005645Z
LAST-MODIFIED:20251007T225538Z
UID:10002695-1861547400-1861563600@cutstonefoods.com
SUMMARY:Full Menu Indoor Dining
DESCRIPTION:Experience the full Cut Stone pizza menu and wine list. \nOur indoor dining room offers us more space to create a larger variety of incredible neapolitan style pizzas as well as a full bar menu.
URL:https://cutstonefoods.com/event/full-menu-indoor-dining-5-2-2/2028-12-27/
LOCATION:Cut Stone Foods\, 5925 6th Avenue A\, Kenosha\, WI\, 53140\, United States
CATEGORIES:Full Menu Indoor Dining
ATTACH;FMTTYPE=image/jpeg:https://cutstonefoods.com/wp-content/uploads/2023/02/20221028_160958.jpg
END:VEVENT
BEGIN:VEVENT
DTSTART;TZID=America/Chicago:20281228T163000
DTEND;TZID=America/Chicago:20281228T210000
DTSTAMP:20260425T100149
CREATED:20250403T005645Z
LAST-MODIFIED:20251007T225538Z
UID:10002696-1861633800-1861650000@cutstonefoods.com
SUMMARY:Full Menu Indoor Dining
DESCRIPTION:Experience the full Cut Stone pizza menu and wine list. \nOur indoor dining room offers us more space to create a larger variety of incredible neapolitan style pizzas as well as a full bar menu.
URL:https://cutstonefoods.com/event/full-menu-indoor-dining-5-2-2/2028-12-28/
LOCATION:Cut Stone Foods\, 5925 6th Avenue A\, Kenosha\, WI\, 53140\, United States
CATEGORIES:Full Menu Indoor Dining
ATTACH;FMTTYPE=image/jpeg:https://cutstonefoods.com/wp-content/uploads/2023/02/20221028_160958.jpg
END:VEVENT
BEGIN:VEVENT
DTSTART;TZID=America/Chicago:20281229T163000
DTEND;TZID=America/Chicago:20281229T210000
DTSTAMP:20260425T100149
CREATED:20250403T005645Z
LAST-MODIFIED:20251007T225538Z
UID:10002697-1861720200-1861736400@cutstonefoods.com
SUMMARY:Full Menu Indoor Dining
DESCRIPTION:Experience the full Cut Stone pizza menu and wine list. \nOur indoor dining room offers us more space to create a larger variety of incredible neapolitan style pizzas as well as a full bar menu.
URL:https://cutstonefoods.com/event/full-menu-indoor-dining-5-2-2/2028-12-29/
LOCATION:Cut Stone Foods\, 5925 6th Avenue A\, Kenosha\, WI\, 53140\, United States
CATEGORIES:Full Menu Indoor Dining
ATTACH;FMTTYPE=image/jpeg:https://cutstonefoods.com/wp-content/uploads/2023/02/20221028_160958.jpg
END:VEVENT
END:VCALENDAR