BEGIN:VCALENDAR
VERSION:2.0
PRODID:-//Cut Stone - ECPv6.15.20//NONSGML v1.0//EN
CALSCALE:GREGORIAN
METHOD:PUBLISH
X-WR-CALNAME:Cut Stone
X-ORIGINAL-URL:https://cutstonefoods.com
X-WR-CALDESC:Events for Cut Stone
REFRESH-INTERVAL;VALUE=DURATION:PT1H
X-Robots-Tag:noindex
X-PUBLISHED-TTL:PT1H
BEGIN:VTIMEZONE
TZID:America/Chicago
BEGIN:DAYLIGHT
TZOFFSETFROM:-0600
TZOFFSETTO:-0500
TZNAME:CDT
DTSTART:20280312T080000
END:DAYLIGHT
BEGIN:STANDARD
TZOFFSETFROM:-0500
TZOFFSETTO:-0600
TZNAME:CST
DTSTART:20281105T070000
END:STANDARD
BEGIN:DAYLIGHT
TZOFFSETFROM:-0600
TZOFFSETTO:-0500
TZNAME:CDT
DTSTART:20290311T080000
END:DAYLIGHT
BEGIN:STANDARD
TZOFFSETFROM:-0500
TZOFFSETTO:-0600
TZNAME:CST
DTSTART:20291104T070000
END:STANDARD
BEGIN:DAYLIGHT
TZOFFSETFROM:-0600
TZOFFSETTO:-0500
TZNAME:CDT
DTSTART:20300310T080000
END:DAYLIGHT
BEGIN:STANDARD
TZOFFSETFROM:-0500
TZOFFSETTO:-0600
TZNAME:CST
DTSTART:20301103T070000
END:STANDARD
END:VTIMEZONE
BEGIN:VEVENT
DTSTART;TZID=America/Chicago:20290201T163000
DTEND;TZID=America/Chicago:20290201T210000
DTSTAMP:20260425T130258
CREATED:20250403T005645Z
LAST-MODIFIED:20251007T225538Z
UID:10002711-1864657800-1864674000@cutstonefoods.com
SUMMARY:Full Menu Indoor Dining
DESCRIPTION:Experience the full Cut Stone pizza menu and wine list. \nOur indoor dining room offers us more space to create a larger variety of incredible neapolitan style pizzas as well as a full bar menu.
URL:https://cutstonefoods.com/event/full-menu-indoor-dining-5-2-2/2029-02-01/
LOCATION:Cut Stone Foods\, 5925 6th Avenue A\, Kenosha\, WI\, 53140\, United States
CATEGORIES:Full Menu Indoor Dining
ATTACH;FMTTYPE=image/jpeg:https://cutstonefoods.com/wp-content/uploads/2023/02/20221028_160958.jpg
END:VEVENT
BEGIN:VEVENT
DTSTART;TZID=America/Chicago:20290202T163000
DTEND;TZID=America/Chicago:20290202T210000
DTSTAMP:20260425T130258
CREATED:20250403T005645Z
LAST-MODIFIED:20251007T225538Z
UID:10002712-1864744200-1864760400@cutstonefoods.com
SUMMARY:Full Menu Indoor Dining
DESCRIPTION:Experience the full Cut Stone pizza menu and wine list. \nOur indoor dining room offers us more space to create a larger variety of incredible neapolitan style pizzas as well as a full bar menu.
URL:https://cutstonefoods.com/event/full-menu-indoor-dining-5-2-2/2029-02-02/
LOCATION:Cut Stone Foods\, 5925 6th Avenue A\, Kenosha\, WI\, 53140\, United States
CATEGORIES:Full Menu Indoor Dining
ATTACH;FMTTYPE=image/jpeg:https://cutstonefoods.com/wp-content/uploads/2023/02/20221028_160958.jpg
END:VEVENT
BEGIN:VEVENT
DTSTART;TZID=America/Chicago:20290207T163000
DTEND;TZID=America/Chicago:20290207T210000
DTSTAMP:20260425T130258
CREATED:20250403T005645Z
LAST-MODIFIED:20251007T225538Z
UID:10002713-1865176200-1865192400@cutstonefoods.com
SUMMARY:Full Menu Indoor Dining
DESCRIPTION:Experience the full Cut Stone pizza menu and wine list. \nOur indoor dining room offers us more space to create a larger variety of incredible neapolitan style pizzas as well as a full bar menu.
URL:https://cutstonefoods.com/event/full-menu-indoor-dining-5-2-2/2029-02-07/
LOCATION:Cut Stone Foods\, 5925 6th Avenue A\, Kenosha\, WI\, 53140\, United States
CATEGORIES:Full Menu Indoor Dining
ATTACH;FMTTYPE=image/jpeg:https://cutstonefoods.com/wp-content/uploads/2023/02/20221028_160958.jpg
END:VEVENT
BEGIN:VEVENT
DTSTART;TZID=America/Chicago:20290208T163000
DTEND;TZID=America/Chicago:20290208T210000
DTSTAMP:20260425T130258
CREATED:20250403T005645Z
LAST-MODIFIED:20251007T225538Z
UID:10002714-1865262600-1865278800@cutstonefoods.com
SUMMARY:Full Menu Indoor Dining
DESCRIPTION:Experience the full Cut Stone pizza menu and wine list. \nOur indoor dining room offers us more space to create a larger variety of incredible neapolitan style pizzas as well as a full bar menu.
URL:https://cutstonefoods.com/event/full-menu-indoor-dining-5-2-2/2029-02-08/
LOCATION:Cut Stone Foods\, 5925 6th Avenue A\, Kenosha\, WI\, 53140\, United States
CATEGORIES:Full Menu Indoor Dining
ATTACH;FMTTYPE=image/jpeg:https://cutstonefoods.com/wp-content/uploads/2023/02/20221028_160958.jpg
END:VEVENT
BEGIN:VEVENT
DTSTART;TZID=America/Chicago:20290209T163000
DTEND;TZID=America/Chicago:20290209T210000
DTSTAMP:20260425T130258
CREATED:20250403T005645Z
LAST-MODIFIED:20251007T225538Z
UID:10002715-1865349000-1865365200@cutstonefoods.com
SUMMARY:Full Menu Indoor Dining
DESCRIPTION:Experience the full Cut Stone pizza menu and wine list. \nOur indoor dining room offers us more space to create a larger variety of incredible neapolitan style pizzas as well as a full bar menu.
URL:https://cutstonefoods.com/event/full-menu-indoor-dining-5-2-2/2029-02-09/
LOCATION:Cut Stone Foods\, 5925 6th Avenue A\, Kenosha\, WI\, 53140\, United States
CATEGORIES:Full Menu Indoor Dining
ATTACH;FMTTYPE=image/jpeg:https://cutstonefoods.com/wp-content/uploads/2023/02/20221028_160958.jpg
END:VEVENT
BEGIN:VEVENT
DTSTART;TZID=America/Chicago:20290214T163000
DTEND;TZID=America/Chicago:20290214T210000
DTSTAMP:20260425T130258
CREATED:20250403T005645Z
LAST-MODIFIED:20251007T225538Z
UID:10002716-1865781000-1865797200@cutstonefoods.com
SUMMARY:Full Menu Indoor Dining
DESCRIPTION:Experience the full Cut Stone pizza menu and wine list. \nOur indoor dining room offers us more space to create a larger variety of incredible neapolitan style pizzas as well as a full bar menu.
URL:https://cutstonefoods.com/event/full-menu-indoor-dining-5-2-2/2029-02-14/
LOCATION:Cut Stone Foods\, 5925 6th Avenue A\, Kenosha\, WI\, 53140\, United States
CATEGORIES:Full Menu Indoor Dining
ATTACH;FMTTYPE=image/jpeg:https://cutstonefoods.com/wp-content/uploads/2023/02/20221028_160958.jpg
END:VEVENT
BEGIN:VEVENT
DTSTART;TZID=America/Chicago:20290215T163000
DTEND;TZID=America/Chicago:20290215T210000
DTSTAMP:20260425T130258
CREATED:20250403T005645Z
LAST-MODIFIED:20251007T225538Z
UID:10002717-1865867400-1865883600@cutstonefoods.com
SUMMARY:Full Menu Indoor Dining
DESCRIPTION:Experience the full Cut Stone pizza menu and wine list. \nOur indoor dining room offers us more space to create a larger variety of incredible neapolitan style pizzas as well as a full bar menu.
URL:https://cutstonefoods.com/event/full-menu-indoor-dining-5-2-2/2029-02-15/
LOCATION:Cut Stone Foods\, 5925 6th Avenue A\, Kenosha\, WI\, 53140\, United States
CATEGORIES:Full Menu Indoor Dining
ATTACH;FMTTYPE=image/jpeg:https://cutstonefoods.com/wp-content/uploads/2023/02/20221028_160958.jpg
END:VEVENT
BEGIN:VEVENT
DTSTART;TZID=America/Chicago:20290216T163000
DTEND;TZID=America/Chicago:20290216T210000
DTSTAMP:20260425T130258
CREATED:20250403T005645Z
LAST-MODIFIED:20251007T225538Z
UID:10002718-1865953800-1865970000@cutstonefoods.com
SUMMARY:Full Menu Indoor Dining
DESCRIPTION:Experience the full Cut Stone pizza menu and wine list. \nOur indoor dining room offers us more space to create a larger variety of incredible neapolitan style pizzas as well as a full bar menu.
URL:https://cutstonefoods.com/event/full-menu-indoor-dining-5-2-2/2029-02-16/
LOCATION:Cut Stone Foods\, 5925 6th Avenue A\, Kenosha\, WI\, 53140\, United States
CATEGORIES:Full Menu Indoor Dining
ATTACH;FMTTYPE=image/jpeg:https://cutstonefoods.com/wp-content/uploads/2023/02/20221028_160958.jpg
END:VEVENT
BEGIN:VEVENT
DTSTART;TZID=America/Chicago:20290221T163000
DTEND;TZID=America/Chicago:20290221T210000
DTSTAMP:20260425T130258
CREATED:20250403T005645Z
LAST-MODIFIED:20251007T225538Z
UID:10002719-1866385800-1866402000@cutstonefoods.com
SUMMARY:Full Menu Indoor Dining
DESCRIPTION:Experience the full Cut Stone pizza menu and wine list. \nOur indoor dining room offers us more space to create a larger variety of incredible neapolitan style pizzas as well as a full bar menu.
URL:https://cutstonefoods.com/event/full-menu-indoor-dining-5-2-2/2029-02-21/
LOCATION:Cut Stone Foods\, 5925 6th Avenue A\, Kenosha\, WI\, 53140\, United States
CATEGORIES:Full Menu Indoor Dining
ATTACH;FMTTYPE=image/jpeg:https://cutstonefoods.com/wp-content/uploads/2023/02/20221028_160958.jpg
END:VEVENT
BEGIN:VEVENT
DTSTART;TZID=America/Chicago:20290222T163000
DTEND;TZID=America/Chicago:20290222T210000
DTSTAMP:20260425T130258
CREATED:20250403T005645Z
LAST-MODIFIED:20251007T225538Z
UID:10002720-1866472200-1866488400@cutstonefoods.com
SUMMARY:Full Menu Indoor Dining
DESCRIPTION:Experience the full Cut Stone pizza menu and wine list. \nOur indoor dining room offers us more space to create a larger variety of incredible neapolitan style pizzas as well as a full bar menu.
URL:https://cutstonefoods.com/event/full-menu-indoor-dining-5-2-2/2029-02-22/
LOCATION:Cut Stone Foods\, 5925 6th Avenue A\, Kenosha\, WI\, 53140\, United States
CATEGORIES:Full Menu Indoor Dining
ATTACH;FMTTYPE=image/jpeg:https://cutstonefoods.com/wp-content/uploads/2023/02/20221028_160958.jpg
END:VEVENT
BEGIN:VEVENT
DTSTART;TZID=America/Chicago:20290223T163000
DTEND;TZID=America/Chicago:20290223T210000
DTSTAMP:20260425T130258
CREATED:20250403T005645Z
LAST-MODIFIED:20251007T225538Z
UID:10002721-1866558600-1866574800@cutstonefoods.com
SUMMARY:Full Menu Indoor Dining
DESCRIPTION:Experience the full Cut Stone pizza menu and wine list. \nOur indoor dining room offers us more space to create a larger variety of incredible neapolitan style pizzas as well as a full bar menu.
URL:https://cutstonefoods.com/event/full-menu-indoor-dining-5-2-2/2029-02-23/
LOCATION:Cut Stone Foods\, 5925 6th Avenue A\, Kenosha\, WI\, 53140\, United States
CATEGORIES:Full Menu Indoor Dining
ATTACH;FMTTYPE=image/jpeg:https://cutstonefoods.com/wp-content/uploads/2023/02/20221028_160958.jpg
END:VEVENT
BEGIN:VEVENT
DTSTART;TZID=America/Chicago:20290228T163000
DTEND;TZID=America/Chicago:20290228T210000
DTSTAMP:20260425T130258
CREATED:20250403T005645Z
LAST-MODIFIED:20251007T225538Z
UID:10002722-1866990600-1867006800@cutstonefoods.com
SUMMARY:Full Menu Indoor Dining
DESCRIPTION:Experience the full Cut Stone pizza menu and wine list. \nOur indoor dining room offers us more space to create a larger variety of incredible neapolitan style pizzas as well as a full bar menu.
URL:https://cutstonefoods.com/event/full-menu-indoor-dining-5-2-2/2029-02-28/
LOCATION:Cut Stone Foods\, 5925 6th Avenue A\, Kenosha\, WI\, 53140\, United States
CATEGORIES:Full Menu Indoor Dining
ATTACH;FMTTYPE=image/jpeg:https://cutstonefoods.com/wp-content/uploads/2023/02/20221028_160958.jpg
END:VEVENT
END:VCALENDAR