BEGIN:VCALENDAR
VERSION:2.0
PRODID:-//Cut Stone - ECPv6.15.20//NONSGML v1.0//EN
CALSCALE:GREGORIAN
METHOD:PUBLISH
X-WR-CALNAME:Cut Stone
X-ORIGINAL-URL:https://cutstonefoods.com
X-WR-CALDESC:Events for Cut Stone
REFRESH-INTERVAL;VALUE=DURATION:PT1H
X-Robots-Tag:noindex
X-PUBLISHED-TTL:PT1H
BEGIN:VTIMEZONE
TZID:America/Chicago
BEGIN:DAYLIGHT
TZOFFSETFROM:-0600
TZOFFSETTO:-0500
TZNAME:CDT
DTSTART:20240310T080000
END:DAYLIGHT
BEGIN:STANDARD
TZOFFSETFROM:-0500
TZOFFSETTO:-0600
TZNAME:CST
DTSTART:20241103T070000
END:STANDARD
BEGIN:DAYLIGHT
TZOFFSETFROM:-0600
TZOFFSETTO:-0500
TZNAME:CDT
DTSTART:20250309T080000
END:DAYLIGHT
BEGIN:STANDARD
TZOFFSETFROM:-0500
TZOFFSETTO:-0600
TZNAME:CST
DTSTART:20251102T070000
END:STANDARD
BEGIN:DAYLIGHT
TZOFFSETFROM:-0600
TZOFFSETTO:-0500
TZNAME:CDT
DTSTART:20260308T080000
END:DAYLIGHT
BEGIN:STANDARD
TZOFFSETFROM:-0500
TZOFFSETTO:-0600
TZNAME:CST
DTSTART:20261101T070000
END:STANDARD
END:VTIMEZONE
BEGIN:VEVENT
DTSTART;TZID=America/Chicago:20251101T110000
DTEND;TZID=America/Chicago:20251101T200000
DTSTAMP:20260423T205607
CREATED:20251007T232503Z
LAST-MODIFIED:20251007T232503Z
UID:10003441-1761994800-1762027200@cutstonefoods.com
SUMMARY:Rock the Block on 6th Avenue
DESCRIPTION:The weather is getting chillier\, but we’ve got one last party left this year. \nWe’re joining our friends at Tavern on 6th\, Rustic Road Brewing\, Station on 6th\, and The Galley Food Truck for a day and night of live music\, great food\, and delicious beverages. \nDress appropriately for the weather and send off the season of outdoor fun with a bang!
URL:https://cutstonefoods.com/event/rock-the-block-on-6th-avenue/
LOCATION:Tavern on 6th\, 5712 6th Ave\,\, Kenosha\, WI\, 53140\, United States
CATEGORIES:Food Truck Service
END:VEVENT
END:VCALENDAR