BEGIN:VCALENDAR
VERSION:2.0
PRODID:-//Cut Stone - ECPv6.15.20//NONSGML v1.0//EN
CALSCALE:GREGORIAN
METHOD:PUBLISH
X-WR-CALNAME:Cut Stone
X-ORIGINAL-URL:https://cutstonefoods.com
X-WR-CALDESC:Events for Cut Stone
REFRESH-INTERVAL;VALUE=DURATION:PT1H
X-Robots-Tag:noindex
X-PUBLISHED-TTL:PT1H
BEGIN:VTIMEZONE
TZID:America/Chicago
BEGIN:DAYLIGHT
TZOFFSETFROM:-0600
TZOFFSETTO:-0500
TZNAME:CDT
DTSTART:20230312T080000
END:DAYLIGHT
BEGIN:STANDARD
TZOFFSETFROM:-0500
TZOFFSETTO:-0600
TZNAME:CST
DTSTART:20231105T070000
END:STANDARD
BEGIN:DAYLIGHT
TZOFFSETFROM:-0600
TZOFFSETTO:-0500
TZNAME:CDT
DTSTART:20240310T080000
END:DAYLIGHT
BEGIN:STANDARD
TZOFFSETFROM:-0500
TZOFFSETTO:-0600
TZNAME:CST
DTSTART:20241103T070000
END:STANDARD
BEGIN:DAYLIGHT
TZOFFSETFROM:-0600
TZOFFSETTO:-0500
TZNAME:CDT
DTSTART:20250309T080000
END:DAYLIGHT
BEGIN:STANDARD
TZOFFSETFROM:-0500
TZOFFSETTO:-0600
TZNAME:CST
DTSTART:20251102T070000
END:STANDARD
BEGIN:DAYLIGHT
TZOFFSETFROM:-0600
TZOFFSETTO:-0500
TZNAME:CDT
DTSTART:20260308T080000
END:DAYLIGHT
BEGIN:STANDARD
TZOFFSETFROM:-0500
TZOFFSETTO:-0600
TZNAME:CST
DTSTART:20261101T070000
END:STANDARD
END:VTIMEZONE
BEGIN:VEVENT
DTSTART;TZID=America/Chicago:20250722T180000
DTEND;TZID=America/Chicago:20250722T210000
DTSTAMP:20260424T032325
CREATED:20250415T202726Z
LAST-MODIFIED:20250415T202726Z
UID:10003283-1753207200-1753218000@cutstonefoods.com
SUMMARY:Salute to First Responders Night at The Velodrome
DESCRIPTION:Join us as we salute first responders from the Kenosha area and beyond with a night of fast bikes and hot pizzas.\nCut Stone will be serving on “The Hill” with a 10% discount for all police\, fire\, and EMS personel.\nDon’t miss the tricycle races! Area Police Departments\, Fire Department\, and Kenosha County Sheriff will be going head to head on adult tricycles to take home the coveted trike trophy!
URL:https://cutstonefoods.com/event/salute-to-first-responders-night-at-the-velodrome-2/
LOCATION:Washington Park Velodrome\, Washington Park\, Washington Rd\, Kenosha\, WI\, 53140\, United States
CATEGORIES:Food Truck Service
ATTACH;FMTTYPE=image/jpeg:https://cutstonefoods.com/wp-content/uploads/2024/06/358059075_592144376415573_711096118707065161_n.jpg
END:VEVENT
BEGIN:VEVENT
DTSTART;TZID=America/Chicago:20240716T180000
DTEND;TZID=America/Chicago:20240716T210000
DTSTAMP:20260424T032325
CREATED:20240617T210616Z
LAST-MODIFIED:20240617T210617Z
UID:10002011-1721152800-1721163600@cutstonefoods.com
SUMMARY:Salute to First Responders Night at The Velodrome
DESCRIPTION:Join us as we salute first responders from the Kenosha area and beyond with a night of fast bikes and hot pizzas.\nCut Stone will be serving on “The Hill” with a 10% discount for all police\, fire\, and EMS personel.\nDon’t miss the tricycle races! Area Police Departments\, Fire Department\, and Kenosha County Sheriff will be going head to head on adult tricycles to take home the coveted trike trophy!
URL:https://cutstonefoods.com/event/salute-to-first-responders-night-at-the-velodrome/
LOCATION:Washington Park Velodrome\, Washington Park\, Washington Rd\, Kenosha\, WI\, 53140\, United States
CATEGORIES:Food Truck Service
ATTACH;FMTTYPE=image/jpeg:https://cutstonefoods.com/wp-content/uploads/2024/06/358059075_592144376415573_711096118707065161_n.jpg
END:VEVENT
END:VCALENDAR